BEGIN:VCALENDAR
VERSION:2.0
PRODID:-//The Spinney at Van Dyke - ECPv6.15.20//NONSGML v1.0//EN
CALSCALE:GREGORIAN
METHOD:PUBLISH
X-WR-CALNAME:The Spinney at Van Dyke
X-ORIGINAL-URL:https://www.thespinneyatvandyke.com
X-WR-CALDESC:Events for The Spinney at Van Dyke
REFRESH-INTERVAL;VALUE=DURATION:PT1H
X-Robots-Tag:noindex
X-PUBLISHED-TTL:PT1H
BEGIN:VTIMEZONE
TZID:UTC
BEGIN:STANDARD
TZOFFSETFROM:+0000
TZOFFSETTO:+0000
TZNAME:UTC
DTSTART:20220101T000000
END:STANDARD
END:VTIMEZONE
BEGIN:VEVENT
DTSTART;TZID=UTC:20230918T090000
DTEND;TZID=UTC:20230918T100000
DTSTAMP:20260425T083556
CREATED:20230905T212431Z
LAST-MODIFIED:20230905T212431Z
UID:10001813-1695027600-1695031200@www.thespinneyatvandyke.com
SUMMARY:Healthy Bones for Life
DESCRIPTION:Available Rentals
URL:https://www.thespinneyatvandyke.com/event/healthy-bones-for-life/2023-09-18/
CATEGORIES:Wellness
END:VEVENT
BEGIN:VEVENT
DTSTART;TZID=UTC:20230914T090000
DTEND;TZID=UTC:20230914T100000
DTSTAMP:20260425T083556
CREATED:20230905T212431Z
LAST-MODIFIED:20230905T212431Z
UID:10001812-1694682000-1694685600@www.thespinneyatvandyke.com
SUMMARY:Healthy Bones for Life
DESCRIPTION:Available Rentals
URL:https://www.thespinneyatvandyke.com/event/healthy-bones-for-life/2023-09-14/
CATEGORIES:Wellness
END:VEVENT
BEGIN:VEVENT
DTSTART;TZID=UTC:20230911T090000
DTEND;TZID=UTC:20230911T100000
DTSTAMP:20260425T083556
CREATED:20230905T212431Z
LAST-MODIFIED:20230905T212431Z
UID:10001811-1694422800-1694426400@www.thespinneyatvandyke.com
SUMMARY:Healthy Bones for Life
DESCRIPTION:Available Rentals
URL:https://www.thespinneyatvandyke.com/event/healthy-bones-for-life/2023-09-11/
CATEGORIES:Wellness
END:VEVENT
BEGIN:VEVENT
DTSTART;TZID=UTC:20230907T090000
DTEND;TZID=UTC:20230907T100000
DTSTAMP:20260425T083556
CREATED:20230905T212431Z
LAST-MODIFIED:20230905T212431Z
UID:10001810-1694077200-1694080800@www.thespinneyatvandyke.com
SUMMARY:Healthy Bones for Life
DESCRIPTION:Available Rentals
URL:https://www.thespinneyatvandyke.com/event/healthy-bones-for-life/2023-09-07/
CATEGORIES:Wellness
END:VEVENT
END:VCALENDAR