BEGIN:VCALENDAR
VERSION:2.0
PRODID:-//The Spinney at Van Dyke - ECPv6.15.20//NONSGML v1.0//EN
CALSCALE:GREGORIAN
METHOD:PUBLISH
X-WR-CALNAME:The Spinney at Van Dyke
X-ORIGINAL-URL:https://www.thespinneyatvandyke.com
X-WR-CALDESC:Events for The Spinney at Van Dyke
REFRESH-INTERVAL;VALUE=DURATION:PT1H
X-Robots-Tag:noindex
X-PUBLISHED-TTL:PT1H
BEGIN:VTIMEZONE
TZID:America/New_York
BEGIN:DAYLIGHT
TZOFFSETFROM:-0500
TZOFFSETTO:-0400
TZNAME:EDT
DTSTART:20250309T070000
END:DAYLIGHT
BEGIN:STANDARD
TZOFFSETFROM:-0400
TZOFFSETTO:-0500
TZNAME:EST
DTSTART:20251102T060000
END:STANDARD
BEGIN:DAYLIGHT
TZOFFSETFROM:-0500
TZOFFSETTO:-0400
TZNAME:EDT
DTSTART:20260308T070000
END:DAYLIGHT
BEGIN:STANDARD
TZOFFSETFROM:-0400
TZOFFSETTO:-0500
TZNAME:EST
DTSTART:20261101T060000
END:STANDARD
BEGIN:DAYLIGHT
TZOFFSETFROM:-0500
TZOFFSETTO:-0400
TZNAME:EDT
DTSTART:20270314T070000
END:DAYLIGHT
BEGIN:STANDARD
TZOFFSETFROM:-0400
TZOFFSETTO:-0500
TZNAME:EST
DTSTART:20271107T060000
END:STANDARD
END:VTIMEZONE
BEGIN:VEVENT
DTSTART;TZID=America/New_York:20260430T083000
DTEND;TZID=America/New_York:20260430T093000
DTSTAMP:20260424T072536
CREATED:20251028T182158Z
LAST-MODIFIED:20260422T195255Z
UID:10009566-1777537800-1777541400@www.thespinneyatvandyke.com
SUMMARY:Spinney Strength
DESCRIPTION:
URL:https://www.thespinneyatvandyke.com/event/spinney-strength-3-2/2026-04-30/
LOCATION:The Spinney at Van Dyke\, 6 Parker Mathusa Place\, Delmar\, NY\, 12054
CATEGORIES:Wellness
END:VEVENT
BEGIN:VEVENT
DTSTART;TZID=America/New_York:20260514T083000
DTEND;TZID=America/New_York:20260514T093000
DTSTAMP:20260424T072536
CREATED:20251028T182158Z
LAST-MODIFIED:20260422T195255Z
UID:10009568-1778747400-1778751000@www.thespinneyatvandyke.com
SUMMARY:Spinney Strength
DESCRIPTION:
URL:https://www.thespinneyatvandyke.com/event/spinney-strength-3-2/2026-05-14/
LOCATION:The Spinney at Van Dyke\, 6 Parker Mathusa Place\, Delmar\, NY\, 12054
CATEGORIES:Wellness
END:VEVENT
BEGIN:VEVENT
DTSTART;TZID=America/New_York:20260521T083000
DTEND;TZID=America/New_York:20260521T093000
DTSTAMP:20260424T072536
CREATED:20251028T182158Z
LAST-MODIFIED:20260422T195255Z
UID:10009569-1779352200-1779355800@www.thespinneyatvandyke.com
SUMMARY:Spinney Strength
DESCRIPTION:
URL:https://www.thespinneyatvandyke.com/event/spinney-strength-3-2/2026-05-21/
LOCATION:The Spinney at Van Dyke\, 6 Parker Mathusa Place\, Delmar\, NY\, 12054
CATEGORIES:Wellness
END:VEVENT
BEGIN:VEVENT
DTSTART;TZID=America/New_York:20260528T083000
DTEND;TZID=America/New_York:20260528T093000
DTSTAMP:20260424T072536
CREATED:20251028T182158Z
LAST-MODIFIED:20260422T195255Z
UID:10009570-1779957000-1779960600@www.thespinneyatvandyke.com
SUMMARY:Spinney Strength
DESCRIPTION:
URL:https://www.thespinneyatvandyke.com/event/spinney-strength-3-2/2026-05-28/
LOCATION:The Spinney at Van Dyke\, 6 Parker Mathusa Place\, Delmar\, NY\, 12054
CATEGORIES:Wellness
END:VEVENT
BEGIN:VEVENT
DTSTART;TZID=America/New_York:20260604T083000
DTEND;TZID=America/New_York:20260604T093000
DTSTAMP:20260424T072536
CREATED:20251028T182158Z
LAST-MODIFIED:20260422T195255Z
UID:10009571-1780561800-1780565400@www.thespinneyatvandyke.com
SUMMARY:Spinney Strength
DESCRIPTION:
URL:https://www.thespinneyatvandyke.com/event/spinney-strength-3-2/2026-06-04/
LOCATION:The Spinney at Van Dyke\, 6 Parker Mathusa Place\, Delmar\, NY\, 12054
CATEGORIES:Wellness
END:VEVENT
BEGIN:VEVENT
DTSTART;TZID=America/New_York:20260611T083000
DTEND;TZID=America/New_York:20260611T093000
DTSTAMP:20260424T072536
CREATED:20251028T182158Z
LAST-MODIFIED:20260422T195255Z
UID:10009572-1781166600-1781170200@www.thespinneyatvandyke.com
SUMMARY:Spinney Strength
DESCRIPTION:
URL:https://www.thespinneyatvandyke.com/event/spinney-strength-3-2/2026-06-11/
LOCATION:The Spinney at Van Dyke\, 6 Parker Mathusa Place\, Delmar\, NY\, 12054
CATEGORIES:Wellness
END:VEVENT
BEGIN:VEVENT
DTSTART;TZID=America/New_York:20260618T083000
DTEND;TZID=America/New_York:20260618T093000
DTSTAMP:20260424T072536
CREATED:20251028T182158Z
LAST-MODIFIED:20260422T195255Z
UID:10009573-1781771400-1781775000@www.thespinneyatvandyke.com
SUMMARY:Spinney Strength
DESCRIPTION:
URL:https://www.thespinneyatvandyke.com/event/spinney-strength-3-2/2026-06-18/
LOCATION:The Spinney at Van Dyke\, 6 Parker Mathusa Place\, Delmar\, NY\, 12054
CATEGORIES:Wellness
END:VEVENT
BEGIN:VEVENT
DTSTART;TZID=America/New_York:20260625T083000
DTEND;TZID=America/New_York:20260625T093000
DTSTAMP:20260424T072536
CREATED:20251028T182158Z
LAST-MODIFIED:20260422T195255Z
UID:10009574-1782376200-1782379800@www.thespinneyatvandyke.com
SUMMARY:Spinney Strength
DESCRIPTION:
URL:https://www.thespinneyatvandyke.com/event/spinney-strength-3-2/2026-06-25/
LOCATION:The Spinney at Van Dyke\, 6 Parker Mathusa Place\, Delmar\, NY\, 12054
CATEGORIES:Wellness
END:VEVENT
BEGIN:VEVENT
DTSTART;TZID=America/New_York:20260702T083000
DTEND;TZID=America/New_York:20260702T093000
DTSTAMP:20260424T072536
CREATED:20251028T182158Z
LAST-MODIFIED:20260422T195255Z
UID:10009575-1782981000-1782984600@www.thespinneyatvandyke.com
SUMMARY:Spinney Strength
DESCRIPTION:
URL:https://www.thespinneyatvandyke.com/event/spinney-strength-3-2/2026-07-02/
LOCATION:The Spinney at Van Dyke\, 6 Parker Mathusa Place\, Delmar\, NY\, 12054
CATEGORIES:Wellness
END:VEVENT
BEGIN:VEVENT
DTSTART;TZID=America/New_York:20260709T083000
DTEND;TZID=America/New_York:20260709T093000
DTSTAMP:20260424T072536
CREATED:20251028T182158Z
LAST-MODIFIED:20260422T195255Z
UID:10009576-1783585800-1783589400@www.thespinneyatvandyke.com
SUMMARY:Spinney Strength
DESCRIPTION:
URL:https://www.thespinneyatvandyke.com/event/spinney-strength-3-2/2026-07-09/
LOCATION:The Spinney at Van Dyke\, 6 Parker Mathusa Place\, Delmar\, NY\, 12054
CATEGORIES:Wellness
END:VEVENT
BEGIN:VEVENT
DTSTART;TZID=America/New_York:20260716T083000
DTEND;TZID=America/New_York:20260716T093000
DTSTAMP:20260424T072536
CREATED:20251028T182158Z
LAST-MODIFIED:20260422T195255Z
UID:10009577-1784190600-1784194200@www.thespinneyatvandyke.com
SUMMARY:Spinney Strength
DESCRIPTION:
URL:https://www.thespinneyatvandyke.com/event/spinney-strength-3-2/2026-07-16/
LOCATION:The Spinney at Van Dyke\, 6 Parker Mathusa Place\, Delmar\, NY\, 12054
CATEGORIES:Wellness
END:VEVENT
BEGIN:VEVENT
DTSTART;TZID=America/New_York:20260723T083000
DTEND;TZID=America/New_York:20260723T093000
DTSTAMP:20260424T072536
CREATED:20251028T182158Z
LAST-MODIFIED:20260422T195255Z
UID:10009578-1784795400-1784799000@www.thespinneyatvandyke.com
SUMMARY:Spinney Strength
DESCRIPTION:
URL:https://www.thespinneyatvandyke.com/event/spinney-strength-3-2/2026-07-23/
LOCATION:The Spinney at Van Dyke\, 6 Parker Mathusa Place\, Delmar\, NY\, 12054
CATEGORIES:Wellness
END:VEVENT
BEGIN:VEVENT
DTSTART;TZID=America/New_York:20260730T083000
DTEND;TZID=America/New_York:20260730T093000
DTSTAMP:20260424T072536
CREATED:20251028T182158Z
LAST-MODIFIED:20260422T195255Z
UID:10009579-1785400200-1785403800@www.thespinneyatvandyke.com
SUMMARY:Spinney Strength
DESCRIPTION:
URL:https://www.thespinneyatvandyke.com/event/spinney-strength-3-2/2026-07-30/
LOCATION:The Spinney at Van Dyke\, 6 Parker Mathusa Place\, Delmar\, NY\, 12054
CATEGORIES:Wellness
END:VEVENT
BEGIN:VEVENT
DTSTART;TZID=America/New_York:20260806T083000
DTEND;TZID=America/New_York:20260806T093000
DTSTAMP:20260424T072536
CREATED:20251028T182158Z
LAST-MODIFIED:20260422T195255Z
UID:10009580-1786005000-1786008600@www.thespinneyatvandyke.com
SUMMARY:Spinney Strength
DESCRIPTION:
URL:https://www.thespinneyatvandyke.com/event/spinney-strength-3-2/2026-08-06/
LOCATION:The Spinney at Van Dyke\, 6 Parker Mathusa Place\, Delmar\, NY\, 12054
CATEGORIES:Wellness
END:VEVENT
BEGIN:VEVENT
DTSTART;TZID=America/New_York:20260813T083000
DTEND;TZID=America/New_York:20260813T093000
DTSTAMP:20260424T072536
CREATED:20251028T182158Z
LAST-MODIFIED:20260422T195255Z
UID:10009581-1786609800-1786613400@www.thespinneyatvandyke.com
SUMMARY:Spinney Strength
DESCRIPTION:
URL:https://www.thespinneyatvandyke.com/event/spinney-strength-3-2/2026-08-13/
LOCATION:The Spinney at Van Dyke\, 6 Parker Mathusa Place\, Delmar\, NY\, 12054
CATEGORIES:Wellness
END:VEVENT
BEGIN:VEVENT
DTSTART;TZID=America/New_York:20260820T083000
DTEND;TZID=America/New_York:20260820T093000
DTSTAMP:20260424T072536
CREATED:20251028T182158Z
LAST-MODIFIED:20260422T195255Z
UID:10009582-1787214600-1787218200@www.thespinneyatvandyke.com
SUMMARY:Spinney Strength
DESCRIPTION:
URL:https://www.thespinneyatvandyke.com/event/spinney-strength-3-2/2026-08-20/
LOCATION:The Spinney at Van Dyke\, 6 Parker Mathusa Place\, Delmar\, NY\, 12054
CATEGORIES:Wellness
END:VEVENT
BEGIN:VEVENT
DTSTART;TZID=America/New_York:20260827T083000
DTEND;TZID=America/New_York:20260827T093000
DTSTAMP:20260424T072536
CREATED:20251028T182158Z
LAST-MODIFIED:20260422T195255Z
UID:10009583-1787819400-1787823000@www.thespinneyatvandyke.com
SUMMARY:Spinney Strength
DESCRIPTION:
URL:https://www.thespinneyatvandyke.com/event/spinney-strength-3-2/2026-08-27/
LOCATION:The Spinney at Van Dyke\, 6 Parker Mathusa Place\, Delmar\, NY\, 12054
CATEGORIES:Wellness
END:VEVENT
BEGIN:VEVENT
DTSTART;TZID=America/New_York:20260903T083000
DTEND;TZID=America/New_York:20260903T093000
DTSTAMP:20260424T072536
CREATED:20251028T182158Z
LAST-MODIFIED:20260422T195255Z
UID:10009584-1788424200-1788427800@www.thespinneyatvandyke.com
SUMMARY:Spinney Strength
DESCRIPTION:
URL:https://www.thespinneyatvandyke.com/event/spinney-strength-3-2/2026-09-03/
LOCATION:The Spinney at Van Dyke\, 6 Parker Mathusa Place\, Delmar\, NY\, 12054
CATEGORIES:Wellness
END:VEVENT
BEGIN:VEVENT
DTSTART;TZID=America/New_York:20260910T083000
DTEND;TZID=America/New_York:20260910T093000
DTSTAMP:20260424T072536
CREATED:20251028T182158Z
LAST-MODIFIED:20260422T195255Z
UID:10009585-1789029000-1789032600@www.thespinneyatvandyke.com
SUMMARY:Spinney Strength
DESCRIPTION:
URL:https://www.thespinneyatvandyke.com/event/spinney-strength-3-2/2026-09-10/
LOCATION:The Spinney at Van Dyke\, 6 Parker Mathusa Place\, Delmar\, NY\, 12054
CATEGORIES:Wellness
END:VEVENT
BEGIN:VEVENT
DTSTART;TZID=America/New_York:20260917T083000
DTEND;TZID=America/New_York:20260917T093000
DTSTAMP:20260424T072536
CREATED:20251028T182158Z
LAST-MODIFIED:20260422T195255Z
UID:10009586-1789633800-1789637400@www.thespinneyatvandyke.com
SUMMARY:Spinney Strength
DESCRIPTION:
URL:https://www.thespinneyatvandyke.com/event/spinney-strength-3-2/2026-09-17/
LOCATION:The Spinney at Van Dyke\, 6 Parker Mathusa Place\, Delmar\, NY\, 12054
CATEGORIES:Wellness
END:VEVENT
BEGIN:VEVENT
DTSTART;TZID=America/New_York:20260924T083000
DTEND;TZID=America/New_York:20260924T093000
DTSTAMP:20260424T072536
CREATED:20251028T182158Z
LAST-MODIFIED:20260422T195255Z
UID:10009587-1790238600-1790242200@www.thespinneyatvandyke.com
SUMMARY:Spinney Strength
DESCRIPTION:
URL:https://www.thespinneyatvandyke.com/event/spinney-strength-3-2/2026-09-24/
LOCATION:The Spinney at Van Dyke\, 6 Parker Mathusa Place\, Delmar\, NY\, 12054
CATEGORIES:Wellness
END:VEVENT
BEGIN:VEVENT
DTSTART;TZID=America/New_York:20261001T083000
DTEND;TZID=America/New_York:20261001T093000
DTSTAMP:20260424T072536
CREATED:20251028T182158Z
LAST-MODIFIED:20260422T195255Z
UID:10009588-1790843400-1790847000@www.thespinneyatvandyke.com
SUMMARY:Spinney Strength
DESCRIPTION:
URL:https://www.thespinneyatvandyke.com/event/spinney-strength-3-2/2026-10-01/
LOCATION:The Spinney at Van Dyke\, 6 Parker Mathusa Place\, Delmar\, NY\, 12054
CATEGORIES:Wellness
END:VEVENT
BEGIN:VEVENT
DTSTART;TZID=America/New_York:20261008T083000
DTEND;TZID=America/New_York:20261008T093000
DTSTAMP:20260424T072536
CREATED:20251028T182158Z
LAST-MODIFIED:20260422T195255Z
UID:10009589-1791448200-1791451800@www.thespinneyatvandyke.com
SUMMARY:Spinney Strength
DESCRIPTION:
URL:https://www.thespinneyatvandyke.com/event/spinney-strength-3-2/2026-10-08/
LOCATION:The Spinney at Van Dyke\, 6 Parker Mathusa Place\, Delmar\, NY\, 12054
CATEGORIES:Wellness
END:VEVENT
BEGIN:VEVENT
DTSTART;TZID=America/New_York:20261015T083000
DTEND;TZID=America/New_York:20261015T093000
DTSTAMP:20260424T072536
CREATED:20251028T182158Z
LAST-MODIFIED:20260422T195255Z
UID:10009590-1792053000-1792056600@www.thespinneyatvandyke.com
SUMMARY:Spinney Strength
DESCRIPTION:
URL:https://www.thespinneyatvandyke.com/event/spinney-strength-3-2/2026-10-15/
LOCATION:The Spinney at Van Dyke\, 6 Parker Mathusa Place\, Delmar\, NY\, 12054
CATEGORIES:Wellness
END:VEVENT
BEGIN:VEVENT
DTSTART;TZID=America/New_York:20261022T083000
DTEND;TZID=America/New_York:20261022T093000
DTSTAMP:20260424T072536
CREATED:20251028T182158Z
LAST-MODIFIED:20260422T195255Z
UID:10009591-1792657800-1792661400@www.thespinneyatvandyke.com
SUMMARY:Spinney Strength
DESCRIPTION:
URL:https://www.thespinneyatvandyke.com/event/spinney-strength-3-2/2026-10-22/
LOCATION:The Spinney at Van Dyke\, 6 Parker Mathusa Place\, Delmar\, NY\, 12054
CATEGORIES:Wellness
END:VEVENT
BEGIN:VEVENT
DTSTART;TZID=America/New_York:20261029T083000
DTEND;TZID=America/New_York:20261029T093000
DTSTAMP:20260424T072536
CREATED:20251028T182158Z
LAST-MODIFIED:20260422T195255Z
UID:10009592-1793262600-1793266200@www.thespinneyatvandyke.com
SUMMARY:Spinney Strength
DESCRIPTION:
URL:https://www.thespinneyatvandyke.com/event/spinney-strength-3-2/2026-10-29/
LOCATION:The Spinney at Van Dyke\, 6 Parker Mathusa Place\, Delmar\, NY\, 12054
CATEGORIES:Wellness
END:VEVENT
BEGIN:VEVENT
DTSTART;TZID=America/New_York:20261105T083000
DTEND;TZID=America/New_York:20261105T093000
DTSTAMP:20260424T072536
CREATED:20251028T182158Z
LAST-MODIFIED:20260422T195255Z
UID:10009593-1793867400-1793871000@www.thespinneyatvandyke.com
SUMMARY:Spinney Strength
DESCRIPTION:
URL:https://www.thespinneyatvandyke.com/event/spinney-strength-3-2/2026-11-05/
LOCATION:The Spinney at Van Dyke\, 6 Parker Mathusa Place\, Delmar\, NY\, 12054
CATEGORIES:Wellness
END:VEVENT
BEGIN:VEVENT
DTSTART;TZID=America/New_York:20261112T083000
DTEND;TZID=America/New_York:20261112T093000
DTSTAMP:20260424T072536
CREATED:20251028T182158Z
LAST-MODIFIED:20260422T195255Z
UID:10009594-1794472200-1794475800@www.thespinneyatvandyke.com
SUMMARY:Spinney Strength
DESCRIPTION:
URL:https://www.thespinneyatvandyke.com/event/spinney-strength-3-2/2026-11-12/
LOCATION:The Spinney at Van Dyke\, 6 Parker Mathusa Place\, Delmar\, NY\, 12054
CATEGORIES:Wellness
END:VEVENT
BEGIN:VEVENT
DTSTART;TZID=America/New_York:20261119T083000
DTEND;TZID=America/New_York:20261119T093000
DTSTAMP:20260424T072536
CREATED:20251028T182158Z
LAST-MODIFIED:20260422T195255Z
UID:10009595-1795077000-1795080600@www.thespinneyatvandyke.com
SUMMARY:Spinney Strength
DESCRIPTION:
URL:https://www.thespinneyatvandyke.com/event/spinney-strength-3-2/2026-11-19/
LOCATION:The Spinney at Van Dyke\, 6 Parker Mathusa Place\, Delmar\, NY\, 12054
CATEGORIES:Wellness
END:VEVENT
BEGIN:VEVENT
DTSTART;TZID=America/New_York:20261126T083000
DTEND;TZID=America/New_York:20261126T093000
DTSTAMP:20260424T072536
CREATED:20251028T182158Z
LAST-MODIFIED:20260422T195255Z
UID:10009596-1795681800-1795685400@www.thespinneyatvandyke.com
SUMMARY:Spinney Strength
DESCRIPTION:
URL:https://www.thespinneyatvandyke.com/event/spinney-strength-3-2/2026-11-26/
LOCATION:The Spinney at Van Dyke\, 6 Parker Mathusa Place\, Delmar\, NY\, 12054
CATEGORIES:Wellness
END:VEVENT
END:VCALENDAR