BEGIN:VCALENDAR
VERSION:2.0
PRODID:-//The Spinney at Van Dyke - ECPv6.15.20//NONSGML v1.0//EN
CALSCALE:GREGORIAN
METHOD:PUBLISH
X-ORIGINAL-URL:https://www.thespinneyatvandyke.com
X-WR-CALDESC:Events for The Spinney at Van Dyke
REFRESH-INTERVAL;VALUE=DURATION:PT1H
X-Robots-Tag:noindex
X-PUBLISHED-TTL:PT1H
BEGIN:VTIMEZONE
TZID:America/New_York
BEGIN:DAYLIGHT
TZOFFSETFROM:-0500
TZOFFSETTO:-0400
TZNAME:EDT
DTSTART:20250309T070000
END:DAYLIGHT
BEGIN:STANDARD
TZOFFSETFROM:-0400
TZOFFSETTO:-0500
TZNAME:EST
DTSTART:20251102T060000
END:STANDARD
BEGIN:DAYLIGHT
TZOFFSETFROM:-0500
TZOFFSETTO:-0400
TZNAME:EDT
DTSTART:20260308T070000
END:DAYLIGHT
BEGIN:STANDARD
TZOFFSETFROM:-0400
TZOFFSETTO:-0500
TZNAME:EST
DTSTART:20261101T060000
END:STANDARD
BEGIN:DAYLIGHT
TZOFFSETFROM:-0500
TZOFFSETTO:-0400
TZNAME:EDT
DTSTART:20270314T070000
END:DAYLIGHT
BEGIN:STANDARD
TZOFFSETFROM:-0400
TZOFFSETTO:-0500
TZNAME:EST
DTSTART:20271107T060000
END:STANDARD
END:VTIMEZONE
BEGIN:VTIMEZONE
TZID:UTC
BEGIN:STANDARD
TZOFFSETFROM:+0000
TZOFFSETTO:+0000
TZNAME:UTC
DTSTART:20250101T000000
END:STANDARD
END:VTIMEZONE
BEGIN:VEVENT
DTSTART;TZID=America/New_York:20260116T090000
DTEND;TZID=America/New_York:20260116T093000
DTSTAMP:20260423T190657
CREATED:20251125T144048Z
LAST-MODIFIED:20260330T172901Z
UID:10011914-1768554000-1768555800@www.thespinneyatvandyke.com
SUMMARY:Spring Stroll
DESCRIPTION:
URL:https://www.thespinneyatvandyke.com/event/winter-walk-2/2026-01-16/
LOCATION:The Spinney at Van Dyke\, 6 Parker Mathusa Place\, Delmar\, NY\, 12054
CATEGORIES:Environmental
END:VEVENT
BEGIN:VEVENT
DTSTART;TZID=America/New_York:20260116T160000
DTEND;TZID=America/New_York:20260116T180000
DTSTAMP:20260423T190657
CREATED:20250522T164816Z
LAST-MODIFIED:20250625T155348Z
UID:10008571-1768579200-1768586400@www.thespinneyatvandyke.com
SUMMARY:Resident led Happy Hour
DESCRIPTION:
URL:https://www.thespinneyatvandyke.com/event/resident-led-happy-hour-5/2026-01-16/
LOCATION:The Spinney at Van Dyke\, 6 Parker Mathusa Place\, Delmar\, NY\, 12054
CATEGORIES:Social
END:VEVENT
BEGIN:VEVENT
DTSTART;TZID=America/New_York:20260118T130000
DTEND;TZID=America/New_York:20260118T160000
DTSTAMP:20260423T190657
CREATED:20251229T171826Z
LAST-MODIFIED:20251229T171826Z
UID:10012880-1768741200-1768752000@www.thespinneyatvandyke.com
SUMMARY:Jim Jam
DESCRIPTION:
URL:https://www.thespinneyatvandyke.com/event/jim-jam-3/2026-01-18/
LOCATION:The Spinney at Van Dyke\, 6 Parker Mathusa Place\, Delmar\, NY\, 12054
CATEGORIES:Social
END:VEVENT
BEGIN:VEVENT
DTSTART;VALUE=DATE:20260119
DTEND;VALUE=DATE:20260120
DTSTAMP:20260423T190657
CREATED:20251229T171905Z
LAST-MODIFIED:20251229T171930Z
UID:10012940-1768780800-1768867199@www.thespinneyatvandyke.com
SUMMARY:Martin Luther King Jr. Day
DESCRIPTION:
URL:https://www.thespinneyatvandyke.com/event/martin-luther-king-jr-day/
LOCATION:NY
END:VEVENT
BEGIN:VEVENT
DTSTART;TZID=America/New_York:20260119T090000
DTEND;TZID=America/New_York:20260119T093000
DTSTAMP:20260423T190657
CREATED:20251125T144048Z
LAST-MODIFIED:20260330T172901Z
UID:10011915-1768813200-1768815000@www.thespinneyatvandyke.com
SUMMARY:Spring Stroll
DESCRIPTION:
URL:https://www.thespinneyatvandyke.com/event/winter-walk-2/2026-01-19/
LOCATION:The Spinney at Van Dyke\, 6 Parker Mathusa Place\, Delmar\, NY\, 12054
CATEGORIES:Environmental
END:VEVENT
BEGIN:VEVENT
DTSTART;TZID=America/New_York:20260119T103000
DTEND;TZID=America/New_York:20260119T113000
DTSTAMP:20260423T190657
CREATED:20251229T170104Z
LAST-MODIFIED:20251229T170104Z
UID:10012433-1768818600-1768822200@www.thespinneyatvandyke.com
SUMMARY:Essentrics Group Exercise Class
DESCRIPTION:
URL:https://www.thespinneyatvandyke.com/event/essentrics-group-exercise-class/2026-01-19/
LOCATION:The Spinney at Van Dyke\, 6 Parker Mathusa Place\, Delmar\, NY\, 12054
CATEGORIES:Wellness
END:VEVENT
BEGIN:VEVENT
DTSTART;TZID=UTC:20260119T130000
DTEND;TZID=UTC:20260119T140000
DTSTAMP:20260423T190657
CREATED:20230726T230137Z
LAST-MODIFIED:20230726T230137Z
UID:10000743-1768827600-1768831200@www.thespinneyatvandyke.com
SUMMARY:Scrabble
DESCRIPTION:Meet-up with neighbors for a game of Scrabble.
URL:https://www.thespinneyatvandyke.com/event/scrabble/2026-01-19/
LOCATION:The Spinney at Van Dyke\, 6 Parker Mathusa Place\, Delmar\, NY\, 12054
CATEGORIES:Intellectual
END:VEVENT
BEGIN:VEVENT
DTSTART;TZID=America/New_York:20260119T130000
DTEND;TZID=America/New_York:20260119T150000
DTSTAMP:20260423T190657
CREATED:20250325T220820Z
LAST-MODIFIED:20250325T220820Z
UID:10007238-1768827600-1768834800@www.thespinneyatvandyke.com
SUMMARY:Mahjong
DESCRIPTION:Learn to play Mahjong.
URL:https://www.thespinneyatvandyke.com/event/mahjong/2026-01-19/
LOCATION:The Spinney at Van Dyke\, 6 Parker Mathusa Place\, Delmar\, NY\, 12054
CATEGORIES:Social
END:VEVENT
BEGIN:VEVENT
DTSTART;TZID=UTC:20260119T183000
DTEND;TZID=UTC:20260119T203000
DTSTAMP:20260423T190657
CREATED:20230923T225926Z
LAST-MODIFIED:20251229T170229Z
UID:10001974-1768847400-1768854600@www.thespinneyatvandyke.com
SUMMARY:Billiards and Poker
DESCRIPTION:A casual group meet-up of neighbors to play or learn-to-play pool and poker in The Clubhouse.
URL:https://www.thespinneyatvandyke.com/event/billiards-2/2026-01-19/
LOCATION:The Spinney at Van Dyke\, 6 Parker Mathusa Place\, Delmar\, NY\, 12054
CATEGORIES:Intellectual,Social
END:VEVENT
BEGIN:VEVENT
DTSTART;TZID=America/New_York:20260120T103000
DTEND;TZID=America/New_York:20260120T123000
DTSTAMP:20260423T190657
CREATED:20251229T170553Z
LAST-MODIFIED:20251229T170553Z
UID:10012797-1768905000-1768912200@www.thespinneyatvandyke.com
SUMMARY:History Club
DESCRIPTION:
URL:https://www.thespinneyatvandyke.com/event/history-club-5/2026-01-20/
LOCATION:The Spinney at Van Dyke\, 6 Parker Mathusa Place\, Delmar\, NY\, 12054
CATEGORIES:Intellectual
END:VEVENT
BEGIN:VEVENT
DTSTART;TZID=America/New_York:20260120T130000
DTEND;TZID=America/New_York:20260120T143000
DTSTAMP:20260423T190657
CREATED:20251229T172038Z
LAST-MODIFIED:20251229T172038Z
UID:10012941-1768914000-1768919400@www.thespinneyatvandyke.com
SUMMARY:Trivia & Treats
DESCRIPTION:
URL:https://www.thespinneyatvandyke.com/event/trivia-treats/2026-01-20/
LOCATION:The Spinney at Van Dyke\, 6 Parker Mathusa Place\, Delmar\, NY\, 12054
CATEGORIES:Intellectual
END:VEVENT
BEGIN:VEVENT
DTSTART;TZID=America/New_York:20260120T160000
DTEND;TZID=America/New_York:20260120T170000
DTSTAMP:20260423T190657
CREATED:20250325T172751Z
LAST-MODIFIED:20260127T165221Z
UID:10013111-1768924800-1768928400@www.thespinneyatvandyke.com
SUMMARY:Handwork
DESCRIPTION:
URL:https://www.thespinneyatvandyke.com/event/handwork/2026-01-20/
LOCATION:The Spinney at Van Dyke\, 6 Parker Mathusa Place\, Delmar\, NY\, 12054
CATEGORIES:Social
END:VEVENT
BEGIN:VEVENT
DTSTART;TZID=America/New_York:20260121T093000
DTEND;TZID=America/New_York:20260121T100000
DTSTAMP:20260423T190657
CREATED:20251125T152032Z
LAST-MODIFIED:20251125T152032Z
UID:10011010-1768987800-1768989600@www.thespinneyatvandyke.com
SUMMARY:Egg Delivery
DESCRIPTION:
URL:https://www.thespinneyatvandyke.com/event/egg-delivery/2026-01-21/
LOCATION:The Spinney at Van Dyke\, 6 Parker Mathusa Place\, Delmar\, NY\, 12054
END:VEVENT
BEGIN:VEVENT
DTSTART;TZID=America/New_York:20260121T110000
DTEND;TZID=America/New_York:20260121T120000
DTSTAMP:20260423T190657
CREATED:20251229T172209Z
LAST-MODIFIED:20251229T172209Z
UID:10013001-1768993200-1768996800@www.thespinneyatvandyke.com
SUMMARY:Bethlehem Library Pop-Up
DESCRIPTION:
URL:https://www.thespinneyatvandyke.com/event/bethlehem-library-pop-up/2026-01-21/
LOCATION:The Spinney at Van Dyke\, 6 Parker Mathusa Place\, Delmar\, NY\, 12054
CATEGORIES:Community
END:VEVENT
BEGIN:VEVENT
DTSTART;TZID=America/New_York:20260121T130000
DTEND;TZID=America/New_York:20260121T140000
DTSTAMP:20260423T190657
CREATED:20250325T213707Z
LAST-MODIFIED:20260330T174359Z
UID:10013719-1769000400-1769004000@www.thespinneyatvandyke.com
SUMMARY:Nia
DESCRIPTION:
URL:https://www.thespinneyatvandyke.com/event/nia/2026-01-21/
LOCATION:The Spinney at Van Dyke\, 6 Parker Mathusa Place\, Delmar\, NY\, 12054
CATEGORIES:Wellness
END:VEVENT
BEGIN:VEVENT
DTSTART;TZID=America/New_York:20260121T140000
DTEND;TZID=America/New_York:20260121T170000
DTSTAMP:20260423T190657
CREATED:20250924T135216Z
LAST-MODIFIED:20251125T152231Z
UID:10009166-1769004000-1769014800@www.thespinneyatvandyke.com
SUMMARY:Baked by Madison Pop Up
DESCRIPTION:
URL:https://www.thespinneyatvandyke.com/event/baked-by-madison-pop-up-2/2026-01-21/
LOCATION:Adams Station\, 1 Juniper Drive\, Delmar\, 12054\, United States
CATEGORIES:Community
END:VEVENT
BEGIN:VEVENT
DTSTART;TZID=America/New_York:20260121T163000
DTEND;TZID=America/New_York:20260121T170000
DTSTAMP:20260423T190657
CREATED:20250325T214941Z
LAST-MODIFIED:20251125T152319Z
UID:10006386-1769013000-1769014800@www.thespinneyatvandyke.com
SUMMARY:Maisie's and Bread Delivery
DESCRIPTION:
URL:https://www.thespinneyatvandyke.com/event/maisies-and-bread-delivery/2026-01-21/
LOCATION:The Spinney at Van Dyke\, 6 Parker Mathusa Place\, Delmar\, NY\, 12054
END:VEVENT
BEGIN:VEVENT
DTSTART;TZID=America/New_York:20260122T083000
DTEND;TZID=America/New_York:20260122T093000
DTSTAMP:20260423T190657
CREATED:20251028T182158Z
LAST-MODIFIED:20260422T195255Z
UID:10009552-1769070600-1769074200@www.thespinneyatvandyke.com
SUMMARY:Spinney Strength
DESCRIPTION:
URL:https://www.thespinneyatvandyke.com/event/spinney-strength-3-2/2026-01-22/
LOCATION:The Spinney at Van Dyke\, 6 Parker Mathusa Place\, Delmar\, NY\, 12054
CATEGORIES:Wellness
END:VEVENT
BEGIN:VEVENT
DTSTART;TZID=America/New_York:20260122T100000
DTEND;TZID=America/New_York:20260122T120000
DTSTAMP:20260423T190657
CREATED:20251125T152728Z
LAST-MODIFIED:20260422T195359Z
UID:10011356-1769076000-1769083200@www.thespinneyatvandyke.com
SUMMARY:Bridge
DESCRIPTION:
URL:https://www.thespinneyatvandyke.com/event/bridge/2026-01-22/
LOCATION:NY
CATEGORIES:Social
END:VEVENT
BEGIN:VEVENT
DTSTART;TZID=America/New_York:20260122T123000
DTEND;TZID=America/New_York:20260122T143000
DTSTAMP:20260423T190657
CREATED:20250325T215156Z
LAST-MODIFIED:20260422T195533Z
UID:10006647-1769085000-1769092200@www.thespinneyatvandyke.com
SUMMARY:Hand and Foot Game
DESCRIPTION:
URL:https://www.thespinneyatvandyke.com/event/hand-and-food-game/2026-01-22/
LOCATION:The Spinney at Van Dyke\, 6 Parker Mathusa Place\, Delmar\, NY\, 12054
CATEGORIES:Social
END:VEVENT
BEGIN:VEVENT
DTSTART;TZID=America/New_York:20260123T090000
DTEND;TZID=America/New_York:20260123T093000
DTSTAMP:20260423T190657
CREATED:20251125T144048Z
LAST-MODIFIED:20260330T172901Z
UID:10011916-1769158800-1769160600@www.thespinneyatvandyke.com
SUMMARY:Spring Stroll
DESCRIPTION:
URL:https://www.thespinneyatvandyke.com/event/winter-walk-2/2026-01-23/
LOCATION:The Spinney at Van Dyke\, 6 Parker Mathusa Place\, Delmar\, NY\, 12054
CATEGORIES:Environmental
END:VEVENT
BEGIN:VEVENT
DTSTART;TZID=America/New_York:20260123T130000
DTEND;TZID=America/New_York:20260123T140000
DTSTAMP:20260423T190657
CREATED:20251229T172314Z
LAST-MODIFIED:20251229T172314Z
UID:10013004-1769173200-1769176800@www.thespinneyatvandyke.com
SUMMARY:Birthday Bash
DESCRIPTION:
URL:https://www.thespinneyatvandyke.com/event/birthday-bash-15/
LOCATION:The Spinney at Van Dyke\, 6 Parker Mathusa Place\, Delmar\, NY\, 12054
CATEGORIES:Social
END:VEVENT
BEGIN:VEVENT
DTSTART;TZID=America/New_York:20260123T160000
DTEND;TZID=America/New_York:20260123T180000
DTSTAMP:20260423T190657
CREATED:20250522T164816Z
LAST-MODIFIED:20250625T155348Z
UID:10008572-1769184000-1769191200@www.thespinneyatvandyke.com
SUMMARY:Resident led Happy Hour
DESCRIPTION:
URL:https://www.thespinneyatvandyke.com/event/resident-led-happy-hour-5/2026-01-23/
LOCATION:The Spinney at Van Dyke\, 6 Parker Mathusa Place\, Delmar\, NY\, 12054
CATEGORIES:Social
END:VEVENT
BEGIN:VEVENT
DTSTART;TZID=America/New_York:20260125T140000
DTEND;TZID=America/New_York:20260125T150000
DTSTAMP:20260423T190657
CREATED:20251229T172420Z
LAST-MODIFIED:20251229T172420Z
UID:10013006-1769349600-1769353200@www.thespinneyatvandyke.com
SUMMARY:Bingo
DESCRIPTION:
URL:https://www.thespinneyatvandyke.com/event/bingo-10/
LOCATION:The Spinney at Van Dyke\, 6 Parker Mathusa Place\, Delmar\, NY\, 12054
CATEGORIES:Social
END:VEVENT
BEGIN:VEVENT
DTSTART;TZID=America/New_York:20260126T090000
DTEND;TZID=America/New_York:20260126T093000
DTSTAMP:20260423T190657
CREATED:20251125T144048Z
LAST-MODIFIED:20260330T172901Z
UID:10011917-1769418000-1769419800@www.thespinneyatvandyke.com
SUMMARY:Spring Stroll
DESCRIPTION:
URL:https://www.thespinneyatvandyke.com/event/winter-walk-2/2026-01-26/
LOCATION:The Spinney at Van Dyke\, 6 Parker Mathusa Place\, Delmar\, NY\, 12054
CATEGORIES:Environmental
END:VEVENT
BEGIN:VEVENT
DTSTART;TZID=America/New_York:20260126T103000
DTEND;TZID=America/New_York:20260126T113000
DTSTAMP:20260423T190657
CREATED:20251229T170104Z
LAST-MODIFIED:20251229T170104Z
UID:10012434-1769423400-1769427000@www.thespinneyatvandyke.com
SUMMARY:Essentrics Group Exercise Class
DESCRIPTION:
URL:https://www.thespinneyatvandyke.com/event/essentrics-group-exercise-class/2026-01-26/
LOCATION:The Spinney at Van Dyke\, 6 Parker Mathusa Place\, Delmar\, NY\, 12054
CATEGORIES:Wellness
END:VEVENT
BEGIN:VEVENT
DTSTART;TZID=UTC:20260126T130000
DTEND;TZID=UTC:20260126T140000
DTSTAMP:20260423T190657
CREATED:20230726T230137Z
LAST-MODIFIED:20230726T230137Z
UID:10000744-1769432400-1769436000@www.thespinneyatvandyke.com
SUMMARY:Scrabble
DESCRIPTION:Meet-up with neighbors for a game of Scrabble.
URL:https://www.thespinneyatvandyke.com/event/scrabble/2026-01-26/
LOCATION:The Spinney at Van Dyke\, 6 Parker Mathusa Place\, Delmar\, NY\, 12054
CATEGORIES:Intellectual
END:VEVENT
BEGIN:VEVENT
DTSTART;TZID=America/New_York:20260126T130000
DTEND;TZID=America/New_York:20260126T150000
DTSTAMP:20260423T190657
CREATED:20250325T220820Z
LAST-MODIFIED:20250325T220820Z
UID:10007239-1769432400-1769439600@www.thespinneyatvandyke.com
SUMMARY:Mahjong
DESCRIPTION:Learn to play Mahjong.
URL:https://www.thespinneyatvandyke.com/event/mahjong/2026-01-26/
LOCATION:The Spinney at Van Dyke\, 6 Parker Mathusa Place\, Delmar\, NY\, 12054
CATEGORIES:Social
END:VEVENT
BEGIN:VEVENT
DTSTART;TZID=UTC:20260126T183000
DTEND;TZID=UTC:20260126T203000
DTSTAMP:20260423T190657
CREATED:20230923T225926Z
LAST-MODIFIED:20251229T170229Z
UID:10001975-1769452200-1769459400@www.thespinneyatvandyke.com
SUMMARY:Billiards and Poker
DESCRIPTION:A casual group meet-up of neighbors to play or learn-to-play pool and poker in The Clubhouse.
URL:https://www.thespinneyatvandyke.com/event/billiards-2/2026-01-26/
LOCATION:The Spinney at Van Dyke\, 6 Parker Mathusa Place\, Delmar\, NY\, 12054
CATEGORIES:Intellectual,Social
END:VEVENT
BEGIN:VEVENT
DTSTART;TZID=America/New_York:20260127T130000
DTEND;TZID=America/New_York:20260127T140000
DTSTAMP:20260423T190657
CREATED:20251125T144407Z
LAST-MODIFIED:20251229T172530Z
UID:10010978-1769518800-1769522400@www.thespinneyatvandyke.com
SUMMARY:Do You Wanna Bake a Snowman?
DESCRIPTION:
URL:https://www.thespinneyatvandyke.com/event/do-you-wanna-bake-a-snowman/
LOCATION:The Spinney at Van Dyke\, 6 Parker Mathusa Place\, Delmar\, NY\, 12054
CATEGORIES:Social
END:VEVENT
END:VCALENDAR