BEGIN:VCALENDAR
VERSION:2.0
PRODID:-//The Spinney at Van Dyke - ECPv6.15.20//NONSGML v1.0//EN
CALSCALE:GREGORIAN
METHOD:PUBLISH
X-WR-CALNAME:The Spinney at Van Dyke
X-ORIGINAL-URL:https://www.thespinneyatvandyke.com
X-WR-CALDESC:Events for The Spinney at Van Dyke
REFRESH-INTERVAL;VALUE=DURATION:PT1H
X-Robots-Tag:noindex
X-PUBLISHED-TTL:PT1H
BEGIN:VTIMEZONE
TZID:UTC
BEGIN:STANDARD
TZOFFSETFROM:+0000
TZOFFSETTO:+0000
TZNAME:UTC
DTSTART:20240101T000000
END:STANDARD
END:VTIMEZONE
BEGIN:VTIMEZONE
TZID:America/New_York
BEGIN:DAYLIGHT
TZOFFSETFROM:-0500
TZOFFSETTO:-0400
TZNAME:EDT
DTSTART:20240310T070000
END:DAYLIGHT
BEGIN:STANDARD
TZOFFSETFROM:-0400
TZOFFSETTO:-0500
TZNAME:EST
DTSTART:20241103T060000
END:STANDARD
BEGIN:DAYLIGHT
TZOFFSETFROM:-0500
TZOFFSETTO:-0400
TZNAME:EDT
DTSTART:20250309T070000
END:DAYLIGHT
BEGIN:STANDARD
TZOFFSETFROM:-0400
TZOFFSETTO:-0500
TZNAME:EST
DTSTART:20251102T060000
END:STANDARD
BEGIN:DAYLIGHT
TZOFFSETFROM:-0500
TZOFFSETTO:-0400
TZNAME:EDT
DTSTART:20260308T070000
END:DAYLIGHT
BEGIN:STANDARD
TZOFFSETFROM:-0400
TZOFFSETTO:-0500
TZNAME:EST
DTSTART:20261101T060000
END:STANDARD
END:VTIMEZONE
BEGIN:VEVENT
DTSTART;TZID=UTC:20250707T130000
DTEND;TZID=UTC:20250707T140000
DTSTAMP:20260424T061706
CREATED:20230726T230137Z
LAST-MODIFIED:20230726T230137Z
UID:10000715-1751893200-1751896800@www.thespinneyatvandyke.com
SUMMARY:Scrabble
DESCRIPTION:Meet-up with neighbors for a game of Scrabble.
URL:https://www.thespinneyatvandyke.com/event/scrabble/2025-07-07/
LOCATION:The Spinney at Van Dyke\, 6 Parker Mathusa Place\, Delmar\, NY\, 12054
CATEGORIES:Intellectual
END:VEVENT
BEGIN:VEVENT
DTSTART;TZID=America/New_York:20250704T160000
DTEND;TZID=America/New_York:20250704T180000
DTSTAMP:20260424T061706
CREATED:20250522T164816Z
LAST-MODIFIED:20250625T155348Z
UID:10008543-1751644800-1751652000@www.thespinneyatvandyke.com
SUMMARY:Resident led Happy Hour
DESCRIPTION:
URL:https://www.thespinneyatvandyke.com/event/resident-led-happy-hour-5/2025-07-04/
LOCATION:The Spinney at Van Dyke\, 6 Parker Mathusa Place\, Delmar\, NY\, 12054
CATEGORIES:Social
END:VEVENT
BEGIN:VEVENT
DTSTART;VALUE=DATE:20250704
DTEND;VALUE=DATE:20250705
DTSTAMP:20260424T061706
CREATED:20250625T152837Z
LAST-MODIFIED:20250625T153136Z
UID:10008524-1751587200-1751673599@www.thespinneyatvandyke.com
SUMMARY:Independence Day - Office Closed
DESCRIPTION:
URL:https://www.thespinneyatvandyke.com/event/independence-day-office-closed/
LOCATION:The Spinney at Van Dyke\, 6 Parker Mathusa Place\, Delmar\, NY\, 12054
END:VEVENT
BEGIN:VEVENT
DTSTART;TZID=America/New_York:20250703T123000
DTEND;TZID=America/New_York:20250703T143000
DTSTAMP:20260424T061706
CREATED:20250325T215156Z
LAST-MODIFIED:20260422T195533Z
UID:10006618-1751545800-1751553000@www.thespinneyatvandyke.com
SUMMARY:Hand and Foot Game
DESCRIPTION:
URL:https://www.thespinneyatvandyke.com/event/hand-and-food-game/2025-07-03/
LOCATION:The Spinney at Van Dyke\, 6 Parker Mathusa Place\, Delmar\, NY\, 12054
CATEGORIES:Social
END:VEVENT
BEGIN:VEVENT
DTSTART;TZID=America/New_York:20250703T090000
DTEND;TZID=America/New_York:20250703T120000
DTSTAMP:20260424T061706
CREATED:20250625T152551Z
LAST-MODIFIED:20250625T152551Z
UID:10008497-1751533200-1751544000@www.thespinneyatvandyke.com
SUMMARY:Group Tour to USS Slater
DESCRIPTION:
URL:https://www.thespinneyatvandyke.com/event/group-tour-to-uss-slater/
LOCATION:The Spinney at Van Dyke\, 6 Parker Mathusa Place\, Delmar\, NY\, 12054
CATEGORIES:Community
END:VEVENT
BEGIN:VEVENT
DTSTART;TZID=America/New_York:20250702T190000
DTEND;TZID=America/New_York:20250702T200000
DTSTAMP:20260424T061706
CREATED:20250625T152229Z
LAST-MODIFIED:20250625T152338Z
UID:10008496-1751482800-1751486400@www.thespinneyatvandyke.com
SUMMARY:Spinneystock Concert
DESCRIPTION:Tame the Rooster
URL:https://www.thespinneyatvandyke.com/event/spinneystock-concert/
LOCATION:The Spinney at Van Dyke\, 6 Parker Mathusa Place\, Delmar\, NY\, 12054
CATEGORIES:Social
END:VEVENT
BEGIN:VEVENT
DTSTART;TZID=America/New_York:20250702T170000
DTEND;TZID=America/New_York:20250702T183000
DTSTAMP:20260424T061706
CREATED:20250625T152149Z
LAST-MODIFIED:20250625T152149Z
UID:10008495-1751475600-1751481000@www.thespinneyatvandyke.com
SUMMARY:Spinneystock Concert Community Dinner
DESCRIPTION:
URL:https://www.thespinneyatvandyke.com/event/spinneystock-concert-community-dinner/
LOCATION:The Spinney at Van Dyke\, 6 Parker Mathusa Place\, Delmar\, NY\, 12054
CATEGORIES:Social
END:VEVENT
BEGIN:VEVENT
DTSTART;TZID=America/New_York:20250702T163000
DTEND;TZID=America/New_York:20250702T170000
DTSTAMP:20260424T061706
CREATED:20250325T214941Z
LAST-MODIFIED:20251125T152319Z
UID:10006357-1751473800-1751475600@www.thespinneyatvandyke.com
SUMMARY:Maisie's and Bread Delivery
DESCRIPTION:
URL:https://www.thespinneyatvandyke.com/event/maisies-and-bread-delivery/2025-07-02/
LOCATION:The Spinney at Van Dyke\, 6 Parker Mathusa Place\, Delmar\, NY\, 12054
END:VEVENT
BEGIN:VEVENT
DTSTART;TZID=America/New_York:20250702T130000
DTEND;TZID=America/New_York:20250702T140000
DTSTAMP:20260424T061706
CREATED:20250325T213707Z
LAST-MODIFIED:20260330T174359Z
UID:10005968-1751461200-1751464800@www.thespinneyatvandyke.com
SUMMARY:Nia
DESCRIPTION:
URL:https://www.thespinneyatvandyke.com/event/nia/2025-07-02/
LOCATION:The Spinney at Van Dyke\, 6 Parker Mathusa Place\, Delmar\, NY\, 12054
CATEGORIES:Wellness
END:VEVENT
BEGIN:VEVENT
DTSTART;TZID=America/New_York:20250701T160000
DTEND;TZID=America/New_York:20250701T170000
DTSTAMP:20260424T061706
CREATED:20250325T172751Z
LAST-MODIFIED:20260127T165221Z
UID:10013082-1751385600-1751389200@www.thespinneyatvandyke.com
SUMMARY:Handwork
DESCRIPTION:
URL:https://www.thespinneyatvandyke.com/event/handwork/2025-07-01/
LOCATION:The Spinney at Van Dyke\, 6 Parker Mathusa Place\, Delmar\, NY\, 12054
CATEGORIES:Social
END:VEVENT
BEGIN:VEVENT
DTSTART;TZID=UTC:20250630T183000
DTEND;TZID=UTC:20250630T203000
DTSTAMP:20260424T061706
CREATED:20230923T225926Z
LAST-MODIFIED:20251229T170229Z
UID:10001945-1751308200-1751315400@www.thespinneyatvandyke.com
SUMMARY:Billiards and Poker
DESCRIPTION:A casual group meet-up of neighbors to play or learn-to-play pool and poker in The Clubhouse.
URL:https://www.thespinneyatvandyke.com/event/billiards-2/2025-06-30/
LOCATION:The Spinney at Van Dyke\, 6 Parker Mathusa Place\, Delmar\, NY\, 12054
CATEGORIES:Intellectual,Social
END:VEVENT
BEGIN:VEVENT
DTSTART;TZID=America/New_York:20250630T150000
DTEND;TZID=America/New_York:20250630T160000
DTSTAMP:20260424T061706
CREATED:20250522T165857Z
LAST-MODIFIED:20250522T165857Z
UID:10008494-1751295600-1751299200@www.thespinneyatvandyke.com
SUMMARY:Author Talk
DESCRIPTION:
URL:https://www.thespinneyatvandyke.com/event/author-talk/
LOCATION:The Spinney at Van Dyke\, 6 Parker Mathusa Place\, Delmar\, NY\, 12054
CATEGORIES:Intellectual
END:VEVENT
BEGIN:VEVENT
DTSTART;TZID=America/New_York:20250630T130000
DTEND;TZID=America/New_York:20250630T150000
DTSTAMP:20260424T061706
CREATED:20250325T220820Z
LAST-MODIFIED:20250325T220820Z
UID:10007209-1751288400-1751295600@www.thespinneyatvandyke.com
SUMMARY:Mahjong
DESCRIPTION:Learn to play Mahjong.
URL:https://www.thespinneyatvandyke.com/event/mahjong/2025-06-30/
LOCATION:The Spinney at Van Dyke\, 6 Parker Mathusa Place\, Delmar\, NY\, 12054
CATEGORIES:Social
END:VEVENT
BEGIN:VEVENT
DTSTART;TZID=UTC:20250630T130000
DTEND;TZID=UTC:20250630T140000
DTSTAMP:20260424T061706
CREATED:20230726T230137Z
LAST-MODIFIED:20230726T230137Z
UID:10000714-1751288400-1751292000@www.thespinneyatvandyke.com
SUMMARY:Scrabble
DESCRIPTION:Meet-up with neighbors for a game of Scrabble.
URL:https://www.thespinneyatvandyke.com/event/scrabble/2025-06-30/
LOCATION:The Spinney at Van Dyke\, 6 Parker Mathusa Place\, Delmar\, NY\, 12054
CATEGORIES:Intellectual
END:VEVENT
BEGIN:VEVENT
DTSTART;TZID=America/New_York:20250627T120000
DTEND;TZID=America/New_York:20250627T130000
DTSTAMP:20260424T061706
CREATED:20250522T165746Z
LAST-MODIFIED:20250522T165746Z
UID:10008493-1751025600-1751029200@www.thespinneyatvandyke.com
SUMMARY:Birthday Bash
DESCRIPTION:
URL:https://www.thespinneyatvandyke.com/event/birthday-bash-9/
LOCATION:The Spinney at Van Dyke\, 6 Parker Mathusa Place\, Delmar\, NY\, 12054
CATEGORIES:Social
END:VEVENT
BEGIN:VEVENT
DTSTART;TZID=America/New_York:20250626T173000
DTEND;TZID=America/New_York:20250626T183000
DTSTAMP:20260424T061706
CREATED:20250522T165638Z
LAST-MODIFIED:20250522T165638Z
UID:10008492-1750959000-1750962600@www.thespinneyatvandyke.com
SUMMARY:Dolly Disco
DESCRIPTION:
URL:https://www.thespinneyatvandyke.com/event/dolly-disco/
LOCATION:The Spinney at Van Dyke\, 6 Parker Mathusa Place\, Delmar\, NY\, 12054
CATEGORIES:Social
END:VEVENT
BEGIN:VEVENT
DTSTART;TZID=America/New_York:20250626T123000
DTEND;TZID=America/New_York:20250626T143000
DTSTAMP:20260424T061706
CREATED:20250325T215156Z
LAST-MODIFIED:20260422T195533Z
UID:10006617-1750941000-1750948200@www.thespinneyatvandyke.com
SUMMARY:Hand and Foot Game
DESCRIPTION:
URL:https://www.thespinneyatvandyke.com/event/hand-and-food-game/2025-06-26/
LOCATION:The Spinney at Van Dyke\, 6 Parker Mathusa Place\, Delmar\, NY\, 12054
CATEGORIES:Social
END:VEVENT
BEGIN:VEVENT
DTSTART;TZID=America/New_York:20250625T163000
DTEND;TZID=America/New_York:20250625T170000
DTSTAMP:20260424T061706
CREATED:20250325T214941Z
LAST-MODIFIED:20251125T152319Z
UID:10006356-1750869000-1750870800@www.thespinneyatvandyke.com
SUMMARY:Maisie's and Bread Delivery
DESCRIPTION:
URL:https://www.thespinneyatvandyke.com/event/maisies-and-bread-delivery/2025-06-25/
LOCATION:The Spinney at Van Dyke\, 6 Parker Mathusa Place\, Delmar\, NY\, 12054
END:VEVENT
BEGIN:VEVENT
DTSTART;TZID=America/New_York:20250625T130000
DTEND;TZID=America/New_York:20250625T140000
DTSTAMP:20260424T061706
CREATED:20250325T213707Z
LAST-MODIFIED:20260330T174359Z
UID:10005967-1750856400-1750860000@www.thespinneyatvandyke.com
SUMMARY:Nia
DESCRIPTION:
URL:https://www.thespinneyatvandyke.com/event/nia/2025-06-25/
LOCATION:The Spinney at Van Dyke\, 6 Parker Mathusa Place\, Delmar\, NY\, 12054
CATEGORIES:Wellness
END:VEVENT
BEGIN:VEVENT
DTSTART;TZID=America/New_York:20250624T190000
DTEND;TZID=America/New_York:20250624T200000
DTSTAMP:20260424T061706
CREATED:20250522T164444Z
LAST-MODIFIED:20250522T164444Z
UID:10008487-1750791600-1750795200@www.thespinneyatvandyke.com
SUMMARY:What are you listening to?
DESCRIPTION:
URL:https://www.thespinneyatvandyke.com/event/what-are-you-listening-to-3/
LOCATION:The Spinney at Van Dyke\, 6 Parker Mathusa Place\, Delmar\, NY\, 12054
CATEGORIES:Intellectual
END:VEVENT
BEGIN:VEVENT
DTSTART;TZID=America/New_York:20250624T160000
DTEND;TZID=America/New_York:20250624T170000
DTSTAMP:20260424T061706
CREATED:20250325T172751Z
LAST-MODIFIED:20260127T165221Z
UID:10013081-1750780800-1750784400@www.thespinneyatvandyke.com
SUMMARY:Handwork
DESCRIPTION:
URL:https://www.thespinneyatvandyke.com/event/handwork/2025-06-24/
LOCATION:The Spinney at Van Dyke\, 6 Parker Mathusa Place\, Delmar\, NY\, 12054
CATEGORIES:Social
END:VEVENT
BEGIN:VEVENT
DTSTART;TZID=America/New_York:20250624T111500
DTEND;TZID=America/New_York:20250624T140000
DTSTAMP:20260424T061706
CREATED:20250522T165342Z
LAST-MODIFIED:20250522T165342Z
UID:10008491-1750763700-1750773600@www.thespinneyatvandyke.com
SUMMARY:SpinneyLife Anniversary Event
DESCRIPTION:
URL:https://www.thespinneyatvandyke.com/event/spinneylife-anniversary-event/
LOCATION:The Spinney at Van Dyke\, 6 Parker Mathusa Place\, Delmar\, NY\, 12054
CATEGORIES:Community
END:VEVENT
BEGIN:VEVENT
DTSTART;TZID=UTC:20250623T183000
DTEND;TZID=UTC:20250623T203000
DTSTAMP:20260424T061706
CREATED:20230923T225926Z
LAST-MODIFIED:20251229T170229Z
UID:10001944-1750703400-1750710600@www.thespinneyatvandyke.com
SUMMARY:Billiards and Poker
DESCRIPTION:A casual group meet-up of neighbors to play or learn-to-play pool and poker in The Clubhouse.
URL:https://www.thespinneyatvandyke.com/event/billiards-2/2025-06-23/
LOCATION:The Spinney at Van Dyke\, 6 Parker Mathusa Place\, Delmar\, NY\, 12054
CATEGORIES:Intellectual,Social
END:VEVENT
BEGIN:VEVENT
DTSTART;TZID=America/New_York:20250623T130000
DTEND;TZID=America/New_York:20250623T150000
DTSTAMP:20260424T061706
CREATED:20250325T220820Z
LAST-MODIFIED:20250325T220820Z
UID:10007208-1750683600-1750690800@www.thespinneyatvandyke.com
SUMMARY:Mahjong
DESCRIPTION:Learn to play Mahjong.
URL:https://www.thespinneyatvandyke.com/event/mahjong/2025-06-23/
LOCATION:The Spinney at Van Dyke\, 6 Parker Mathusa Place\, Delmar\, NY\, 12054
CATEGORIES:Social
END:VEVENT
BEGIN:VEVENT
DTSTART;TZID=UTC:20250623T130000
DTEND;TZID=UTC:20250623T140000
DTSTAMP:20260424T061706
CREATED:20230726T230137Z
LAST-MODIFIED:20230726T230137Z
UID:10000713-1750683600-1750687200@www.thespinneyatvandyke.com
SUMMARY:Scrabble
DESCRIPTION:Meet-up with neighbors for a game of Scrabble.
URL:https://www.thespinneyatvandyke.com/event/scrabble/2025-06-23/
LOCATION:The Spinney at Van Dyke\, 6 Parker Mathusa Place\, Delmar\, NY\, 12054
CATEGORIES:Intellectual
END:VEVENT
BEGIN:VEVENT
DTSTART;TZID=America/New_York:20250620T160000
DTEND;TZID=America/New_York:20250620T180000
DTSTAMP:20260424T061706
CREATED:20250522T164932Z
LAST-MODIFIED:20250522T164932Z
UID:10008490-1750435200-1750442400@www.thespinneyatvandyke.com
SUMMARY:Piece of Heaven Food Truck
DESCRIPTION:
URL:https://www.thespinneyatvandyke.com/event/piece-of-heaven-food-truck-2/
LOCATION:The Spinney at Van Dyke\, 6 Parker Mathusa Place\, Delmar\, NY\, 12054
CATEGORIES:Social
END:VEVENT
BEGIN:VEVENT
DTSTART;TZID=America/New_York:20250619T123000
DTEND;TZID=America/New_York:20250619T143000
DTSTAMP:20260424T061706
CREATED:20250325T215156Z
LAST-MODIFIED:20260422T195533Z
UID:10006616-1750336200-1750343400@www.thespinneyatvandyke.com
SUMMARY:Hand and Foot Game
DESCRIPTION:
URL:https://www.thespinneyatvandyke.com/event/hand-and-food-game/2025-06-19/
LOCATION:The Spinney at Van Dyke\, 6 Parker Mathusa Place\, Delmar\, NY\, 12054
CATEGORIES:Social
END:VEVENT
BEGIN:VEVENT
DTSTART;TZID=America/New_York:20250618T163000
DTEND;TZID=America/New_York:20250618T170000
DTSTAMP:20260424T061706
CREATED:20250325T214941Z
LAST-MODIFIED:20251125T152319Z
UID:10006355-1750264200-1750266000@www.thespinneyatvandyke.com
SUMMARY:Maisie's and Bread Delivery
DESCRIPTION:
URL:https://www.thespinneyatvandyke.com/event/maisies-and-bread-delivery/2025-06-18/
LOCATION:The Spinney at Van Dyke\, 6 Parker Mathusa Place\, Delmar\, NY\, 12054
END:VEVENT
BEGIN:VEVENT
DTSTART;TZID=America/New_York:20250618T143000
DTEND;TZID=America/New_York:20250618T153000
DTSTAMP:20260424T061706
CREATED:20250522T164658Z
LAST-MODIFIED:20250522T164658Z
UID:10008488-1750257000-1750260600@www.thespinneyatvandyke.com
SUMMARY:Community Talk with David DeCancio\, Town Board Member
DESCRIPTION:
URL:https://www.thespinneyatvandyke.com/event/community-talk-with-david-decancio-town-board-member/
LOCATION:The Spinney at Van Dyke\, 6 Parker Mathusa Place\, Delmar\, NY\, 12054
CATEGORIES:Community
END:VEVENT
BEGIN:VEVENT
DTSTART;TZID=America/New_York:20250618T130000
DTEND;TZID=America/New_York:20250618T140000
DTSTAMP:20260424T061706
CREATED:20250325T213707Z
LAST-MODIFIED:20260330T174359Z
UID:10005966-1750251600-1750255200@www.thespinneyatvandyke.com
SUMMARY:Nia
DESCRIPTION:
URL:https://www.thespinneyatvandyke.com/event/nia/2025-06-18/
LOCATION:The Spinney at Van Dyke\, 6 Parker Mathusa Place\, Delmar\, NY\, 12054
CATEGORIES:Wellness
END:VEVENT
END:VCALENDAR