BEGIN:VCALENDAR
VERSION:2.0
PRODID:-//The Spinney at Van Dyke - ECPv6.15.20//NONSGML v1.0//EN
CALSCALE:GREGORIAN
METHOD:PUBLISH
X-ORIGINAL-URL:https://www.thespinneyatvandyke.com
X-WR-CALDESC:Events for The Spinney at Van Dyke
REFRESH-INTERVAL;VALUE=DURATION:PT1H
X-Robots-Tag:noindex
X-PUBLISHED-TTL:PT1H
BEGIN:VTIMEZONE
TZID:America/New_York
BEGIN:DAYLIGHT
TZOFFSETFROM:-0500
TZOFFSETTO:-0400
TZNAME:EDT
DTSTART:20240310T070000
END:DAYLIGHT
BEGIN:STANDARD
TZOFFSETFROM:-0400
TZOFFSETTO:-0500
TZNAME:EST
DTSTART:20241103T060000
END:STANDARD
BEGIN:DAYLIGHT
TZOFFSETFROM:-0500
TZOFFSETTO:-0400
TZNAME:EDT
DTSTART:20250309T070000
END:DAYLIGHT
BEGIN:STANDARD
TZOFFSETFROM:-0400
TZOFFSETTO:-0500
TZNAME:EST
DTSTART:20251102T060000
END:STANDARD
BEGIN:DAYLIGHT
TZOFFSETFROM:-0500
TZOFFSETTO:-0400
TZNAME:EDT
DTSTART:20260308T070000
END:DAYLIGHT
BEGIN:STANDARD
TZOFFSETFROM:-0400
TZOFFSETTO:-0500
TZNAME:EST
DTSTART:20261101T060000
END:STANDARD
END:VTIMEZONE
BEGIN:VTIMEZONE
TZID:UTC
BEGIN:STANDARD
TZOFFSETFROM:+0000
TZOFFSETTO:+0000
TZNAME:UTC
DTSTART:20240101T000000
END:STANDARD
END:VTIMEZONE
BEGIN:VEVENT
DTSTART;TZID=America/New_York:20250911T123000
DTEND;TZID=America/New_York:20250911T143000
DTSTAMP:20260421T203516
CREATED:20250325T215156Z
LAST-MODIFIED:20251229T165549Z
UID:10006628-1757593800-1757601000@www.thespinneyatvandyke.com
SUMMARY:Hand and Foot Game
DESCRIPTION:
URL:https://www.thespinneyatvandyke.com/event/hand-and-food-game/2025-09-11/
LOCATION:The Spinney at Van Dyke\, 6 Parker Mathusa Place\, Delmar\, NY\, 12054
CATEGORIES:Social
END:VEVENT
BEGIN:VEVENT
DTSTART;TZID=America/New_York:20250911T143000
DTEND;TZID=America/New_York:20250911T163000
DTSTAMP:20260421T203516
CREATED:20250325T223133Z
LAST-MODIFIED:20250325T223133Z
UID:10007465-1757601000-1757608200@www.thespinneyatvandyke.com
SUMMARY:Crafternoon
DESCRIPTION:
URL:https://www.thespinneyatvandyke.com/event/crafternoon-3/2025-09-11/
LOCATION:The Spinney at Van Dyke\, 6 Parker Mathusa Place\, Delmar\, NY\, 12054
CATEGORIES:Intellectual
END:VEVENT
BEGIN:VEVENT
DTSTART;TZID=America/New_York:20250912T160000
DTEND;TZID=America/New_York:20250912T180000
DTSTAMP:20260421T203516
CREATED:20250522T164816Z
LAST-MODIFIED:20250625T155348Z
UID:10008553-1757692800-1757700000@www.thespinneyatvandyke.com
SUMMARY:Resident led Happy Hour
DESCRIPTION:
URL:https://www.thespinneyatvandyke.com/event/resident-led-happy-hour-5/2025-09-12/
LOCATION:The Spinney at Van Dyke\, 6 Parker Mathusa Place\, Delmar\, NY\, 12054
CATEGORIES:Social
END:VEVENT
BEGIN:VEVENT
DTSTART;TZID=America/New_York:20250915T093000
DTEND;TZID=America/New_York:20250915T110000
DTSTAMP:20260421T203516
CREATED:20250827T135154Z
LAST-MODIFIED:20250827T135154Z
UID:10009005-1757928600-1757934000@www.thespinneyatvandyke.com
SUMMARY:Bethlehem Neighbors Bagel Breakfast Presentation
DESCRIPTION:
URL:https://www.thespinneyatvandyke.com/event/bethlehem-neighbors-bagel-breakfast-presentation/
LOCATION:The Spinney at Van Dyke\, 6 Parker Mathusa Place\, Delmar\, NY\, 12054
CATEGORIES:Community
END:VEVENT
BEGIN:VEVENT
DTSTART;TZID=UTC:20250915T130000
DTEND;TZID=UTC:20250915T140000
DTSTAMP:20260421T203516
CREATED:20230726T230137Z
LAST-MODIFIED:20230726T230137Z
UID:10000725-1757941200-1757944800@www.thespinneyatvandyke.com
SUMMARY:Scrabble
DESCRIPTION:Meet-up with neighbors for a game of Scrabble.
URL:https://www.thespinneyatvandyke.com/event/scrabble/2025-09-15/
LOCATION:The Spinney at Van Dyke\, 6 Parker Mathusa Place\, Delmar\, NY\, 12054
CATEGORIES:Intellectual
END:VEVENT
BEGIN:VEVENT
DTSTART;TZID=America/New_York:20250915T130000
DTEND;TZID=America/New_York:20250915T150000
DTSTAMP:20260421T203516
CREATED:20250325T220820Z
LAST-MODIFIED:20250325T220820Z
UID:10007220-1757941200-1757948400@www.thespinneyatvandyke.com
SUMMARY:Mahjong
DESCRIPTION:Learn to play Mahjong.
URL:https://www.thespinneyatvandyke.com/event/mahjong/2025-09-15/
LOCATION:The Spinney at Van Dyke\, 6 Parker Mathusa Place\, Delmar\, NY\, 12054
CATEGORIES:Social
END:VEVENT
BEGIN:VEVENT
DTSTART;TZID=UTC:20250915T183000
DTEND;TZID=UTC:20250915T203000
DTSTAMP:20260421T203516
CREATED:20230923T225926Z
LAST-MODIFIED:20251229T170229Z
UID:10001956-1757961000-1757968200@www.thespinneyatvandyke.com
SUMMARY:Billiards and Poker
DESCRIPTION:A casual group meet-up of neighbors to play or learn-to-play pool and poker in The Clubhouse.
URL:https://www.thespinneyatvandyke.com/event/billiards-2/2025-09-15/
LOCATION:The Spinney at Van Dyke\, 6 Parker Mathusa Place\, Delmar\, NY\, 12054
CATEGORIES:Intellectual,Social
END:VEVENT
BEGIN:VEVENT
DTSTART;TZID=America/New_York:20250916T123000
DTEND;TZID=America/New_York:20250916T163000
DTSTAMP:20260421T203516
CREATED:20250827T135339Z
LAST-MODIFIED:20250827T135339Z
UID:10009006-1758025800-1758040200@www.thespinneyatvandyke.com
SUMMARY:Meatballs & A Movie with Cindy Dann
DESCRIPTION:
URL:https://www.thespinneyatvandyke.com/event/meatballs-a-movie-with-cindy-dann/
LOCATION:The Spinney at Van Dyke\, 6 Parker Mathusa Place\, Delmar\, NY\, 12054
CATEGORIES:Intellectual
END:VEVENT
BEGIN:VEVENT
DTSTART;TZID=America/New_York:20250916T160000
DTEND;TZID=America/New_York:20250916T170000
DTSTAMP:20260421T203516
CREATED:20250325T172751Z
LAST-MODIFIED:20260127T165221Z
UID:10013093-1758038400-1758042000@www.thespinneyatvandyke.com
SUMMARY:Handwork
DESCRIPTION:
URL:https://www.thespinneyatvandyke.com/event/handwork/2025-09-16/
LOCATION:The Spinney at Van Dyke\, 6 Parker Mathusa Place\, Delmar\, NY\, 12054
CATEGORIES:Social
END:VEVENT
BEGIN:VEVENT
DTSTART;TZID=America/New_York:20250916T181500
DTEND;TZID=America/New_York:20250916T190000
DTSTAMP:20260421T203516
CREATED:20250827T135434Z
LAST-MODIFIED:20250827T135434Z
UID:10009007-1758046500-1758049200@www.thespinneyatvandyke.com
SUMMARY:Slow Flow Yoga: Spine
DESCRIPTION:
URL:https://www.thespinneyatvandyke.com/event/slow-flow-yoga-spine/
LOCATION:Adams Station\, 1 Juniper Drive\, Delmar\, 12054\, United States
CATEGORIES:Wellness
END:VEVENT
BEGIN:VEVENT
DTSTART;TZID=America/New_York:20250916T190000
DTEND;TZID=America/New_York:20250916T200000
DTSTAMP:20260421T203516
CREATED:20250827T135514Z
LAST-MODIFIED:20250827T135514Z
UID:10009008-1758049200-1758052800@www.thespinneyatvandyke.com
SUMMARY:What are You Listening to?
DESCRIPTION:
URL:https://www.thespinneyatvandyke.com/event/what-are-you-listening-to-8/
LOCATION:The Spinney at Van Dyke\, 6 Parker Mathusa Place\, Delmar\, NY\, 12054
CATEGORIES:Intellectual
END:VEVENT
BEGIN:VEVENT
DTSTART;TZID=America/New_York:20250917T130000
DTEND;TZID=America/New_York:20250917T140000
DTSTAMP:20260421T203516
CREATED:20250325T213707Z
LAST-MODIFIED:20260330T174359Z
UID:10005979-1758114000-1758117600@www.thespinneyatvandyke.com
SUMMARY:Nia
DESCRIPTION:
URL:https://www.thespinneyatvandyke.com/event/nia/2025-09-17/
LOCATION:The Spinney at Van Dyke\, 6 Parker Mathusa Place\, Delmar\, NY\, 12054
CATEGORIES:Wellness
END:VEVENT
BEGIN:VEVENT
DTSTART;TZID=America/New_York:20250917T163000
DTEND;TZID=America/New_York:20250917T170000
DTSTAMP:20260421T203516
CREATED:20250325T214941Z
LAST-MODIFIED:20251125T152319Z
UID:10006368-1758126600-1758128400@www.thespinneyatvandyke.com
SUMMARY:Maisie's and Bread Delivery
DESCRIPTION:
URL:https://www.thespinneyatvandyke.com/event/maisies-and-bread-delivery/2025-09-17/
LOCATION:The Spinney at Van Dyke\, 6 Parker Mathusa Place\, Delmar\, NY\, 12054
END:VEVENT
BEGIN:VEVENT
DTSTART;TZID=America/New_York:20250918T090000
DTEND;TZID=America/New_York:20250918T183000
DTSTAMP:20260421T203516
CREATED:20250827T135726Z
LAST-MODIFIED:20250827T135726Z
UID:10009009-1758186000-1758220200@www.thespinneyatvandyke.com
SUMMARY:Flannelfest
DESCRIPTION:
URL:https://www.thespinneyatvandyke.com/event/flannelfest-2/
LOCATION:The Spinney at Van Dyke\, 6 Parker Mathusa Place\, Delmar\, NY\, 12054
CATEGORIES:Social
END:VEVENT
BEGIN:VEVENT
DTSTART;TZID=America/New_York:20250918T123000
DTEND;TZID=America/New_York:20250918T143000
DTSTAMP:20260421T203516
CREATED:20250325T215156Z
LAST-MODIFIED:20251229T165549Z
UID:10006629-1758198600-1758205800@www.thespinneyatvandyke.com
SUMMARY:Hand and Foot Game
DESCRIPTION:
URL:https://www.thespinneyatvandyke.com/event/hand-and-food-game/2025-09-18/
LOCATION:The Spinney at Van Dyke\, 6 Parker Mathusa Place\, Delmar\, NY\, 12054
CATEGORIES:Social
END:VEVENT
BEGIN:VEVENT
DTSTART;TZID=America/New_York:20250919T160000
DTEND;TZID=America/New_York:20250919T180000
DTSTAMP:20260421T203516
CREATED:20250522T164816Z
LAST-MODIFIED:20250625T155348Z
UID:10008554-1758297600-1758304800@www.thespinneyatvandyke.com
SUMMARY:Resident led Happy Hour
DESCRIPTION:
URL:https://www.thespinneyatvandyke.com/event/resident-led-happy-hour-5/2025-09-19/
LOCATION:The Spinney at Van Dyke\, 6 Parker Mathusa Place\, Delmar\, NY\, 12054
CATEGORIES:Social
END:VEVENT
BEGIN:VEVENT
DTSTART;TZID=UTC:20250922T130000
DTEND;TZID=UTC:20250922T140000
DTSTAMP:20260421T203516
CREATED:20230726T230137Z
LAST-MODIFIED:20230726T230137Z
UID:10000726-1758546000-1758549600@www.thespinneyatvandyke.com
SUMMARY:Scrabble
DESCRIPTION:Meet-up with neighbors for a game of Scrabble.
URL:https://www.thespinneyatvandyke.com/event/scrabble/2025-09-22/
LOCATION:The Spinney at Van Dyke\, 6 Parker Mathusa Place\, Delmar\, NY\, 12054
CATEGORIES:Intellectual
END:VEVENT
BEGIN:VEVENT
DTSTART;TZID=America/New_York:20250922T130000
DTEND;TZID=America/New_York:20250922T150000
DTSTAMP:20260421T203516
CREATED:20250325T220820Z
LAST-MODIFIED:20250325T220820Z
UID:10007221-1758546000-1758553200@www.thespinneyatvandyke.com
SUMMARY:Mahjong
DESCRIPTION:Learn to play Mahjong.
URL:https://www.thespinneyatvandyke.com/event/mahjong/2025-09-22/
LOCATION:The Spinney at Van Dyke\, 6 Parker Mathusa Place\, Delmar\, NY\, 12054
CATEGORIES:Social
END:VEVENT
BEGIN:VEVENT
DTSTART;TZID=UTC:20250922T183000
DTEND;TZID=UTC:20250922T203000
DTSTAMP:20260421T203516
CREATED:20230923T225926Z
LAST-MODIFIED:20251229T170229Z
UID:10001957-1758565800-1758573000@www.thespinneyatvandyke.com
SUMMARY:Billiards and Poker
DESCRIPTION:A casual group meet-up of neighbors to play or learn-to-play pool and poker in The Clubhouse.
URL:https://www.thespinneyatvandyke.com/event/billiards-2/2025-09-22/
LOCATION:The Spinney at Van Dyke\, 6 Parker Mathusa Place\, Delmar\, NY\, 12054
CATEGORIES:Intellectual,Social
END:VEVENT
BEGIN:VEVENT
DTSTART;VALUE=DATE:20250923
DTEND;VALUE=DATE:20250924
DTSTAMP:20260421T203516
CREATED:20251002T175522Z
LAST-MODIFIED:20250923T175647Z
UID:10009140-1758585600-1758671999@www.thespinneyatvandyke.com
SUMMARY:Yom Kippur
DESCRIPTION:
URL:https://www.thespinneyatvandyke.com/event/yom-kippur/
LOCATION:NY
END:VEVENT
BEGIN:VEVENT
DTSTART;TZID=America/New_York:20250923T150000
DTEND;TZID=America/New_York:20250923T160000
DTSTAMP:20260421T203516
CREATED:20250827T135850Z
LAST-MODIFIED:20250827T135932Z
UID:10009010-1758639600-1758643200@www.thespinneyatvandyke.com
SUMMARY:Tea and Tranquility Fika
DESCRIPTION:
URL:https://www.thespinneyatvandyke.com/event/tea-and-tranquility-fika/
LOCATION:The Spinney at Van Dyke\, 6 Parker Mathusa Place\, Delmar\, NY\, 12054
CATEGORIES:Social
END:VEVENT
BEGIN:VEVENT
DTSTART;TZID=America/New_York:20250923T160000
DTEND;TZID=America/New_York:20250923T170000
DTSTAMP:20260421T203516
CREATED:20250325T172751Z
LAST-MODIFIED:20260127T165221Z
UID:10013094-1758643200-1758646800@www.thespinneyatvandyke.com
SUMMARY:Handwork
DESCRIPTION:
URL:https://www.thespinneyatvandyke.com/event/handwork/2025-09-23/
LOCATION:The Spinney at Van Dyke\, 6 Parker Mathusa Place\, Delmar\, NY\, 12054
CATEGORIES:Social
END:VEVENT
BEGIN:VEVENT
DTSTART;TZID=America/New_York:20250923T190000
DTEND;TZID=America/New_York:20250923T200000
DTSTAMP:20260421T203516
CREATED:20250827T140021Z
LAST-MODIFIED:20250827T140021Z
UID:10009011-1758654000-1758657600@www.thespinneyatvandyke.com
SUMMARY:What are You Listening to?
DESCRIPTION:
URL:https://www.thespinneyatvandyke.com/event/what-are-you-listening-to-9/
LOCATION:The Spinney at Van Dyke\, 6 Parker Mathusa Place\, Delmar\, NY\, 12054
CATEGORIES:Intellectual
END:VEVENT
BEGIN:VEVENT
DTSTART;TZID=America/New_York:20250924T130000
DTEND;TZID=America/New_York:20250924T140000
DTSTAMP:20260421T203516
CREATED:20250325T213707Z
LAST-MODIFIED:20260330T174359Z
UID:10005980-1758718800-1758722400@www.thespinneyatvandyke.com
SUMMARY:Nia
DESCRIPTION:
URL:https://www.thespinneyatvandyke.com/event/nia/2025-09-24/
LOCATION:The Spinney at Van Dyke\, 6 Parker Mathusa Place\, Delmar\, NY\, 12054
CATEGORIES:Wellness
END:VEVENT
BEGIN:VEVENT
DTSTART;TZID=America/New_York:20250924T140000
DTEND;TZID=America/New_York:20250924T170000
DTSTAMP:20260421T203516
CREATED:20250924T135216Z
LAST-MODIFIED:20251125T152231Z
UID:10009149-1758722400-1758733200@www.thespinneyatvandyke.com
SUMMARY:Baked by Madison Pop Up
DESCRIPTION:
URL:https://www.thespinneyatvandyke.com/event/baked-by-madison-pop-up-2/2025-09-24/
LOCATION:Adams Station\, 1 Juniper Drive\, Delmar\, 12054\, United States
CATEGORIES:Community
END:VEVENT
BEGIN:VEVENT
DTSTART;TZID=America/New_York:20250924T163000
DTEND;TZID=America/New_York:20250924T170000
DTSTAMP:20260421T203516
CREATED:20250325T214941Z
LAST-MODIFIED:20251125T152319Z
UID:10006369-1758731400-1758733200@www.thespinneyatvandyke.com
SUMMARY:Maisie's and Bread Delivery
DESCRIPTION:
URL:https://www.thespinneyatvandyke.com/event/maisies-and-bread-delivery/2025-09-24/
LOCATION:The Spinney at Van Dyke\, 6 Parker Mathusa Place\, Delmar\, NY\, 12054
END:VEVENT
BEGIN:VEVENT
DTSTART;TZID=America/New_York:20250925T123000
DTEND;TZID=America/New_York:20250925T143000
DTSTAMP:20260421T203516
CREATED:20250325T215156Z
LAST-MODIFIED:20251229T165549Z
UID:10006630-1758803400-1758810600@www.thespinneyatvandyke.com
SUMMARY:Hand and Foot Game
DESCRIPTION:
URL:https://www.thespinneyatvandyke.com/event/hand-and-food-game/2025-09-25/
LOCATION:The Spinney at Van Dyke\, 6 Parker Mathusa Place\, Delmar\, NY\, 12054
CATEGORIES:Social
END:VEVENT
BEGIN:VEVENT
DTSTART;TZID=America/New_York:20250925T170000
DTEND;TZID=America/New_York:20250925T190000
DTSTAMP:20260421T203516
CREATED:20250827T140126Z
LAST-MODIFIED:20250827T140126Z
UID:10009012-1758819600-1758826800@www.thespinneyatvandyke.com
SUMMARY:Resident Led Happy Hour
DESCRIPTION:
URL:https://www.thespinneyatvandyke.com/event/resident-led-happy-hour/
LOCATION:The Spinney at Van Dyke\, 6 Parker Mathusa Place\, Delmar\, NY\, 12054
CATEGORIES:Social
END:VEVENT
BEGIN:VEVENT
DTSTART;TZID=America/New_York:20250926T120000
DTEND;TZID=America/New_York:20250926T130000
DTSTAMP:20260421T203516
CREATED:20250827T140221Z
LAST-MODIFIED:20250827T140221Z
UID:10009013-1758888000-1758891600@www.thespinneyatvandyke.com
SUMMARY:Birthday Bash and Apple Pie Bake Off
DESCRIPTION:
URL:https://www.thespinneyatvandyke.com/event/birthday-bash-and-apple-pie-bake-off/
LOCATION:The Spinney at Van Dyke\, 6 Parker Mathusa Place\, Delmar\, NY\, 12054
CATEGORIES:Social
END:VEVENT
BEGIN:VEVENT
DTSTART;TZID=America/New_York:20250926T160000
DTEND;TZID=America/New_York:20250926T180000
DTSTAMP:20260421T203516
CREATED:20250522T164816Z
LAST-MODIFIED:20250625T155348Z
UID:10008555-1758902400-1758909600@www.thespinneyatvandyke.com
SUMMARY:Resident led Happy Hour
DESCRIPTION:
URL:https://www.thespinneyatvandyke.com/event/resident-led-happy-hour-5/2025-09-26/
LOCATION:The Spinney at Van Dyke\, 6 Parker Mathusa Place\, Delmar\, NY\, 12054
CATEGORIES:Social
END:VEVENT
END:VCALENDAR