BEGIN:VCALENDAR
VERSION:2.0
PRODID:-//The Spinney at Van Dyke - ECPv6.15.20//NONSGML v1.0//EN
CALSCALE:GREGORIAN
METHOD:PUBLISH
X-ORIGINAL-URL:https://www.thespinneyatvandyke.com
X-WR-CALDESC:Events for The Spinney at Van Dyke
REFRESH-INTERVAL;VALUE=DURATION:PT1H
X-Robots-Tag:noindex
X-PUBLISHED-TTL:PT1H
BEGIN:VTIMEZONE
TZID:UTC
BEGIN:STANDARD
TZOFFSETFROM:+0000
TZOFFSETTO:+0000
TZNAME:UTC
DTSTART:20250101T000000
END:STANDARD
END:VTIMEZONE
BEGIN:VTIMEZONE
TZID:America/New_York
BEGIN:DAYLIGHT
TZOFFSETFROM:-0500
TZOFFSETTO:-0400
TZNAME:EDT
DTSTART:20250309T070000
END:DAYLIGHT
BEGIN:STANDARD
TZOFFSETFROM:-0400
TZOFFSETTO:-0500
TZNAME:EST
DTSTART:20251102T060000
END:STANDARD
BEGIN:DAYLIGHT
TZOFFSETFROM:-0500
TZOFFSETTO:-0400
TZNAME:EDT
DTSTART:20260308T070000
END:DAYLIGHT
BEGIN:STANDARD
TZOFFSETFROM:-0400
TZOFFSETTO:-0500
TZNAME:EST
DTSTART:20261101T060000
END:STANDARD
BEGIN:DAYLIGHT
TZOFFSETFROM:-0500
TZOFFSETTO:-0400
TZNAME:EDT
DTSTART:20270314T070000
END:DAYLIGHT
BEGIN:STANDARD
TZOFFSETFROM:-0400
TZOFFSETTO:-0500
TZNAME:EST
DTSTART:20271107T060000
END:STANDARD
END:VTIMEZONE
BEGIN:VEVENT
DTSTART;TZID=UTC:20260105T130000
DTEND;TZID=UTC:20260105T140000
DTSTAMP:20260423T120710
CREATED:20230726T230137Z
LAST-MODIFIED:20230726T230137Z
UID:10000741-1767618000-1767621600@www.thespinneyatvandyke.com
SUMMARY:Scrabble
DESCRIPTION:Meet-up with neighbors for a game of Scrabble.
URL:https://www.thespinneyatvandyke.com/event/scrabble/2026-01-05/
LOCATION:The Spinney at Van Dyke\, 6 Parker Mathusa Place\, Delmar\, NY\, 12054
CATEGORIES:Intellectual
END:VEVENT
BEGIN:VEVENT
DTSTART;TZID=America/New_York:20260105T130000
DTEND;TZID=America/New_York:20260105T150000
DTSTAMP:20260423T120710
CREATED:20250325T220820Z
LAST-MODIFIED:20250325T220820Z
UID:10007236-1767618000-1767625200@www.thespinneyatvandyke.com
SUMMARY:Mahjong
DESCRIPTION:Learn to play Mahjong.
URL:https://www.thespinneyatvandyke.com/event/mahjong/2026-01-05/
LOCATION:The Spinney at Van Dyke\, 6 Parker Mathusa Place\, Delmar\, NY\, 12054
CATEGORIES:Social
END:VEVENT
BEGIN:VEVENT
DTSTART;TZID=UTC:20260105T183000
DTEND;TZID=UTC:20260105T203000
DTSTAMP:20260423T120710
CREATED:20230923T225926Z
LAST-MODIFIED:20251229T170229Z
UID:10001972-1767637800-1767645000@www.thespinneyatvandyke.com
SUMMARY:Billiards and Poker
DESCRIPTION:A casual group meet-up of neighbors to play or learn-to-play pool and poker in The Clubhouse.
URL:https://www.thespinneyatvandyke.com/event/billiards-2/2026-01-05/
LOCATION:The Spinney at Van Dyke\, 6 Parker Mathusa Place\, Delmar\, NY\, 12054
CATEGORIES:Intellectual,Social
END:VEVENT
BEGIN:VEVENT
DTSTART;TZID=America/New_York:20260106T113000
DTEND;TZID=America/New_York:20260106T123000
DTSTAMP:20260423T120710
CREATED:20251229T170553Z
LAST-MODIFIED:20251229T170553Z
UID:10012796-1767699000-1767702600@www.thespinneyatvandyke.com
SUMMARY:History Club
DESCRIPTION:
URL:https://www.thespinneyatvandyke.com/event/history-club-5/2026-01-06/
LOCATION:The Spinney at Van Dyke\, 6 Parker Mathusa Place\, Delmar\, NY\, 12054
CATEGORIES:Intellectual
END:VEVENT
BEGIN:VEVENT
DTSTART;TZID=America/New_York:20260106T113000
DTEND;TZID=America/New_York:20260106T130000
DTSTAMP:20260423T120710
CREATED:20251229T170358Z
LAST-MODIFIED:20251229T170358Z
UID:10012795-1767699000-1767704400@www.thespinneyatvandyke.com
SUMMARY:Lunch &Learn: The Body Wisdom Breakthrough with Ashley Schoborg
DESCRIPTION:
URL:https://www.thespinneyatvandyke.com/event/lunch-learn-the-body-wisdom-breakthrough-with-ashley-schoborg/
LOCATION:The Spinney at Van Dyke\, 6 Parker Mathusa Place\, Delmar\, NY\, 12054
CATEGORIES:Intellectual
END:VEVENT
BEGIN:VEVENT
DTSTART;TZID=America/New_York:20260106T160000
DTEND;TZID=America/New_York:20260106T170000
DTSTAMP:20260423T120710
CREATED:20250325T172751Z
LAST-MODIFIED:20260127T165221Z
UID:10013109-1767715200-1767718800@www.thespinneyatvandyke.com
SUMMARY:Handwork
DESCRIPTION:
URL:https://www.thespinneyatvandyke.com/event/handwork/2026-01-06/
LOCATION:The Spinney at Van Dyke\, 6 Parker Mathusa Place\, Delmar\, NY\, 12054
CATEGORIES:Social
END:VEVENT
BEGIN:VEVENT
DTSTART;TZID=America/New_York:20260107T093000
DTEND;TZID=America/New_York:20260107T100000
DTSTAMP:20260423T120710
CREATED:20251125T152032Z
LAST-MODIFIED:20251125T152032Z
UID:10011008-1767778200-1767780000@www.thespinneyatvandyke.com
SUMMARY:Egg Delivery
DESCRIPTION:
URL:https://www.thespinneyatvandyke.com/event/egg-delivery/2026-01-07/
LOCATION:The Spinney at Van Dyke\, 6 Parker Mathusa Place\, Delmar\, NY\, 12054
END:VEVENT
BEGIN:VEVENT
DTSTART;TZID=America/New_York:20260107T130000
DTEND;TZID=America/New_York:20260107T140000
DTSTAMP:20260423T120710
CREATED:20250325T213707Z
LAST-MODIFIED:20260330T174359Z
UID:10013717-1767790800-1767794400@www.thespinneyatvandyke.com
SUMMARY:Nia
DESCRIPTION:
URL:https://www.thespinneyatvandyke.com/event/nia/2026-01-07/
LOCATION:The Spinney at Van Dyke\, 6 Parker Mathusa Place\, Delmar\, NY\, 12054
CATEGORIES:Wellness
END:VEVENT
BEGIN:VEVENT
DTSTART;TZID=America/New_York:20260107T140000
DTEND;TZID=America/New_York:20260107T170000
DTSTAMP:20260423T120710
CREATED:20250924T135216Z
LAST-MODIFIED:20251125T152231Z
UID:10009164-1767794400-1767805200@www.thespinneyatvandyke.com
SUMMARY:Baked by Madison Pop Up
DESCRIPTION:
URL:https://www.thespinneyatvandyke.com/event/baked-by-madison-pop-up-2/2026-01-07/
LOCATION:Adams Station\, 1 Juniper Drive\, Delmar\, 12054\, United States
CATEGORIES:Community
END:VEVENT
BEGIN:VEVENT
DTSTART;TZID=America/New_York:20260107T163000
DTEND;TZID=America/New_York:20260107T170000
DTSTAMP:20260423T120710
CREATED:20250325T214941Z
LAST-MODIFIED:20251125T152319Z
UID:10006384-1767803400-1767805200@www.thespinneyatvandyke.com
SUMMARY:Maisie's and Bread Delivery
DESCRIPTION:
URL:https://www.thespinneyatvandyke.com/event/maisies-and-bread-delivery/2026-01-07/
LOCATION:The Spinney at Van Dyke\, 6 Parker Mathusa Place\, Delmar\, NY\, 12054
END:VEVENT
BEGIN:VEVENT
DTSTART;TZID=America/New_York:20260107T173000
DTEND;TZID=America/New_York:20260107T183000
DTSTAMP:20260423T120710
CREATED:20251229T170926Z
LAST-MODIFIED:20251229T170926Z
UID:10012862-1767807000-1767810600@www.thespinneyatvandyke.com
SUMMARY:An Evening with the Simon & Garfunkel Tribute Duo
DESCRIPTION:
URL:https://www.thespinneyatvandyke.com/event/an-evening-with-the-simon-garfunkel-tribute-duo/
LOCATION:The Spinney at Van Dyke\, 6 Parker Mathusa Place\, Delmar\, NY\, 12054
CATEGORIES:Social
END:VEVENT
BEGIN:VEVENT
DTSTART;TZID=America/New_York:20260108T083000
DTEND;TZID=America/New_York:20260108T093000
DTSTAMP:20260423T120710
CREATED:20251028T182158Z
LAST-MODIFIED:20260422T195255Z
UID:10009550-1767861000-1767864600@www.thespinneyatvandyke.com
SUMMARY:Spinney Strength
DESCRIPTION:
URL:https://www.thespinneyatvandyke.com/event/spinney-strength-3-2/2026-01-08/
LOCATION:The Spinney at Van Dyke\, 6 Parker Mathusa Place\, Delmar\, NY\, 12054
CATEGORIES:Wellness
END:VEVENT
BEGIN:VEVENT
DTSTART;TZID=America/New_York:20260108T100000
DTEND;TZID=America/New_York:20260108T120000
DTSTAMP:20260423T120710
CREATED:20251125T152728Z
LAST-MODIFIED:20260422T195359Z
UID:10011354-1767866400-1767873600@www.thespinneyatvandyke.com
SUMMARY:Bridge
DESCRIPTION:
URL:https://www.thespinneyatvandyke.com/event/bridge/2026-01-08/
LOCATION:NY
CATEGORIES:Social
END:VEVENT
BEGIN:VEVENT
DTSTART;TZID=America/New_York:20260108T123000
DTEND;TZID=America/New_York:20260108T143000
DTSTAMP:20260423T120710
CREATED:20250325T215156Z
LAST-MODIFIED:20260422T195533Z
UID:10006645-1767875400-1767882600@www.thespinneyatvandyke.com
SUMMARY:Hand and Foot Game
DESCRIPTION:
URL:https://www.thespinneyatvandyke.com/event/hand-and-food-game/2026-01-08/
LOCATION:The Spinney at Van Dyke\, 6 Parker Mathusa Place\, Delmar\, NY\, 12054
CATEGORIES:Social
END:VEVENT
BEGIN:VEVENT
DTSTART;TZID=America/New_York:20260108T143000
DTEND;TZID=America/New_York:20260108T163000
DTSTAMP:20260423T120710
CREATED:20250325T223133Z
LAST-MODIFIED:20250325T223133Z
UID:10007469-1767882600-1767889800@www.thespinneyatvandyke.com
SUMMARY:Crafternoon
DESCRIPTION:
URL:https://www.thespinneyatvandyke.com/event/crafternoon-3/2026-01-08/
LOCATION:The Spinney at Van Dyke\, 6 Parker Mathusa Place\, Delmar\, NY\, 12054
CATEGORIES:Intellectual
END:VEVENT
BEGIN:VEVENT
DTSTART;TZID=America/New_York:20260109T090000
DTEND;TZID=America/New_York:20260109T093000
DTSTAMP:20260423T120710
CREATED:20251125T144048Z
LAST-MODIFIED:20260330T172901Z
UID:10011912-1767949200-1767951000@www.thespinneyatvandyke.com
SUMMARY:Spring Stroll
DESCRIPTION:
URL:https://www.thespinneyatvandyke.com/event/winter-walk-2/2026-01-09/
LOCATION:The Spinney at Van Dyke\, 6 Parker Mathusa Place\, Delmar\, NY\, 12054
CATEGORIES:Environmental
END:VEVENT
BEGIN:VEVENT
DTSTART;TZID=America/New_York:20260109T100000
DTEND;TZID=America/New_York:20260109T110000
DTSTAMP:20260423T120710
CREATED:20251229T171119Z
LAST-MODIFIED:20251229T171119Z
UID:10012863-1767952800-1767956400@www.thespinneyatvandyke.com
SUMMARY:A Brighter Year Together
DESCRIPTION:
URL:https://www.thespinneyatvandyke.com/event/a-brighter-year-together/2026-01-09/
LOCATION:NY
CATEGORIES:Intellectual
END:VEVENT
BEGIN:VEVENT
DTSTART;TZID=America/New_York:20260109T160000
DTEND;TZID=America/New_York:20260109T180000
DTSTAMP:20260423T120710
CREATED:20250522T164816Z
LAST-MODIFIED:20250625T155348Z
UID:10008570-1767974400-1767981600@www.thespinneyatvandyke.com
SUMMARY:Resident led Happy Hour
DESCRIPTION:
URL:https://www.thespinneyatvandyke.com/event/resident-led-happy-hour-5/2026-01-09/
LOCATION:The Spinney at Van Dyke\, 6 Parker Mathusa Place\, Delmar\, NY\, 12054
CATEGORIES:Social
END:VEVENT
BEGIN:VEVENT
DTSTART;TZID=America/New_York:20260111T140000
DTEND;TZID=America/New_York:20260111T150000
DTSTAMP:20260423T120710
CREATED:20251229T171227Z
LAST-MODIFIED:20251229T171227Z
UID:10012875-1768140000-1768143600@www.thespinneyatvandyke.com
SUMMARY:Bingo
DESCRIPTION:
URL:https://www.thespinneyatvandyke.com/event/bingo-9/
LOCATION:The Spinney at Van Dyke\, 6 Parker Mathusa Place\, Delmar\, NY\, 12054
CATEGORIES:Social
END:VEVENT
BEGIN:VEVENT
DTSTART;TZID=America/New_York:20260112T090000
DTEND;TZID=America/New_York:20260112T093000
DTSTAMP:20260423T120710
CREATED:20251125T144048Z
LAST-MODIFIED:20260330T172901Z
UID:10011913-1768208400-1768210200@www.thespinneyatvandyke.com
SUMMARY:Spring Stroll
DESCRIPTION:
URL:https://www.thespinneyatvandyke.com/event/winter-walk-2/2026-01-12/
LOCATION:The Spinney at Van Dyke\, 6 Parker Mathusa Place\, Delmar\, NY\, 12054
CATEGORIES:Environmental
END:VEVENT
BEGIN:VEVENT
DTSTART;TZID=America/New_York:20260112T103000
DTEND;TZID=America/New_York:20260112T113000
DTSTAMP:20260423T120710
CREATED:20251229T170104Z
LAST-MODIFIED:20251229T170104Z
UID:10012432-1768213800-1768217400@www.thespinneyatvandyke.com
SUMMARY:Essentrics Group Exercise Class
DESCRIPTION:
URL:https://www.thespinneyatvandyke.com/event/essentrics-group-exercise-class/2026-01-12/
LOCATION:The Spinney at Van Dyke\, 6 Parker Mathusa Place\, Delmar\, NY\, 12054
CATEGORIES:Wellness
END:VEVENT
BEGIN:VEVENT
DTSTART;TZID=UTC:20260112T130000
DTEND;TZID=UTC:20260112T140000
DTSTAMP:20260423T120710
CREATED:20230726T230137Z
LAST-MODIFIED:20230726T230137Z
UID:10000742-1768222800-1768226400@www.thespinneyatvandyke.com
SUMMARY:Scrabble
DESCRIPTION:Meet-up with neighbors for a game of Scrabble.
URL:https://www.thespinneyatvandyke.com/event/scrabble/2026-01-12/
LOCATION:The Spinney at Van Dyke\, 6 Parker Mathusa Place\, Delmar\, NY\, 12054
CATEGORIES:Intellectual
END:VEVENT
BEGIN:VEVENT
DTSTART;TZID=America/New_York:20260112T130000
DTEND;TZID=America/New_York:20260112T150000
DTSTAMP:20260423T120710
CREATED:20250325T220820Z
LAST-MODIFIED:20250325T220820Z
UID:10007237-1768222800-1768230000@www.thespinneyatvandyke.com
SUMMARY:Mahjong
DESCRIPTION:Learn to play Mahjong.
URL:https://www.thespinneyatvandyke.com/event/mahjong/2026-01-12/
LOCATION:The Spinney at Van Dyke\, 6 Parker Mathusa Place\, Delmar\, NY\, 12054
CATEGORIES:Social
END:VEVENT
BEGIN:VEVENT
DTSTART;TZID=UTC:20260112T183000
DTEND;TZID=UTC:20260112T203000
DTSTAMP:20260423T120710
CREATED:20230923T225926Z
LAST-MODIFIED:20251229T170229Z
UID:10001973-1768242600-1768249800@www.thespinneyatvandyke.com
SUMMARY:Billiards and Poker
DESCRIPTION:A casual group meet-up of neighbors to play or learn-to-play pool and poker in The Clubhouse.
URL:https://www.thespinneyatvandyke.com/event/billiards-2/2026-01-12/
LOCATION:The Spinney at Van Dyke\, 6 Parker Mathusa Place\, Delmar\, NY\, 12054
CATEGORIES:Intellectual,Social
END:VEVENT
BEGIN:VEVENT
DTSTART;TZID=America/New_York:20260113T110000
DTEND;TZID=America/New_York:20260113T120000
DTSTAMP:20260423T120710
CREATED:20251229T171333Z
LAST-MODIFIED:20251229T171333Z
UID:10012876-1768302000-1768305600@www.thespinneyatvandyke.com
SUMMARY:Kitten Angels Presentation
DESCRIPTION:
URL:https://www.thespinneyatvandyke.com/event/kitten-angels-presentation/
LOCATION:The Spinney at Van Dyke\, 6 Parker Mathusa Place\, Delmar\, NY\, 12054
CATEGORIES:Community
END:VEVENT
BEGIN:VEVENT
DTSTART;TZID=America/New_York:20260113T130000
DTEND;TZID=America/New_York:20260113T150000
DTSTAMP:20260423T120710
CREATED:20251229T171406Z
LAST-MODIFIED:20251229T171406Z
UID:10012877-1768309200-1768316400@www.thespinneyatvandyke.com
SUMMARY:Movie Matinee
DESCRIPTION:
URL:https://www.thespinneyatvandyke.com/event/movie-matinee-29/
LOCATION:The Spinney at Van Dyke\, 6 Parker Mathusa Place\, Delmar\, NY\, 12054
CATEGORIES:Social
END:VEVENT
BEGIN:VEVENT
DTSTART;TZID=America/New_York:20260113T160000
DTEND;TZID=America/New_York:20260113T170000
DTSTAMP:20260423T120710
CREATED:20250325T172751Z
LAST-MODIFIED:20260127T165221Z
UID:10013110-1768320000-1768323600@www.thespinneyatvandyke.com
SUMMARY:Handwork
DESCRIPTION:
URL:https://www.thespinneyatvandyke.com/event/handwork/2026-01-13/
LOCATION:The Spinney at Van Dyke\, 6 Parker Mathusa Place\, Delmar\, NY\, 12054
CATEGORIES:Social
END:VEVENT
BEGIN:VEVENT
DTSTART;TZID=America/New_York:20260114T093000
DTEND;TZID=America/New_York:20260114T100000
DTSTAMP:20260423T120710
CREATED:20251125T152032Z
LAST-MODIFIED:20251125T152032Z
UID:10011009-1768383000-1768384800@www.thespinneyatvandyke.com
SUMMARY:Egg Delivery
DESCRIPTION:
URL:https://www.thespinneyatvandyke.com/event/egg-delivery/2026-01-14/
LOCATION:The Spinney at Van Dyke\, 6 Parker Mathusa Place\, Delmar\, NY\, 12054
END:VEVENT
BEGIN:VEVENT
DTSTART;TZID=America/New_York:20260114T130000
DTEND;TZID=America/New_York:20260114T140000
DTSTAMP:20260423T120710
CREATED:20250325T213707Z
LAST-MODIFIED:20260330T174359Z
UID:10013718-1768395600-1768399200@www.thespinneyatvandyke.com
SUMMARY:Nia
DESCRIPTION:
URL:https://www.thespinneyatvandyke.com/event/nia/2026-01-14/
LOCATION:The Spinney at Van Dyke\, 6 Parker Mathusa Place\, Delmar\, NY\, 12054
CATEGORIES:Wellness
END:VEVENT
BEGIN:VEVENT
DTSTART;TZID=America/New_York:20260114T140000
DTEND;TZID=America/New_York:20260114T170000
DTSTAMP:20260423T120710
CREATED:20250924T135216Z
LAST-MODIFIED:20251125T152231Z
UID:10009165-1768399200-1768410000@www.thespinneyatvandyke.com
SUMMARY:Baked by Madison Pop Up
DESCRIPTION:
URL:https://www.thespinneyatvandyke.com/event/baked-by-madison-pop-up-2/2026-01-14/
LOCATION:Adams Station\, 1 Juniper Drive\, Delmar\, 12054\, United States
CATEGORIES:Community
END:VEVENT
END:VCALENDAR