BEGIN:VCALENDAR
VERSION:2.0
PRODID:-//The Spinney at Van Dyke - ECPv6.15.20//NONSGML v1.0//EN
CALSCALE:GREGORIAN
METHOD:PUBLISH
X-WR-CALNAME:The Spinney at Van Dyke
X-ORIGINAL-URL:https://www.thespinneyatvandyke.com
X-WR-CALDESC:Events for The Spinney at Van Dyke
REFRESH-INTERVAL;VALUE=DURATION:PT1H
X-Robots-Tag:noindex
X-PUBLISHED-TTL:PT1H
BEGIN:VTIMEZONE
TZID:America/New_York
BEGIN:DAYLIGHT
TZOFFSETFROM:-0500
TZOFFSETTO:-0400
TZNAME:EDT
DTSTART:20240310T070000
END:DAYLIGHT
BEGIN:STANDARD
TZOFFSETFROM:-0400
TZOFFSETTO:-0500
TZNAME:EST
DTSTART:20241103T060000
END:STANDARD
BEGIN:DAYLIGHT
TZOFFSETFROM:-0500
TZOFFSETTO:-0400
TZNAME:EDT
DTSTART:20250309T070000
END:DAYLIGHT
BEGIN:STANDARD
TZOFFSETFROM:-0400
TZOFFSETTO:-0500
TZNAME:EST
DTSTART:20251102T060000
END:STANDARD
BEGIN:DAYLIGHT
TZOFFSETFROM:-0500
TZOFFSETTO:-0400
TZNAME:EDT
DTSTART:20260308T070000
END:DAYLIGHT
BEGIN:STANDARD
TZOFFSETFROM:-0400
TZOFFSETTO:-0500
TZNAME:EST
DTSTART:20261101T060000
END:STANDARD
END:VTIMEZONE
BEGIN:VTIMEZONE
TZID:UTC
BEGIN:STANDARD
TZOFFSETFROM:+0000
TZOFFSETTO:+0000
TZNAME:UTC
DTSTART:20240101T000000
END:STANDARD
END:VTIMEZONE
BEGIN:VEVENT
DTSTART;TZID=America/New_York:20251017T090000
DTEND;TZID=America/New_York:20251017T093000
DTSTAMP:20260421T183852
CREATED:20250923T175320Z
LAST-MODIFIED:20250923T175320Z
UID:10009021-1760691600-1760693400@www.thespinneyatvandyke.com
SUMMARY:Fall Frolic
DESCRIPTION:
URL:https://www.thespinneyatvandyke.com/event/fall-frolic/2025-10-17/
LOCATION:The Spinney at Van Dyke\, 6 Parker Mathusa Place\, Delmar\, NY\, 12054
CATEGORIES:Environmental
END:VEVENT
BEGIN:VEVENT
DTSTART;TZID=America/New_York:20251017T160000
DTEND;TZID=America/New_York:20251017T180000
DTSTAMP:20260421T183852
CREATED:20250522T164816Z
LAST-MODIFIED:20250625T155348Z
UID:10008558-1760716800-1760724000@www.thespinneyatvandyke.com
SUMMARY:Resident led Happy Hour
DESCRIPTION:
URL:https://www.thespinneyatvandyke.com/event/resident-led-happy-hour-5/2025-10-17/
LOCATION:The Spinney at Van Dyke\, 6 Parker Mathusa Place\, Delmar\, NY\, 12054
CATEGORIES:Social
END:VEVENT
BEGIN:VEVENT
DTSTART;TZID=America/New_York:20251020T090000
DTEND;TZID=America/New_York:20251020T093000
DTSTAMP:20260421T183852
CREATED:20250923T175320Z
LAST-MODIFIED:20250923T175320Z
UID:10009022-1760950800-1760952600@www.thespinneyatvandyke.com
SUMMARY:Fall Frolic
DESCRIPTION:
URL:https://www.thespinneyatvandyke.com/event/fall-frolic/2025-10-20/
LOCATION:The Spinney at Van Dyke\, 6 Parker Mathusa Place\, Delmar\, NY\, 12054
CATEGORIES:Environmental
END:VEVENT
BEGIN:VEVENT
DTSTART;TZID=America/New_York:20251020T093000
DTEND;TZID=America/New_York:20251020T103000
DTSTAMP:20260421T183852
CREATED:20250924T141024Z
LAST-MODIFIED:20250924T141024Z
UID:10009444-1760952600-1760956200@www.thespinneyatvandyke.com
SUMMARY:Bright Start: Parfaits & Power\, Community Solar Breakfast Event
DESCRIPTION:
URL:https://www.thespinneyatvandyke.com/event/bright-start-parfaits-power-community-solar-breakfast-event/
LOCATION:The Spinney at Van Dyke\, 6 Parker Mathusa Place\, Delmar\, NY\, 12054
CATEGORIES:Intellectual
END:VEVENT
BEGIN:VEVENT
DTSTART;TZID=UTC:20251020T130000
DTEND;TZID=UTC:20251020T140000
DTSTAMP:20260421T183852
CREATED:20230726T230137Z
LAST-MODIFIED:20230726T230137Z
UID:10000730-1760965200-1760968800@www.thespinneyatvandyke.com
SUMMARY:Scrabble
DESCRIPTION:Meet-up with neighbors for a game of Scrabble.
URL:https://www.thespinneyatvandyke.com/event/scrabble/2025-10-20/
LOCATION:The Spinney at Van Dyke\, 6 Parker Mathusa Place\, Delmar\, NY\, 12054
CATEGORIES:Intellectual
END:VEVENT
BEGIN:VEVENT
DTSTART;TZID=America/New_York:20251020T130000
DTEND;TZID=America/New_York:20251020T150000
DTSTAMP:20260421T183852
CREATED:20250325T220820Z
LAST-MODIFIED:20250325T220820Z
UID:10007225-1760965200-1760972400@www.thespinneyatvandyke.com
SUMMARY:Mahjong
DESCRIPTION:Learn to play Mahjong.
URL:https://www.thespinneyatvandyke.com/event/mahjong/2025-10-20/
LOCATION:The Spinney at Van Dyke\, 6 Parker Mathusa Place\, Delmar\, NY\, 12054
CATEGORIES:Social
END:VEVENT
BEGIN:VEVENT
DTSTART;TZID=UTC:20251020T183000
DTEND;TZID=UTC:20251020T203000
DTSTAMP:20260421T183852
CREATED:20230923T225926Z
LAST-MODIFIED:20251229T170229Z
UID:10001961-1760985000-1760992200@www.thespinneyatvandyke.com
SUMMARY:Billiards and Poker
DESCRIPTION:A casual group meet-up of neighbors to play or learn-to-play pool and poker in The Clubhouse.
URL:https://www.thespinneyatvandyke.com/event/billiards-2/2025-10-20/
LOCATION:The Spinney at Van Dyke\, 6 Parker Mathusa Place\, Delmar\, NY\, 12054
CATEGORIES:Intellectual,Social
END:VEVENT
BEGIN:VEVENT
DTSTART;TZID=America/New_York:20251021T130000
DTEND;TZID=America/New_York:20251021T140000
DTSTAMP:20260421T183852
CREATED:20250924T141140Z
LAST-MODIFIED:20250924T141140Z
UID:10009445-1761051600-1761055200@www.thespinneyatvandyke.com
SUMMARY:Trivia and Treats
DESCRIPTION:
URL:https://www.thespinneyatvandyke.com/event/trivia-and-treats-2/
LOCATION:The Spinney at Van Dyke\, 6 Parker Mathusa Place\, Delmar\, NY\, 12054
CATEGORIES:Social
END:VEVENT
BEGIN:VEVENT
DTSTART;TZID=America/New_York:20251021T160000
DTEND;TZID=America/New_York:20251021T170000
DTSTAMP:20260421T183852
CREATED:20250325T172751Z
LAST-MODIFIED:20260127T165221Z
UID:10013098-1761062400-1761066000@www.thespinneyatvandyke.com
SUMMARY:Handwork
DESCRIPTION:
URL:https://www.thespinneyatvandyke.com/event/handwork/2025-10-21/
LOCATION:The Spinney at Van Dyke\, 6 Parker Mathusa Place\, Delmar\, NY\, 12054
CATEGORIES:Social
END:VEVENT
BEGIN:VEVENT
DTSTART;TZID=America/New_York:20251021T190000
DTEND;TZID=America/New_York:20251021T200000
DTSTAMP:20260421T183852
CREATED:20250924T141236Z
LAST-MODIFIED:20250924T141236Z
UID:10009446-1761073200-1761076800@www.thespinneyatvandyke.com
SUMMARY:What are you listening to?
DESCRIPTION:
URL:https://www.thespinneyatvandyke.com/event/what-are-you-listening-to-12/
LOCATION:The Spinney at Van Dyke\, 6 Parker Mathusa Place\, Delmar\, NY\, 12054
CATEGORIES:Intellectual
END:VEVENT
BEGIN:VEVENT
DTSTART;TZID=America/New_York:20251022T130000
DTEND;TZID=America/New_York:20251022T140000
DTSTAMP:20260421T183852
CREATED:20250325T213707Z
LAST-MODIFIED:20260330T174359Z
UID:10005984-1761138000-1761141600@www.thespinneyatvandyke.com
SUMMARY:Nia
DESCRIPTION:
URL:https://www.thespinneyatvandyke.com/event/nia/2025-10-22/
LOCATION:The Spinney at Van Dyke\, 6 Parker Mathusa Place\, Delmar\, NY\, 12054
CATEGORIES:Wellness
END:VEVENT
BEGIN:VEVENT
DTSTART;TZID=America/New_York:20251022T140000
DTEND;TZID=America/New_York:20251022T170000
DTSTAMP:20260421T183852
CREATED:20250924T135216Z
LAST-MODIFIED:20251125T152231Z
UID:10009153-1761141600-1761152400@www.thespinneyatvandyke.com
SUMMARY:Baked by Madison Pop Up
DESCRIPTION:
URL:https://www.thespinneyatvandyke.com/event/baked-by-madison-pop-up-2/2025-10-22/
LOCATION:Adams Station\, 1 Juniper Drive\, Delmar\, 12054\, United States
CATEGORIES:Community
END:VEVENT
BEGIN:VEVENT
DTSTART;TZID=America/New_York:20251022T163000
DTEND;TZID=America/New_York:20251022T170000
DTSTAMP:20260421T183852
CREATED:20250325T214941Z
LAST-MODIFIED:20251125T152319Z
UID:10006373-1761150600-1761152400@www.thespinneyatvandyke.com
SUMMARY:Maisie's and Bread Delivery
DESCRIPTION:
URL:https://www.thespinneyatvandyke.com/event/maisies-and-bread-delivery/2025-10-22/
LOCATION:The Spinney at Van Dyke\, 6 Parker Mathusa Place\, Delmar\, NY\, 12054
END:VEVENT
BEGIN:VEVENT
DTSTART;TZID=America/New_York:20251023T123000
DTEND;TZID=America/New_York:20251023T143000
DTSTAMP:20260421T183852
CREATED:20250325T215156Z
LAST-MODIFIED:20251229T165549Z
UID:10006634-1761222600-1761229800@www.thespinneyatvandyke.com
SUMMARY:Hand and Foot Game
DESCRIPTION:
URL:https://www.thespinneyatvandyke.com/event/hand-and-food-game/2025-10-23/
LOCATION:The Spinney at Van Dyke\, 6 Parker Mathusa Place\, Delmar\, NY\, 12054
CATEGORIES:Social
END:VEVENT
BEGIN:VEVENT
DTSTART;TZID=America/New_York:20251024T090000
DTEND;TZID=America/New_York:20251024T093000
DTSTAMP:20260421T183852
CREATED:20250923T175320Z
LAST-MODIFIED:20250923T175320Z
UID:10009023-1761296400-1761298200@www.thespinneyatvandyke.com
SUMMARY:Fall Frolic
DESCRIPTION:
URL:https://www.thespinneyatvandyke.com/event/fall-frolic/2025-10-24/
LOCATION:The Spinney at Van Dyke\, 6 Parker Mathusa Place\, Delmar\, NY\, 12054
CATEGORIES:Environmental
END:VEVENT
BEGIN:VEVENT
DTSTART;TZID=America/New_York:20251024T160000
DTEND;TZID=America/New_York:20251024T180000
DTSTAMP:20260421T183852
CREATED:20250522T164816Z
LAST-MODIFIED:20250625T155348Z
UID:10008559-1761321600-1761328800@www.thespinneyatvandyke.com
SUMMARY:Resident led Happy Hour
DESCRIPTION:
URL:https://www.thespinneyatvandyke.com/event/resident-led-happy-hour-5/2025-10-24/
LOCATION:The Spinney at Van Dyke\, 6 Parker Mathusa Place\, Delmar\, NY\, 12054
CATEGORIES:Social
END:VEVENT
BEGIN:VEVENT
DTSTART;TZID=America/New_York:20251027T090000
DTEND;TZID=America/New_York:20251027T093000
DTSTAMP:20260421T183852
CREATED:20250923T175320Z
LAST-MODIFIED:20250923T175320Z
UID:10009024-1761555600-1761557400@www.thespinneyatvandyke.com
SUMMARY:Fall Frolic
DESCRIPTION:
URL:https://www.thespinneyatvandyke.com/event/fall-frolic/2025-10-27/
LOCATION:The Spinney at Van Dyke\, 6 Parker Mathusa Place\, Delmar\, NY\, 12054
CATEGORIES:Environmental
END:VEVENT
BEGIN:VEVENT
DTSTART;TZID=UTC:20251027T130000
DTEND;TZID=UTC:20251027T140000
DTSTAMP:20260421T183852
CREATED:20230726T230137Z
LAST-MODIFIED:20230726T230137Z
UID:10000731-1761570000-1761573600@www.thespinneyatvandyke.com
SUMMARY:Scrabble
DESCRIPTION:Meet-up with neighbors for a game of Scrabble.
URL:https://www.thespinneyatvandyke.com/event/scrabble/2025-10-27/
LOCATION:The Spinney at Van Dyke\, 6 Parker Mathusa Place\, Delmar\, NY\, 12054
CATEGORIES:Intellectual
END:VEVENT
BEGIN:VEVENT
DTSTART;TZID=America/New_York:20251027T130000
DTEND;TZID=America/New_York:20251027T150000
DTSTAMP:20260421T183852
CREATED:20250325T220820Z
LAST-MODIFIED:20250325T220820Z
UID:10007226-1761570000-1761577200@www.thespinneyatvandyke.com
SUMMARY:Mahjong
DESCRIPTION:Learn to play Mahjong.
URL:https://www.thespinneyatvandyke.com/event/mahjong/2025-10-27/
LOCATION:The Spinney at Van Dyke\, 6 Parker Mathusa Place\, Delmar\, NY\, 12054
CATEGORIES:Social
END:VEVENT
BEGIN:VEVENT
DTSTART;TZID=UTC:20251027T183000
DTEND;TZID=UTC:20251027T203000
DTSTAMP:20260421T183852
CREATED:20230923T225926Z
LAST-MODIFIED:20251229T170229Z
UID:10001962-1761589800-1761597000@www.thespinneyatvandyke.com
SUMMARY:Billiards and Poker
DESCRIPTION:A casual group meet-up of neighbors to play or learn-to-play pool and poker in The Clubhouse.
URL:https://www.thespinneyatvandyke.com/event/billiards-2/2025-10-27/
LOCATION:The Spinney at Van Dyke\, 6 Parker Mathusa Place\, Delmar\, NY\, 12054
CATEGORIES:Intellectual,Social
END:VEVENT
BEGIN:VEVENT
DTSTART;TZID=America/New_York:20251028T100000
DTEND;TZID=America/New_York:20251028T110000
DTSTAMP:20260421T183852
CREATED:20250924T141347Z
LAST-MODIFIED:20250924T141347Z
UID:10009447-1761645600-1761649200@www.thespinneyatvandyke.com
SUMMARY:Tree Planting
DESCRIPTION:
URL:https://www.thespinneyatvandyke.com/event/tree-planting/
LOCATION:The Spinney at Van Dyke\, 6 Parker Mathusa Place\, Delmar\, NY\, 12054
CATEGORIES:Environmental
END:VEVENT
BEGIN:VEVENT
DTSTART;TZID=America/New_York:20251028T110000
DTEND;TZID=America/New_York:20251028T120000
DTSTAMP:20260421T183852
CREATED:20250326T005901Z
LAST-MODIFIED:20260127T172221Z
UID:10013568-1761649200-1761652800@www.thespinneyatvandyke.com
SUMMARY:Book Club
DESCRIPTION:
URL:https://www.thespinneyatvandyke.com/event/book-club-3/2025-10-28/
LOCATION:The Spinney at Van Dyke\, 6 Parker Mathusa Place\, Delmar\, NY\, 12054
CATEGORIES:Intellectual
END:VEVENT
BEGIN:VEVENT
DTSTART;TZID=America/New_York:20251028T130000
DTEND;TZID=America/New_York:20251028T150000
DTSTAMP:20260421T183852
CREATED:20250924T141429Z
LAST-MODIFIED:20250924T141429Z
UID:10009448-1761656400-1761663600@www.thespinneyatvandyke.com
SUMMARY:Movie Matinee
DESCRIPTION:
URL:https://www.thespinneyatvandyke.com/event/movie-matinee-24/
LOCATION:The Spinney at Van Dyke\, 6 Parker Mathusa Place\, Delmar\, NY\, 12054
CATEGORIES:Social
END:VEVENT
BEGIN:VEVENT
DTSTART;TZID=America/New_York:20251028T160000
DTEND;TZID=America/New_York:20251028T170000
DTSTAMP:20260421T183852
CREATED:20250325T172751Z
LAST-MODIFIED:20260127T165221Z
UID:10013099-1761667200-1761670800@www.thespinneyatvandyke.com
SUMMARY:Handwork
DESCRIPTION:
URL:https://www.thespinneyatvandyke.com/event/handwork/2025-10-28/
LOCATION:The Spinney at Van Dyke\, 6 Parker Mathusa Place\, Delmar\, NY\, 12054
CATEGORIES:Social
END:VEVENT
BEGIN:VEVENT
DTSTART;TZID=America/New_York:20251028T190000
DTEND;TZID=America/New_York:20251028T200000
DTSTAMP:20260421T183852
CREATED:20250924T141506Z
LAST-MODIFIED:20250924T141506Z
UID:10009449-1761678000-1761681600@www.thespinneyatvandyke.com
SUMMARY:What are you listening to?
DESCRIPTION:
URL:https://www.thespinneyatvandyke.com/event/what-are-you-listening-to-13/
LOCATION:The Spinney at Van Dyke\, 6 Parker Mathusa Place\, Delmar\, NY\, 12054
CATEGORIES:Intellectual
END:VEVENT
BEGIN:VEVENT
DTSTART;TZID=America/New_York:20251029T090000
DTEND;TZID=America/New_York:20251029T100000
DTSTAMP:20260421T183852
CREATED:20250924T141636Z
LAST-MODIFIED:20250924T141636Z
UID:10009450-1761728400-1761732000@www.thespinneyatvandyke.com
SUMMARY:Men's Group
DESCRIPTION:
URL:https://www.thespinneyatvandyke.com/event/mens-group/2025-10-29/
LOCATION:The Spinney at Van Dyke\, 6 Parker Mathusa Place\, Delmar\, NY\, 12054
CATEGORIES:Social
END:VEVENT
BEGIN:VEVENT
DTSTART;TZID=America/New_York:20251029T130000
DTEND;TZID=America/New_York:20251029T140000
DTSTAMP:20260421T183852
CREATED:20250325T213707Z
LAST-MODIFIED:20260330T174359Z
UID:10005985-1761742800-1761746400@www.thespinneyatvandyke.com
SUMMARY:Nia
DESCRIPTION:
URL:https://www.thespinneyatvandyke.com/event/nia/2025-10-29/
LOCATION:The Spinney at Van Dyke\, 6 Parker Mathusa Place\, Delmar\, NY\, 12054
CATEGORIES:Wellness
END:VEVENT
BEGIN:VEVENT
DTSTART;TZID=America/New_York:20251029T140000
DTEND;TZID=America/New_York:20251029T170000
DTSTAMP:20260421T183852
CREATED:20250924T135216Z
LAST-MODIFIED:20251125T152231Z
UID:10009154-1761746400-1761757200@www.thespinneyatvandyke.com
SUMMARY:Baked by Madison Pop Up
DESCRIPTION:
URL:https://www.thespinneyatvandyke.com/event/baked-by-madison-pop-up-2/2025-10-29/
LOCATION:Adams Station\, 1 Juniper Drive\, Delmar\, 12054\, United States
CATEGORIES:Community
END:VEVENT
BEGIN:VEVENT
DTSTART;TZID=America/New_York:20251029T163000
DTEND;TZID=America/New_York:20251029T170000
DTSTAMP:20260421T183852
CREATED:20250325T214941Z
LAST-MODIFIED:20251125T152319Z
UID:10006374-1761755400-1761757200@www.thespinneyatvandyke.com
SUMMARY:Maisie's and Bread Delivery
DESCRIPTION:
URL:https://www.thespinneyatvandyke.com/event/maisies-and-bread-delivery/2025-10-29/
LOCATION:The Spinney at Van Dyke\, 6 Parker Mathusa Place\, Delmar\, NY\, 12054
END:VEVENT
BEGIN:VEVENT
DTSTART;TZID=America/New_York:20251030T123000
DTEND;TZID=America/New_York:20251030T143000
DTSTAMP:20260421T183852
CREATED:20250325T215156Z
LAST-MODIFIED:20251229T165549Z
UID:10006635-1761827400-1761834600@www.thespinneyatvandyke.com
SUMMARY:Hand and Foot Game
DESCRIPTION:
URL:https://www.thespinneyatvandyke.com/event/hand-and-food-game/2025-10-30/
LOCATION:The Spinney at Van Dyke\, 6 Parker Mathusa Place\, Delmar\, NY\, 12054
CATEGORIES:Social
END:VEVENT
END:VCALENDAR