BEGIN:VCALENDAR
VERSION:2.0
PRODID:-//The Spinney at Van Dyke - ECPv6.15.20//NONSGML v1.0//EN
CALSCALE:GREGORIAN
METHOD:PUBLISH
X-ORIGINAL-URL:https://www.thespinneyatvandyke.com
X-WR-CALDESC:Events for The Spinney at Van Dyke
REFRESH-INTERVAL;VALUE=DURATION:PT1H
X-Robots-Tag:noindex
X-PUBLISHED-TTL:PT1H
BEGIN:VTIMEZONE
TZID:America/New_York
BEGIN:DAYLIGHT
TZOFFSETFROM:-0500
TZOFFSETTO:-0400
TZNAME:EDT
DTSTART:20240310T070000
END:DAYLIGHT
BEGIN:STANDARD
TZOFFSETFROM:-0400
TZOFFSETTO:-0500
TZNAME:EST
DTSTART:20241103T060000
END:STANDARD
BEGIN:DAYLIGHT
TZOFFSETFROM:-0500
TZOFFSETTO:-0400
TZNAME:EDT
DTSTART:20250309T070000
END:DAYLIGHT
BEGIN:STANDARD
TZOFFSETFROM:-0400
TZOFFSETTO:-0500
TZNAME:EST
DTSTART:20251102T060000
END:STANDARD
BEGIN:DAYLIGHT
TZOFFSETFROM:-0500
TZOFFSETTO:-0400
TZNAME:EDT
DTSTART:20260308T070000
END:DAYLIGHT
BEGIN:STANDARD
TZOFFSETFROM:-0400
TZOFFSETTO:-0500
TZNAME:EST
DTSTART:20261101T060000
END:STANDARD
END:VTIMEZONE
BEGIN:VTIMEZONE
TZID:UTC
BEGIN:STANDARD
TZOFFSETFROM:+0000
TZOFFSETTO:+0000
TZNAME:UTC
DTSTART:20240101T000000
END:STANDARD
END:VTIMEZONE
BEGIN:VEVENT
DTSTART;TZID=America/New_York:20251214T100000
DTEND;TZID=America/New_York:20251214T140000
DTSTAMP:20260425T082557
CREATED:20251125T145455Z
LAST-MODIFIED:20251125T145455Z
UID:10010986-1765706400-1765720800@www.thespinneyatvandyke.com
SUMMARY:Clubhouse Closed for Private Event
DESCRIPTION:
URL:https://www.thespinneyatvandyke.com/event/clubhouse-closed-for-private-event-5/
LOCATION:The Spinney at Van Dyke\, 6 Parker Mathusa Place\, Delmar\, NY\, 12054
END:VEVENT
BEGIN:VEVENT
DTSTART;TZID=America/New_York:20251215T090000
DTEND;TZID=America/New_York:20251215T093000
DTSTAMP:20260425T082557
CREATED:20251125T144048Z
LAST-MODIFIED:20260330T172901Z
UID:10011906-1765789200-1765791000@www.thespinneyatvandyke.com
SUMMARY:Spring Stroll
DESCRIPTION:
URL:https://www.thespinneyatvandyke.com/event/winter-walk-2/2025-12-15/
LOCATION:The Spinney at Van Dyke\, 6 Parker Mathusa Place\, Delmar\, NY\, 12054
CATEGORIES:Environmental
END:VEVENT
BEGIN:VEVENT
DTSTART;TZID=UTC:20251215T130000
DTEND;TZID=UTC:20251215T140000
DTSTAMP:20260425T082557
CREATED:20230726T230137Z
LAST-MODIFIED:20230726T230137Z
UID:10000738-1765803600-1765807200@www.thespinneyatvandyke.com
SUMMARY:Scrabble
DESCRIPTION:Meet-up with neighbors for a game of Scrabble.
URL:https://www.thespinneyatvandyke.com/event/scrabble/2025-12-15/
LOCATION:The Spinney at Van Dyke\, 6 Parker Mathusa Place\, Delmar\, NY\, 12054
CATEGORIES:Intellectual
END:VEVENT
BEGIN:VEVENT
DTSTART;TZID=America/New_York:20251215T130000
DTEND;TZID=America/New_York:20251215T150000
DTSTAMP:20260425T082557
CREATED:20250325T220820Z
LAST-MODIFIED:20250325T220820Z
UID:10007233-1765803600-1765810800@www.thespinneyatvandyke.com
SUMMARY:Mahjong
DESCRIPTION:Learn to play Mahjong.
URL:https://www.thespinneyatvandyke.com/event/mahjong/2025-12-15/
LOCATION:The Spinney at Van Dyke\, 6 Parker Mathusa Place\, Delmar\, NY\, 12054
CATEGORIES:Social
END:VEVENT
BEGIN:VEVENT
DTSTART;TZID=UTC:20251215T183000
DTEND;TZID=UTC:20251215T203000
DTSTAMP:20260425T082557
CREATED:20230923T225926Z
LAST-MODIFIED:20251229T170229Z
UID:10001969-1765823400-1765830600@www.thespinneyatvandyke.com
SUMMARY:Billiards and Poker
DESCRIPTION:A casual group meet-up of neighbors to play or learn-to-play pool and poker in The Clubhouse.
URL:https://www.thespinneyatvandyke.com/event/billiards-2/2025-12-15/
LOCATION:The Spinney at Van Dyke\, 6 Parker Mathusa Place\, Delmar\, NY\, 12054
CATEGORIES:Intellectual,Social
END:VEVENT
BEGIN:VEVENT
DTSTART;TZID=America/New_York:20251216T100000
DTEND;TZID=America/New_York:20251216T120000
DTSTAMP:20260425T082557
CREATED:20251125T145636Z
LAST-MODIFIED:20251125T145636Z
UID:10010987-1765879200-1765886400@www.thespinneyatvandyke.com
SUMMARY:Wrapping with Jane
DESCRIPTION:
URL:https://www.thespinneyatvandyke.com/event/wrapping-with-jane/
LOCATION:The Spinney at Van Dyke\, 6 Parker Mathusa Place\, Delmar\, NY\, 12054
CATEGORIES:Community
END:VEVENT
BEGIN:VEVENT
DTSTART;TZID=America/New_York:20251216T130000
DTEND;TZID=America/New_York:20251216T150000
DTSTAMP:20260425T082557
CREATED:20251125T145717Z
LAST-MODIFIED:20251125T145717Z
UID:10010988-1765890000-1765897200@www.thespinneyatvandyke.com
SUMMARY:Movie Matinee
DESCRIPTION:
URL:https://www.thespinneyatvandyke.com/event/movie-matinee-27/
LOCATION:The Spinney at Van Dyke\, 6 Parker Mathusa Place\, Delmar\, NY\, 12054
CATEGORIES:Social
END:VEVENT
BEGIN:VEVENT
DTSTART;TZID=America/New_York:20251216T160000
DTEND;TZID=America/New_York:20251216T170000
DTSTAMP:20260425T082557
CREATED:20250325T172751Z
LAST-MODIFIED:20260127T165221Z
UID:10013106-1765900800-1765904400@www.thespinneyatvandyke.com
SUMMARY:Handwork
DESCRIPTION:
URL:https://www.thespinneyatvandyke.com/event/handwork/2025-12-16/
LOCATION:The Spinney at Van Dyke\, 6 Parker Mathusa Place\, Delmar\, NY\, 12054
CATEGORIES:Social
END:VEVENT
BEGIN:VEVENT
DTSTART;TZID=America/New_York:20251217T093000
DTEND;TZID=America/New_York:20251217T100000
DTSTAMP:20260425T082557
CREATED:20251125T152032Z
LAST-MODIFIED:20251125T152032Z
UID:10011006-1765963800-1765965600@www.thespinneyatvandyke.com
SUMMARY:Egg Delivery
DESCRIPTION:
URL:https://www.thespinneyatvandyke.com/event/egg-delivery/2025-12-17/
LOCATION:The Spinney at Van Dyke\, 6 Parker Mathusa Place\, Delmar\, NY\, 12054
END:VEVENT
BEGIN:VEVENT
DTSTART;TZID=America/New_York:20251217T130000
DTEND;TZID=America/New_York:20251217T140000
DTSTAMP:20260425T082557
CREATED:20250325T213707Z
LAST-MODIFIED:20260330T174359Z
UID:10005992-1765976400-1765980000@www.thespinneyatvandyke.com
SUMMARY:Nia
DESCRIPTION:
URL:https://www.thespinneyatvandyke.com/event/nia/2025-12-17/
LOCATION:The Spinney at Van Dyke\, 6 Parker Mathusa Place\, Delmar\, NY\, 12054
CATEGORIES:Wellness
END:VEVENT
BEGIN:VEVENT
DTSTART;TZID=America/New_York:20251217T140000
DTEND;TZID=America/New_York:20251217T170000
DTSTAMP:20260425T082557
CREATED:20250924T135216Z
LAST-MODIFIED:20251125T152231Z
UID:10009161-1765980000-1765990800@www.thespinneyatvandyke.com
SUMMARY:Baked by Madison Pop Up
DESCRIPTION:
URL:https://www.thespinneyatvandyke.com/event/baked-by-madison-pop-up-2/2025-12-17/
LOCATION:Adams Station\, 1 Juniper Drive\, Delmar\, 12054\, United States
CATEGORIES:Community
END:VEVENT
BEGIN:VEVENT
DTSTART;TZID=America/New_York:20251217T163000
DTEND;TZID=America/New_York:20251217T170000
DTSTAMP:20260425T082558
CREATED:20250325T214941Z
LAST-MODIFIED:20251125T152319Z
UID:10006381-1765989000-1765990800@www.thespinneyatvandyke.com
SUMMARY:Maisie's and Bread Delivery
DESCRIPTION:
URL:https://www.thespinneyatvandyke.com/event/maisies-and-bread-delivery/2025-12-17/
LOCATION:The Spinney at Van Dyke\, 6 Parker Mathusa Place\, Delmar\, NY\, 12054
END:VEVENT
BEGIN:VEVENT
DTSTART;TZID=America/New_York:20251217T173000
DTEND;TZID=America/New_York:20251217T190000
DTSTAMP:20260425T082558
CREATED:20251125T145915Z
LAST-MODIFIED:20251125T145915Z
UID:10010989-1765992600-1765998000@www.thespinneyatvandyke.com
SUMMARY:Light Up the Night: Chanukah Party
DESCRIPTION:
URL:https://www.thespinneyatvandyke.com/event/light-up-the-night-chanukah-party/
LOCATION:The Spinney at Van Dyke\, 6 Parker Mathusa Place\, Delmar\, NY\, 12054
CATEGORIES:Social
END:VEVENT
BEGIN:VEVENT
DTSTART;TZID=America/New_York:20251218T083000
DTEND;TZID=America/New_York:20251218T093000
DTSTAMP:20260425T082558
CREATED:20251028T182158Z
LAST-MODIFIED:20260422T195255Z
UID:10009547-1766046600-1766050200@www.thespinneyatvandyke.com
SUMMARY:Spinney Strength
DESCRIPTION:
URL:https://www.thespinneyatvandyke.com/event/spinney-strength-3-2/2025-12-18/
LOCATION:The Spinney at Van Dyke\, 6 Parker Mathusa Place\, Delmar\, NY\, 12054
CATEGORIES:Wellness
END:VEVENT
BEGIN:VEVENT
DTSTART;TZID=America/New_York:20251218T100000
DTEND;TZID=America/New_York:20251218T120000
DTSTAMP:20260425T082558
CREATED:20251125T152728Z
LAST-MODIFIED:20260422T195359Z
UID:10011352-1766052000-1766059200@www.thespinneyatvandyke.com
SUMMARY:Bridge
DESCRIPTION:
URL:https://www.thespinneyatvandyke.com/event/bridge/2025-12-18/
CATEGORIES:Social
END:VEVENT
BEGIN:VEVENT
DTSTART;TZID=America/New_York:20251218T123000
DTEND;TZID=America/New_York:20251218T143000
DTSTAMP:20260425T082558
CREATED:20250325T215156Z
LAST-MODIFIED:20260422T195533Z
UID:10006642-1766061000-1766068200@www.thespinneyatvandyke.com
SUMMARY:Hand and Foot Game
DESCRIPTION:
URL:https://www.thespinneyatvandyke.com/event/hand-and-food-game/2025-12-18/
LOCATION:The Spinney at Van Dyke\, 6 Parker Mathusa Place\, Delmar\, NY\, 12054
CATEGORIES:Social
END:VEVENT
BEGIN:VEVENT
DTSTART;TZID=America/New_York:20251219T110000
DTEND;TZID=America/New_York:20251219T130000
DTSTAMP:20260425T082558
CREATED:20251125T150017Z
LAST-MODIFIED:20251125T150017Z
UID:10010990-1766142000-1766149200@www.thespinneyatvandyke.com
SUMMARY:Holiday Brunch
DESCRIPTION:
URL:https://www.thespinneyatvandyke.com/event/holiday-brunch/
LOCATION:The Spinney at Van Dyke\, 6 Parker Mathusa Place\, Delmar\, NY\, 12054
CATEGORIES:Social
END:VEVENT
BEGIN:VEVENT
DTSTART;TZID=America/New_York:20251219T160000
DTEND;TZID=America/New_York:20251219T180000
DTSTAMP:20260425T082558
CREATED:20250522T164816Z
LAST-MODIFIED:20250625T155348Z
UID:10008567-1766160000-1766167200@www.thespinneyatvandyke.com
SUMMARY:Resident led Happy Hour
DESCRIPTION:
URL:https://www.thespinneyatvandyke.com/event/resident-led-happy-hour-5/2025-12-19/
LOCATION:The Spinney at Van Dyke\, 6 Parker Mathusa Place\, Delmar\, NY\, 12054
CATEGORIES:Social
END:VEVENT
BEGIN:VEVENT
DTSTART;TZID=America/New_York:20251220T090000
DTEND;TZID=America/New_York:20251220T180000
DTSTAMP:20260425T082558
CREATED:20251125T150242Z
LAST-MODIFIED:20251125T150242Z
UID:10010992-1766221200-1766253600@www.thespinneyatvandyke.com
SUMMARY:Clubhouse Closed for Private Event
DESCRIPTION:
URL:https://www.thespinneyatvandyke.com/event/clubhouse-closed-for-private-event-6/
LOCATION:The Spinney at Van Dyke\, 6 Parker Mathusa Place\, Delmar\, NY\, 12054
END:VEVENT
BEGIN:VEVENT
DTSTART;TZID=America/New_York:20251221T120000
DTEND;TZID=America/New_York:20251221T180000
DTSTAMP:20260425T082558
CREATED:20251125T150331Z
LAST-MODIFIED:20251125T150331Z
UID:10010993-1766318400-1766340000@www.thespinneyatvandyke.com
SUMMARY:Clubhouse Closed for Private Event
DESCRIPTION:
URL:https://www.thespinneyatvandyke.com/event/clubhouse-closed-for-private-event-7/
LOCATION:The Spinney at Van Dyke\, 6 Parker Mathusa Place\, Delmar\, NY\, 12054
END:VEVENT
BEGIN:VEVENT
DTSTART;TZID=America/New_York:20251222T090000
DTEND;TZID=America/New_York:20251222T093000
DTSTAMP:20260425T082558
CREATED:20251125T144048Z
LAST-MODIFIED:20260330T172901Z
UID:10011907-1766394000-1766395800@www.thespinneyatvandyke.com
SUMMARY:Spring Stroll
DESCRIPTION:
URL:https://www.thespinneyatvandyke.com/event/winter-walk-2/2025-12-22/
LOCATION:The Spinney at Van Dyke\, 6 Parker Mathusa Place\, Delmar\, NY\, 12054
CATEGORIES:Environmental
END:VEVENT
BEGIN:VEVENT
DTSTART;TZID=UTC:20251222T130000
DTEND;TZID=UTC:20251222T140000
DTSTAMP:20260425T082558
CREATED:20230726T230137Z
LAST-MODIFIED:20230726T230137Z
UID:10000739-1766408400-1766412000@www.thespinneyatvandyke.com
SUMMARY:Scrabble
DESCRIPTION:Meet-up with neighbors for a game of Scrabble.
URL:https://www.thespinneyatvandyke.com/event/scrabble/2025-12-22/
LOCATION:The Spinney at Van Dyke\, 6 Parker Mathusa Place\, Delmar\, NY\, 12054
CATEGORIES:Intellectual
END:VEVENT
BEGIN:VEVENT
DTSTART;TZID=America/New_York:20251222T130000
DTEND;TZID=America/New_York:20251222T150000
DTSTAMP:20260425T082558
CREATED:20250325T220820Z
LAST-MODIFIED:20250325T220820Z
UID:10007234-1766408400-1766415600@www.thespinneyatvandyke.com
SUMMARY:Mahjong
DESCRIPTION:Learn to play Mahjong.
URL:https://www.thespinneyatvandyke.com/event/mahjong/2025-12-22/
LOCATION:The Spinney at Van Dyke\, 6 Parker Mathusa Place\, Delmar\, NY\, 12054
CATEGORIES:Social
END:VEVENT
BEGIN:VEVENT
DTSTART;TZID=UTC:20251222T183000
DTEND;TZID=UTC:20251222T203000
DTSTAMP:20260425T082558
CREATED:20230923T225926Z
LAST-MODIFIED:20251229T170229Z
UID:10001970-1766428200-1766435400@www.thespinneyatvandyke.com
SUMMARY:Billiards and Poker
DESCRIPTION:A casual group meet-up of neighbors to play or learn-to-play pool and poker in The Clubhouse.
URL:https://www.thespinneyatvandyke.com/event/billiards-2/2025-12-22/
LOCATION:The Spinney at Van Dyke\, 6 Parker Mathusa Place\, Delmar\, NY\, 12054
CATEGORIES:Intellectual,Social
END:VEVENT
BEGIN:VEVENT
DTSTART;TZID=America/New_York:20251223T100000
DTEND;TZID=America/New_York:20251223T120000
DTSTAMP:20260425T082558
CREATED:20251125T150447Z
LAST-MODIFIED:20251125T150447Z
UID:10010994-1766484000-1766491200@www.thespinneyatvandyke.com
SUMMARY:A Cup of Cheer Celebration
DESCRIPTION:
URL:https://www.thespinneyatvandyke.com/event/a-cup-of-cheer-celebration/
LOCATION:The Spinney at Van Dyke\, 6 Parker Mathusa Place\, Delmar\, NY\, 12054
CATEGORIES:Social
END:VEVENT
BEGIN:VEVENT
DTSTART;TZID=America/New_York:20251223T160000
DTEND;TZID=America/New_York:20251223T170000
DTSTAMP:20260425T082558
CREATED:20250325T172751Z
LAST-MODIFIED:20260127T165221Z
UID:10013107-1766505600-1766509200@www.thespinneyatvandyke.com
SUMMARY:Handwork
DESCRIPTION:
URL:https://www.thespinneyatvandyke.com/event/handwork/2025-12-23/
LOCATION:The Spinney at Van Dyke\, 6 Parker Mathusa Place\, Delmar\, NY\, 12054
CATEGORIES:Social
END:VEVENT
BEGIN:VEVENT
DTSTART;TZID=America/New_York:20251223T160000
DTEND;TZID=America/New_York:20251223T220000
DTSTAMP:20260425T082558
CREATED:20251125T150527Z
LAST-MODIFIED:20251125T150527Z
UID:10010995-1766505600-1766527200@www.thespinneyatvandyke.com
SUMMARY:Clubhouse Closed for Private Event
DESCRIPTION:
URL:https://www.thespinneyatvandyke.com/event/clubhouse-closed-for-private-event-8/
LOCATION:The Spinney at Van Dyke\, 6 Parker Mathusa Place\, Delmar\, NY\, 12054
END:VEVENT
BEGIN:VEVENT
DTSTART;VALUE=DATE:20251224
DTEND;VALUE=DATE:20251225
DTSTAMP:20260425T082558
CREATED:20251125T150601Z
LAST-MODIFIED:20251125T150601Z
UID:10010996-1766534400-1766620799@www.thespinneyatvandyke.com
SUMMARY:Christmas Eve
DESCRIPTION:
URL:https://www.thespinneyatvandyke.com/event/christmas-eve/
END:VEVENT
BEGIN:VEVENT
DTSTART;VALUE=DATE:20251224
DTEND;VALUE=DATE:20251225
DTSTAMP:20260425T082558
CREATED:20251125T150656Z
LAST-MODIFIED:20251125T150656Z
UID:10010997-1766534400-1766620799@www.thespinneyatvandyke.com
SUMMARY:Hanukah Starts at Sundown
DESCRIPTION:
URL:https://www.thespinneyatvandyke.com/event/hanukah-starts-at-sundown/
END:VEVENT
BEGIN:VEVENT
DTSTART;VALUE=DATE:20251224
DTEND;VALUE=DATE:20251225
DTSTAMP:20260425T082558
CREATED:20251125T150723Z
LAST-MODIFIED:20251125T150723Z
UID:10010998-1766534400-1766620799@www.thespinneyatvandyke.com
SUMMARY:Offices Closed
DESCRIPTION:
URL:https://www.thespinneyatvandyke.com/event/offices-closed/
END:VEVENT
END:VCALENDAR