BEGIN:VCALENDAR
VERSION:2.0
PRODID:-//The Spinney at Van Dyke - ECPv6.15.20//NONSGML v1.0//EN
CALSCALE:GREGORIAN
METHOD:PUBLISH
X-WR-CALNAME:The Spinney at Van Dyke
X-ORIGINAL-URL:https://www.thespinneyatvandyke.com
X-WR-CALDESC:Events for The Spinney at Van Dyke
REFRESH-INTERVAL;VALUE=DURATION:PT1H
X-Robots-Tag:noindex
X-PUBLISHED-TTL:PT1H
BEGIN:VTIMEZONE
TZID:America/New_York
BEGIN:DAYLIGHT
TZOFFSETFROM:-0500
TZOFFSETTO:-0400
TZNAME:EDT
DTSTART:20250309T070000
END:DAYLIGHT
BEGIN:STANDARD
TZOFFSETFROM:-0400
TZOFFSETTO:-0500
TZNAME:EST
DTSTART:20251102T060000
END:STANDARD
BEGIN:DAYLIGHT
TZOFFSETFROM:-0500
TZOFFSETTO:-0400
TZNAME:EDT
DTSTART:20260308T070000
END:DAYLIGHT
BEGIN:STANDARD
TZOFFSETFROM:-0400
TZOFFSETTO:-0500
TZNAME:EST
DTSTART:20261101T060000
END:STANDARD
BEGIN:DAYLIGHT
TZOFFSETFROM:-0500
TZOFFSETTO:-0400
TZNAME:EDT
DTSTART:20270314T070000
END:DAYLIGHT
BEGIN:STANDARD
TZOFFSETFROM:-0400
TZOFFSETTO:-0500
TZNAME:EST
DTSTART:20271107T060000
END:STANDARD
END:VTIMEZONE
BEGIN:VTIMEZONE
TZID:UTC
BEGIN:STANDARD
TZOFFSETFROM:+0000
TZOFFSETTO:+0000
TZNAME:UTC
DTSTART:20250101T000000
END:STANDARD
END:VTIMEZONE
BEGIN:VEVENT
DTSTART;TZID=America/New_York:20260509T130000
DTEND;TZID=America/New_York:20260509T170000
DTSTAMP:20260423T062303
CREATED:20260422T200014Z
LAST-MODIFIED:20260422T200014Z
UID:10015373-1778331600-1778346000@www.thespinneyatvandyke.com
SUMMARY:Clubhouse Closed for Private Event
DESCRIPTION:
URL:https://www.thespinneyatvandyke.com/event/clubhouse-closed-for-private-event-13/
END:VEVENT
BEGIN:VEVENT
DTSTART;TZID=America/New_York:20260509T090000
DTEND;TZID=America/New_York:20260509T130000
DTSTAMP:20260423T062303
CREATED:20260422T193754Z
LAST-MODIFIED:20260422T193754Z
UID:10014801-1778317200-1778331600@www.thespinneyatvandyke.com
SUMMARY:Saturday Delmar Farmers Market
DESCRIPTION:
URL:https://www.thespinneyatvandyke.com/event/saturday-delmar-farmers-market/2026-05-09/
LOCATION:Bethlehem Central Middle School
END:VEVENT
BEGIN:VEVENT
DTSTART;TZID=America/New_York:20260508T160000
DTEND;TZID=America/New_York:20260508T180000
DTSTAMP:20260423T062303
CREATED:20250522T164816Z
LAST-MODIFIED:20250625T155348Z
UID:10008587-1778256000-1778263200@www.thespinneyatvandyke.com
SUMMARY:Resident led Happy Hour
DESCRIPTION:
URL:https://www.thespinneyatvandyke.com/event/resident-led-happy-hour-5/2026-05-08/
LOCATION:The Spinney at Van Dyke\, 6 Parker Mathusa Place\, Delmar\, NY\, 12054
CATEGORIES:Social
END:VEVENT
BEGIN:VEVENT
DTSTART;TZID=America/New_York:20260508T133000
DTEND;TZID=America/New_York:20260508T141500
DTSTAMP:20260423T062303
CREATED:20260422T195904Z
LAST-MODIFIED:20260422T195904Z
UID:10015372-1778247000-1778249700@www.thespinneyatvandyke.com
SUMMARY:Line Dancing
DESCRIPTION:
URL:https://www.thespinneyatvandyke.com/event/line-dancing-3/
LOCATION:The Spinney at Van Dyke\, 6 Parker Mathusa Place\, Delmar\, NY\, 12054
CATEGORIES:Wellness
END:VEVENT
BEGIN:VEVENT
DTSTART;TZID=America/New_York:20260508T100000
DTEND;TZID=America/New_York:20260508T110000
DTSTAMP:20260423T062303
CREATED:20251229T171119Z
LAST-MODIFIED:20251229T171119Z
UID:10012867-1778234400-1778238000@www.thespinneyatvandyke.com
SUMMARY:A Brighter Year Together
DESCRIPTION:
URL:https://www.thespinneyatvandyke.com/event/a-brighter-year-together/2026-05-08/
CATEGORIES:Intellectual
END:VEVENT
BEGIN:VEVENT
DTSTART;TZID=America/New_York:20260508T080000
DTEND;TZID=America/New_York:20260508T083000
DTSTAMP:20260423T062303
CREATED:20260422T193407Z
LAST-MODIFIED:20260422T193407Z
UID:10014281-1778227200-1778229000@www.thespinneyatvandyke.com
SUMMARY:Spring Stroll
DESCRIPTION:
URL:https://www.thespinneyatvandyke.com/event/spring-stroll/2026-05-08/
LOCATION:The Spinney at Van Dyke\, 6 Parker Mathusa Place\, Delmar\, NY\, 12054
CATEGORIES:Environmental
END:VEVENT
BEGIN:VEVENT
DTSTART;TZID=America/New_York:20260507T080000
DTEND;TZID=America/New_York:20260507T163000
DTSTAMP:20260423T062303
CREATED:20260422T195627Z
LAST-MODIFIED:20260422T195724Z
UID:10015371-1778140800-1778171400@www.thespinneyatvandyke.com
SUMMARY:Clubhouse Closed for Private Event
DESCRIPTION:
URL:https://www.thespinneyatvandyke.com/event/clubhouse-closed-for-private-event-12/
END:VEVENT
BEGIN:VEVENT
DTSTART;TZID=America/New_York:20260506T163000
DTEND;TZID=America/New_York:20260506T170000
DTSTAMP:20260423T062303
CREATED:20250325T214941Z
LAST-MODIFIED:20251125T152319Z
UID:10006401-1778085000-1778086800@www.thespinneyatvandyke.com
SUMMARY:Maisie's and Bread Delivery
DESCRIPTION:
URL:https://www.thespinneyatvandyke.com/event/maisies-and-bread-delivery/2026-05-06/
LOCATION:The Spinney at Van Dyke\, 6 Parker Mathusa Place\, Delmar\, NY\, 12054
END:VEVENT
BEGIN:VEVENT
DTSTART;TZID=America/New_York:20260506T140000
DTEND;TZID=America/New_York:20260506T170000
DTSTAMP:20260423T062303
CREATED:20250924T135216Z
LAST-MODIFIED:20251125T152231Z
UID:10009181-1778076000-1778086800@www.thespinneyatvandyke.com
SUMMARY:Baked by Madison Pop Up
DESCRIPTION:
URL:https://www.thespinneyatvandyke.com/event/baked-by-madison-pop-up-2/2026-05-06/
LOCATION:Adams Station\, 1 Juniper Drive\, Delmar\, 12054\, United States
CATEGORIES:Community
END:VEVENT
BEGIN:VEVENT
DTSTART;TZID=America/New_York:20260506T130000
DTEND;TZID=America/New_York:20260506T140000
DTSTAMP:20260423T062303
CREATED:20250325T213707Z
LAST-MODIFIED:20260330T174359Z
UID:10006012-1778072400-1778076000@www.thespinneyatvandyke.com
SUMMARY:Nia
DESCRIPTION:
URL:https://www.thespinneyatvandyke.com/event/nia/2026-05-06/
LOCATION:The Spinney at Van Dyke\, 6 Parker Mathusa Place\, Delmar\, NY\, 12054
CATEGORIES:Wellness
END:VEVENT
BEGIN:VEVENT
DTSTART;TZID=America/New_York:20260506T093000
DTEND;TZID=America/New_York:20260506T100000
DTSTAMP:20260423T062303
CREATED:20251125T152032Z
LAST-MODIFIED:20251125T152032Z
UID:10011025-1778059800-1778061600@www.thespinneyatvandyke.com
SUMMARY:Egg Delivery
DESCRIPTION:
URL:https://www.thespinneyatvandyke.com/event/egg-delivery/2026-05-06/
LOCATION:The Spinney at Van Dyke\, 6 Parker Mathusa Place\, Delmar\, NY\, 12054
END:VEVENT
BEGIN:VEVENT
DTSTART;TZID=America/New_York:20260505T160000
DTEND;TZID=America/New_York:20260505T170000
DTSTAMP:20260423T062303
CREATED:20250325T172751Z
LAST-MODIFIED:20260127T165221Z
UID:10013126-1777996800-1778000400@www.thespinneyatvandyke.com
SUMMARY:Handwork
DESCRIPTION:
URL:https://www.thespinneyatvandyke.com/event/handwork/2026-05-05/
LOCATION:The Spinney at Van Dyke\, 6 Parker Mathusa Place\, Delmar\, NY\, 12054
CATEGORIES:Social
END:VEVENT
BEGIN:VEVENT
DTSTART;TZID=America/New_York:20260505T130000
DTEND;TZID=America/New_York:20260505T140000
DTSTAMP:20260423T062303
CREATED:20260422T195100Z
LAST-MODIFIED:20260422T195100Z
UID:10015322-1777986000-1777989600@www.thespinneyatvandyke.com
SUMMARY:Name that Tune Bingo
DESCRIPTION:
URL:https://www.thespinneyatvandyke.com/event/name-that-tune-bingo/
LOCATION:The Spinney at Van Dyke\, 6 Parker Mathusa Place\, Delmar\, NY\, 12054
CATEGORIES:Social
END:VEVENT
BEGIN:VEVENT
DTSTART;TZID=America/New_York:20260505T113000
DTEND;TZID=America/New_York:20260505T123000
DTSTAMP:20260423T062303
CREATED:20251229T170553Z
LAST-MODIFIED:20251229T170553Z
UID:10012801-1777980600-1777984200@www.thespinneyatvandyke.com
SUMMARY:History Club
DESCRIPTION:
URL:https://www.thespinneyatvandyke.com/event/history-club-5/2026-05-05/
LOCATION:The Spinney at Van Dyke\, 6 Parker Mathusa Place\, Delmar\, NY\, 12054
CATEGORIES:Intellectual
END:VEVENT
BEGIN:VEVENT
DTSTART;TZID=America/New_York:20260505T083000
DTEND;TZID=America/New_York:20260505T090000
DTSTAMP:20260423T062303
CREATED:20260422T194859Z
LAST-MODIFIED:20260422T194859Z
UID:10015062-1777969800-1777971600@www.thespinneyatvandyke.com
SUMMARY:SpinneyLife Boot Camp
DESCRIPTION:
URL:https://www.thespinneyatvandyke.com/event/spinneylife-boot-camp/2026-05-05/
LOCATION:The Spinney at Van Dyke\, 6 Parker Mathusa Place\, Delmar\, NY\, 12054
CATEGORIES:Wellness
END:VEVENT
BEGIN:VEVENT
DTSTART;VALUE=DATE:20260505
DTEND;VALUE=DATE:20260506
DTSTAMP:20260423T062303
CREATED:20260422T194651Z
LAST-MODIFIED:20260422T194651Z
UID:10015061-1777939200-1778025599@www.thespinneyatvandyke.com
SUMMARY:Cinco do Mayo
DESCRIPTION:
URL:https://www.thespinneyatvandyke.com/event/cinco-do-mayo/
END:VEVENT
BEGIN:VEVENT
DTSTART;TZID=UTC:20260504T183000
DTEND;TZID=UTC:20260504T203000
DTSTAMP:20260423T062303
CREATED:20230923T225926Z
LAST-MODIFIED:20251229T170229Z
UID:10001989-1777919400-1777926600@www.thespinneyatvandyke.com
SUMMARY:Billiards and Poker
DESCRIPTION:A casual group meet-up of neighbors to play or learn-to-play pool and poker in The Clubhouse.
URL:https://www.thespinneyatvandyke.com/event/billiards-2/2026-05-04/
LOCATION:The Spinney at Van Dyke\, 6 Parker Mathusa Place\, Delmar\, NY\, 12054
CATEGORIES:Intellectual,Social
END:VEVENT
BEGIN:VEVENT
DTSTART;TZID=America/New_York:20260504T130000
DTEND;TZID=America/New_York:20260504T150000
DTSTAMP:20260423T062303
CREATED:20250325T220820Z
LAST-MODIFIED:20250325T220820Z
UID:10007253-1777899600-1777906800@www.thespinneyatvandyke.com
SUMMARY:Mahjong
DESCRIPTION:Learn to play Mahjong.
URL:https://www.thespinneyatvandyke.com/event/mahjong/2026-05-04/
LOCATION:The Spinney at Van Dyke\, 6 Parker Mathusa Place\, Delmar\, NY\, 12054
CATEGORIES:Social
END:VEVENT
BEGIN:VEVENT
DTSTART;TZID=UTC:20260504T130000
DTEND;TZID=UTC:20260504T140000
DTSTAMP:20260423T062303
CREATED:20230726T230137Z
LAST-MODIFIED:20230726T230137Z
UID:10000758-1777899600-1777903200@www.thespinneyatvandyke.com
SUMMARY:Scrabble
DESCRIPTION:Meet-up with neighbors for a game of Scrabble.
URL:https://www.thespinneyatvandyke.com/event/scrabble/2026-05-04/
LOCATION:The Spinney at Van Dyke\, 6 Parker Mathusa Place\, Delmar\, NY\, 12054
CATEGORIES:Intellectual
END:VEVENT
BEGIN:VEVENT
DTSTART;TZID=America/New_York:20260504T103000
DTEND;TZID=America/New_York:20260504T113000
DTSTAMP:20260423T062303
CREATED:20251229T170104Z
LAST-MODIFIED:20251229T170104Z
UID:10012448-1777890600-1777894200@www.thespinneyatvandyke.com
SUMMARY:Essentrics Group Exercise Class
DESCRIPTION:
URL:https://www.thespinneyatvandyke.com/event/essentrics-group-exercise-class/2026-05-04/
LOCATION:The Spinney at Van Dyke\, 6 Parker Mathusa Place\, Delmar\, NY\, 12054
CATEGORIES:Wellness
END:VEVENT
BEGIN:VEVENT
DTSTART;TZID=America/New_York:20260504T080000
DTEND;TZID=America/New_York:20260504T083000
DTSTAMP:20260423T062303
CREATED:20260422T193407Z
LAST-MODIFIED:20260422T193407Z
UID:10014280-1777881600-1777883400@www.thespinneyatvandyke.com
SUMMARY:Spring Stroll
DESCRIPTION:
URL:https://www.thespinneyatvandyke.com/event/spring-stroll/2026-05-04/
LOCATION:The Spinney at Van Dyke\, 6 Parker Mathusa Place\, Delmar\, NY\, 12054
CATEGORIES:Environmental
END:VEVENT
BEGIN:VEVENT
DTSTART;TZID=America/New_York:20260503T140000
DTEND;TZID=America/New_York:20260503T150000
DTSTAMP:20260423T062303
CREATED:20260422T194142Z
LAST-MODIFIED:20260422T194142Z
UID:10015060-1777816800-1777820400@www.thespinneyatvandyke.com
SUMMARY:Neighbor Bingo
DESCRIPTION:
URL:https://www.thespinneyatvandyke.com/event/neighbor-bingo-3/
LOCATION:The Spinney at Van Dyke\, 6 Parker Mathusa Place\, Delmar\, NY\, 12054
CATEGORIES:Social
END:VEVENT
BEGIN:VEVENT
DTSTART;TZID=America/New_York:20260502T090000
DTEND;TZID=America/New_York:20260502T130000
DTSTAMP:20260423T062303
CREATED:20260422T193754Z
LAST-MODIFIED:20260422T193754Z
UID:10014800-1777712400-1777726800@www.thespinneyatvandyke.com
SUMMARY:Saturday Delmar Farmers Market
DESCRIPTION:
URL:https://www.thespinneyatvandyke.com/event/saturday-delmar-farmers-market/2026-05-02/
LOCATION:Bethlehem Central Middle School
END:VEVENT
BEGIN:VEVENT
DTSTART;TZID=America/New_York:20260501T160000
DTEND;TZID=America/New_York:20260501T180000
DTSTAMP:20260423T062303
CREATED:20250522T164816Z
LAST-MODIFIED:20250625T155348Z
UID:10008586-1777651200-1777658400@www.thespinneyatvandyke.com
SUMMARY:Resident led Happy Hour
DESCRIPTION:
URL:https://www.thespinneyatvandyke.com/event/resident-led-happy-hour-5/2026-05-01/
LOCATION:The Spinney at Van Dyke\, 6 Parker Mathusa Place\, Delmar\, NY\, 12054
CATEGORIES:Social
END:VEVENT
BEGIN:VEVENT
DTSTART;TZID=America/New_York:20260501T130000
DTEND;TZID=America/New_York:20260501T143000
DTSTAMP:20260423T062303
CREATED:20260422T193551Z
LAST-MODIFIED:20260422T193551Z
UID:10014799-1777640400-1777645800@www.thespinneyatvandyke.com
SUMMARY:LiveWell\, AgeWell: A Simple Life Planning Roadmap (Forum Two)
DESCRIPTION:
URL:https://www.thespinneyatvandyke.com/event/livewell-agewell-a-simple-life-planning-roadmap-forum-two/
LOCATION:The Spinney at Van Dyke\, 6 Parker Mathusa Place\, Delmar\, NY\, 12054
CATEGORIES:Intellectual
END:VEVENT
BEGIN:VEVENT
DTSTART;TZID=America/New_York:20260501T080000
DTEND;TZID=America/New_York:20260501T083000
DTSTAMP:20260423T062303
CREATED:20260422T193407Z
LAST-MODIFIED:20260422T193407Z
UID:10014279-1777622400-1777624200@www.thespinneyatvandyke.com
SUMMARY:Spring Stroll
DESCRIPTION:
URL:https://www.thespinneyatvandyke.com/event/spring-stroll/2026-05-01/
LOCATION:The Spinney at Van Dyke\, 6 Parker Mathusa Place\, Delmar\, NY\, 12054
CATEGORIES:Environmental
END:VEVENT
BEGIN:VEVENT
DTSTART;VALUE=DATE:20260501
DTEND;VALUE=DATE:20260502
DTSTAMP:20260423T062303
CREATED:20260422T184156Z
LAST-MODIFIED:20260422T184156Z
UID:10013757-1777593600-1777679999@www.thespinneyatvandyke.com
SUMMARY:Walk Across America Step Challenge Begins
DESCRIPTION:
URL:https://www.thespinneyatvandyke.com/event/walk-across-america-step-challenge-begins/
LOCATION:The Spinney at Van Dyke\, 6 Parker Mathusa Place\, Delmar\, NY\, 12054
CATEGORIES:Wellness
END:VEVENT
BEGIN:VEVENT
DTSTART;VALUE=DATE:20260501
DTEND;VALUE=DATE:20260502
DTSTAMP:20260423T062303
CREATED:20260422T184040Z
LAST-MODIFIED:20260422T184040Z
UID:10013756-1777593600-1777679999@www.thespinneyatvandyke.com
SUMMARY:Scavenger Hunt Begins
DESCRIPTION:
URL:https://www.thespinneyatvandyke.com/event/scavenger-hunt-begins/
LOCATION:The Spinney at Van Dyke\, 6 Parker Mathusa Place\, Delmar\, NY\, 12054
CATEGORIES:Environmental
END:VEVENT
BEGIN:VEVENT
DTSTART;TZID=America/New_York:20260430T123000
DTEND;TZID=America/New_York:20260430T143000
DTSTAMP:20260423T062303
CREATED:20250325T215156Z
LAST-MODIFIED:20260422T195533Z
UID:10006661-1777552200-1777559400@www.thespinneyatvandyke.com
SUMMARY:Hand and Foot Game
DESCRIPTION:
URL:https://www.thespinneyatvandyke.com/event/hand-and-food-game/2026-04-30/
LOCATION:The Spinney at Van Dyke\, 6 Parker Mathusa Place\, Delmar\, NY\, 12054
CATEGORIES:Social
END:VEVENT
BEGIN:VEVENT
DTSTART;TZID=America/New_York:20260430T100000
DTEND;TZID=America/New_York:20260430T120000
DTSTAMP:20260423T062303
CREATED:20251125T152728Z
LAST-MODIFIED:20260422T195359Z
UID:10011370-1777543200-1777550400@www.thespinneyatvandyke.com
SUMMARY:Bridge
DESCRIPTION:
URL:https://www.thespinneyatvandyke.com/event/bridge/2026-04-30/
CATEGORIES:Social
END:VEVENT
END:VCALENDAR