BEGIN:VCALENDAR
VERSION:2.0
PRODID:-//The Spinney at Van Dyke - ECPv6.15.20//NONSGML v1.0//EN
CALSCALE:GREGORIAN
METHOD:PUBLISH
X-WR-CALNAME:The Spinney at Van Dyke
X-ORIGINAL-URL:https://www.thespinneyatvandyke.com
X-WR-CALDESC:Events for The Spinney at Van Dyke
REFRESH-INTERVAL;VALUE=DURATION:PT1H
X-Robots-Tag:noindex
X-PUBLISHED-TTL:PT1H
BEGIN:VTIMEZONE
TZID:UTC
BEGIN:STANDARD
TZOFFSETFROM:+0000
TZOFFSETTO:+0000
TZNAME:UTC
DTSTART:20240101T000000
END:STANDARD
END:VTIMEZONE
BEGIN:VTIMEZONE
TZID:America/New_York
BEGIN:DAYLIGHT
TZOFFSETFROM:-0500
TZOFFSETTO:-0400
TZNAME:EDT
DTSTART:20240310T070000
END:DAYLIGHT
BEGIN:STANDARD
TZOFFSETFROM:-0400
TZOFFSETTO:-0500
TZNAME:EST
DTSTART:20241103T060000
END:STANDARD
BEGIN:DAYLIGHT
TZOFFSETFROM:-0500
TZOFFSETTO:-0400
TZNAME:EDT
DTSTART:20250309T070000
END:DAYLIGHT
BEGIN:STANDARD
TZOFFSETFROM:-0400
TZOFFSETTO:-0500
TZNAME:EST
DTSTART:20251102T060000
END:STANDARD
BEGIN:DAYLIGHT
TZOFFSETFROM:-0500
TZOFFSETTO:-0400
TZNAME:EDT
DTSTART:20260308T070000
END:DAYLIGHT
BEGIN:STANDARD
TZOFFSETFROM:-0400
TZOFFSETTO:-0500
TZNAME:EST
DTSTART:20261101T060000
END:STANDARD
END:VTIMEZONE
BEGIN:VEVENT
DTSTART;TZID=UTC:20251124T183000
DTEND;TZID=UTC:20251124T203000
DTSTAMP:20260423T180421
CREATED:20230923T225926Z
LAST-MODIFIED:20251229T170229Z
UID:10001966-1764009000-1764016200@www.thespinneyatvandyke.com
SUMMARY:Billiards and Poker
DESCRIPTION:A casual group meet-up of neighbors to play or learn-to-play pool and poker in The Clubhouse.
URL:https://www.thespinneyatvandyke.com/event/billiards-2/2025-11-24/
LOCATION:The Spinney at Van Dyke\, 6 Parker Mathusa Place\, Delmar\, NY\, 12054
CATEGORIES:Intellectual,Social
END:VEVENT
BEGIN:VEVENT
DTSTART;TZID=America/New_York:20251124T130000
DTEND;TZID=America/New_York:20251124T150000
DTSTAMP:20260423T180421
CREATED:20250325T220820Z
LAST-MODIFIED:20250325T220820Z
UID:10007230-1763989200-1763996400@www.thespinneyatvandyke.com
SUMMARY:Mahjong
DESCRIPTION:Learn to play Mahjong.
URL:https://www.thespinneyatvandyke.com/event/mahjong/2025-11-24/
LOCATION:The Spinney at Van Dyke\, 6 Parker Mathusa Place\, Delmar\, NY\, 12054
CATEGORIES:Social
END:VEVENT
BEGIN:VEVENT
DTSTART;TZID=UTC:20251124T130000
DTEND;TZID=UTC:20251124T140000
DTSTAMP:20260423T180421
CREATED:20230726T230137Z
LAST-MODIFIED:20230726T230137Z
UID:10000735-1763989200-1763992800@www.thespinneyatvandyke.com
SUMMARY:Scrabble
DESCRIPTION:Meet-up with neighbors for a game of Scrabble.
URL:https://www.thespinneyatvandyke.com/event/scrabble/2025-11-24/
LOCATION:The Spinney at Van Dyke\, 6 Parker Mathusa Place\, Delmar\, NY\, 12054
CATEGORIES:Intellectual
END:VEVENT
BEGIN:VEVENT
DTSTART;TZID=America/New_York:20251124T090000
DTEND;TZID=America/New_York:20251124T093000
DTSTAMP:20260423T180421
CREATED:20250923T175320Z
LAST-MODIFIED:20250923T175320Z
UID:10009032-1763974800-1763976600@www.thespinneyatvandyke.com
SUMMARY:Fall Frolic
DESCRIPTION:
URL:https://www.thespinneyatvandyke.com/event/fall-frolic/2025-11-24/
LOCATION:The Spinney at Van Dyke\, 6 Parker Mathusa Place\, Delmar\, NY\, 12054
CATEGORIES:Environmental
END:VEVENT
BEGIN:VEVENT
DTSTART;TZID=America/New_York:20251123T140000
DTEND;TZID=America/New_York:20251123T150000
DTSTAMP:20260423T180421
CREATED:20251028T184147Z
LAST-MODIFIED:20251028T184147Z
UID:10009808-1763906400-1763910000@www.thespinneyatvandyke.com
SUMMARY:Bingo
DESCRIPTION:
URL:https://www.thespinneyatvandyke.com/event/bingo-7/
LOCATION:The Spinney at Van Dyke\, 6 Parker Mathusa Place\, Delmar\, NY\, 12054
CATEGORIES:Social
END:VEVENT
BEGIN:VEVENT
DTSTART;TZID=America/New_York:20251121T160000
DTEND;TZID=America/New_York:20251121T180000
DTSTAMP:20260423T180421
CREATED:20250522T164816Z
LAST-MODIFIED:20250625T155348Z
UID:10008563-1763740800-1763748000@www.thespinneyatvandyke.com
SUMMARY:Resident led Happy Hour
DESCRIPTION:
URL:https://www.thespinneyatvandyke.com/event/resident-led-happy-hour-5/2025-11-21/
LOCATION:The Spinney at Van Dyke\, 6 Parker Mathusa Place\, Delmar\, NY\, 12054
CATEGORIES:Social
END:VEVENT
BEGIN:VEVENT
DTSTART;TZID=America/New_York:20251121T120000
DTEND;TZID=America/New_York:20251121T130000
DTSTAMP:20260423T180421
CREATED:20251028T183837Z
LAST-MODIFIED:20251028T183837Z
UID:10009805-1763726400-1763730000@www.thespinneyatvandyke.com
SUMMARY:Birthday Bash
DESCRIPTION:
URL:https://www.thespinneyatvandyke.com/event/birthday-bash-13/
LOCATION:The Spinney at Van Dyke\, 6 Parker Mathusa Place\, Delmar\, NY\, 12054
CATEGORIES:Social
END:VEVENT
BEGIN:VEVENT
DTSTART;TZID=America/New_York:20251121T090000
DTEND;TZID=America/New_York:20251121T093000
DTSTAMP:20260423T180421
CREATED:20250923T175320Z
LAST-MODIFIED:20250923T175320Z
UID:10009031-1763715600-1763717400@www.thespinneyatvandyke.com
SUMMARY:Fall Frolic
DESCRIPTION:
URL:https://www.thespinneyatvandyke.com/event/fall-frolic/2025-11-21/
LOCATION:The Spinney at Van Dyke\, 6 Parker Mathusa Place\, Delmar\, NY\, 12054
CATEGORIES:Environmental
END:VEVENT
BEGIN:VEVENT
DTSTART;TZID=America/New_York:20251120T170000
DTEND;TZID=America/New_York:20251120T200000
DTSTAMP:20260423T180421
CREATED:20251028T183514Z
LAST-MODIFIED:20251028T183514Z
UID:10009804-1763658000-1763668800@www.thespinneyatvandyke.com
SUMMARY:Friendsgiving
DESCRIPTION:
URL:https://www.thespinneyatvandyke.com/event/friendsgiving-2/
LOCATION:The Spinney at Van Dyke\, 6 Parker Mathusa Place\, Delmar\, NY\, 12054
CATEGORIES:Social
END:VEVENT
BEGIN:VEVENT
DTSTART;TZID=America/New_York:20251120T123000
DTEND;TZID=America/New_York:20251120T143000
DTSTAMP:20260423T180421
CREATED:20250325T215156Z
LAST-MODIFIED:20260422T195533Z
UID:10006638-1763641800-1763649000@www.thespinneyatvandyke.com
SUMMARY:Hand and Foot Game
DESCRIPTION:
URL:https://www.thespinneyatvandyke.com/event/hand-and-food-game/2025-11-20/
LOCATION:The Spinney at Van Dyke\, 6 Parker Mathusa Place\, Delmar\, NY\, 12054
CATEGORIES:Social
END:VEVENT
BEGIN:VEVENT
DTSTART;TZID=America/New_York:20251120T083000
DTEND;TZID=America/New_York:20251120T093000
DTSTAMP:20260423T180421
CREATED:20251028T182158Z
LAST-MODIFIED:20260422T195255Z
UID:10009543-1763627400-1763631000@www.thespinneyatvandyke.com
SUMMARY:Spinney Strength
DESCRIPTION:
URL:https://www.thespinneyatvandyke.com/event/spinney-strength-3-2/2025-11-20/
LOCATION:The Spinney at Van Dyke\, 6 Parker Mathusa Place\, Delmar\, NY\, 12054
CATEGORIES:Wellness
END:VEVENT
BEGIN:VEVENT
DTSTART;TZID=America/New_York:20251119T163000
DTEND;TZID=America/New_York:20251119T170000
DTSTAMP:20260423T180421
CREATED:20250325T214941Z
LAST-MODIFIED:20251125T152319Z
UID:10006377-1763569800-1763571600@www.thespinneyatvandyke.com
SUMMARY:Maisie's and Bread Delivery
DESCRIPTION:
URL:https://www.thespinneyatvandyke.com/event/maisies-and-bread-delivery/2025-11-19/
LOCATION:The Spinney at Van Dyke\, 6 Parker Mathusa Place\, Delmar\, NY\, 12054
END:VEVENT
BEGIN:VEVENT
DTSTART;TZID=America/New_York:20251119T150000
DTEND;TZID=America/New_York:20251119T160000
DTSTAMP:20260423T180421
CREATED:20251028T183316Z
LAST-MODIFIED:20251028T183316Z
UID:10009803-1763564400-1763568000@www.thespinneyatvandyke.com
SUMMARY:Exercise Prescription/Mindful Movements\, with Kevin Paulson PT\, MS
DESCRIPTION:
URL:https://www.thespinneyatvandyke.com/event/exercise-prescription-mindful-movements-with-kevin-paulson-pt-ms/
LOCATION:The Spinney at Van Dyke\, 6 Parker Mathusa Place\, Delmar\, NY\, 12054
CATEGORIES:Intellectual
END:VEVENT
BEGIN:VEVENT
DTSTART;TZID=America/New_York:20251119T140000
DTEND;TZID=America/New_York:20251119T170000
DTSTAMP:20260423T180421
CREATED:20250924T135216Z
LAST-MODIFIED:20251125T152231Z
UID:10009157-1763560800-1763571600@www.thespinneyatvandyke.com
SUMMARY:Baked by Madison Pop Up
DESCRIPTION:
URL:https://www.thespinneyatvandyke.com/event/baked-by-madison-pop-up-2/2025-11-19/
LOCATION:Adams Station\, 1 Juniper Drive\, Delmar\, 12054\, United States
CATEGORIES:Community
END:VEVENT
BEGIN:VEVENT
DTSTART;TZID=America/New_York:20251119T130000
DTEND;TZID=America/New_York:20251119T140000
DTSTAMP:20260423T180421
CREATED:20250325T213707Z
LAST-MODIFIED:20260330T174359Z
UID:10005988-1763557200-1763560800@www.thespinneyatvandyke.com
SUMMARY:Nia
DESCRIPTION:
URL:https://www.thespinneyatvandyke.com/event/nia/2025-11-19/
LOCATION:The Spinney at Van Dyke\, 6 Parker Mathusa Place\, Delmar\, NY\, 12054
CATEGORIES:Wellness
END:VEVENT
BEGIN:VEVENT
DTSTART;TZID=America/New_York:20251118T160000
DTEND;TZID=America/New_York:20251118T170000
DTSTAMP:20260423T180421
CREATED:20250325T172751Z
LAST-MODIFIED:20260127T165221Z
UID:10013102-1763481600-1763485200@www.thespinneyatvandyke.com
SUMMARY:Handwork
DESCRIPTION:
URL:https://www.thespinneyatvandyke.com/event/handwork/2025-11-18/
LOCATION:The Spinney at Van Dyke\, 6 Parker Mathusa Place\, Delmar\, NY\, 12054
CATEGORIES:Social
END:VEVENT
BEGIN:VEVENT
DTSTART;TZID=America/New_York:20251118T130000
DTEND;TZID=America/New_York:20251118T143000
DTSTAMP:20260423T180421
CREATED:20251028T183105Z
LAST-MODIFIED:20251028T183105Z
UID:10009802-1763470800-1763476200@www.thespinneyatvandyke.com
SUMMARY:Trivia and Treats
DESCRIPTION:
URL:https://www.thespinneyatvandyke.com/event/trivia-and-treats-3/
LOCATION:The Spinney at Van Dyke\, 6 Parker Mathusa Place\, Delmar\, NY\, 12054
CATEGORIES:Intellectual
END:VEVENT
BEGIN:VEVENT
DTSTART;TZID=America/New_York:20251118T113000
DTEND;TZID=America/New_York:20251118T123000
DTSTAMP:20260423T180421
CREATED:20251028T182909Z
LAST-MODIFIED:20251028T182909Z
UID:10009801-1763465400-1763469000@www.thespinneyatvandyke.com
SUMMARY:History Club
DESCRIPTION:
URL:https://www.thespinneyatvandyke.com/event/history-club-4/
LOCATION:The Spinney at Van Dyke\, 6 Parker Mathusa Place\, Delmar\, NY\, 12054
CATEGORIES:Intellectual
END:VEVENT
BEGIN:VEVENT
DTSTART;TZID=UTC:20251117T183000
DTEND;TZID=UTC:20251117T203000
DTSTAMP:20260423T180421
CREATED:20230923T225926Z
LAST-MODIFIED:20251229T170229Z
UID:10001965-1763404200-1763411400@www.thespinneyatvandyke.com
SUMMARY:Billiards and Poker
DESCRIPTION:A casual group meet-up of neighbors to play or learn-to-play pool and poker in The Clubhouse.
URL:https://www.thespinneyatvandyke.com/event/billiards-2/2025-11-17/
LOCATION:The Spinney at Van Dyke\, 6 Parker Mathusa Place\, Delmar\, NY\, 12054
CATEGORIES:Intellectual,Social
END:VEVENT
BEGIN:VEVENT
DTSTART;TZID=America/New_York:20251117T130000
DTEND;TZID=America/New_York:20251117T150000
DTSTAMP:20260423T180421
CREATED:20250325T220820Z
LAST-MODIFIED:20250325T220820Z
UID:10007229-1763384400-1763391600@www.thespinneyatvandyke.com
SUMMARY:Mahjong
DESCRIPTION:Learn to play Mahjong.
URL:https://www.thespinneyatvandyke.com/event/mahjong/2025-11-17/
LOCATION:The Spinney at Van Dyke\, 6 Parker Mathusa Place\, Delmar\, NY\, 12054
CATEGORIES:Social
END:VEVENT
BEGIN:VEVENT
DTSTART;TZID=UTC:20251117T130000
DTEND;TZID=UTC:20251117T140000
DTSTAMP:20260423T180421
CREATED:20230726T230137Z
LAST-MODIFIED:20230726T230137Z
UID:10000734-1763384400-1763388000@www.thespinneyatvandyke.com
SUMMARY:Scrabble
DESCRIPTION:Meet-up with neighbors for a game of Scrabble.
URL:https://www.thespinneyatvandyke.com/event/scrabble/2025-11-17/
LOCATION:The Spinney at Van Dyke\, 6 Parker Mathusa Place\, Delmar\, NY\, 12054
CATEGORIES:Intellectual
END:VEVENT
BEGIN:VEVENT
DTSTART;TZID=America/New_York:20251117T090000
DTEND;TZID=America/New_York:20251117T093000
DTSTAMP:20260423T180421
CREATED:20250923T175320Z
LAST-MODIFIED:20250923T175320Z
UID:10009030-1763370000-1763371800@www.thespinneyatvandyke.com
SUMMARY:Fall Frolic
DESCRIPTION:
URL:https://www.thespinneyatvandyke.com/event/fall-frolic/2025-11-17/
LOCATION:The Spinney at Van Dyke\, 6 Parker Mathusa Place\, Delmar\, NY\, 12054
CATEGORIES:Environmental
END:VEVENT
BEGIN:VEVENT
DTSTART;TZID=America/New_York:20251116T130000
DTEND;TZID=America/New_York:20251116T150000
DTSTAMP:20260423T180421
CREATED:20251028T184102Z
LAST-MODIFIED:20251028T184102Z
UID:10009807-1763298000-1763305200@www.thespinneyatvandyke.com
SUMMARY:Jim Jam
DESCRIPTION:
URL:https://www.thespinneyatvandyke.com/event/jim-jam-2/
LOCATION:The Spinney at Van Dyke\, 6 Parker Mathusa Place\, Delmar\, NY\, 12054
CATEGORIES:Social
END:VEVENT
BEGIN:VEVENT
DTSTART;TZID=America/New_York:20251114T160000
DTEND;TZID=America/New_York:20251114T180000
DTSTAMP:20260423T180421
CREATED:20250522T164816Z
LAST-MODIFIED:20250625T155348Z
UID:10008562-1763136000-1763143200@www.thespinneyatvandyke.com
SUMMARY:Resident led Happy Hour
DESCRIPTION:
URL:https://www.thespinneyatvandyke.com/event/resident-led-happy-hour-5/2025-11-14/
LOCATION:The Spinney at Van Dyke\, 6 Parker Mathusa Place\, Delmar\, NY\, 12054
CATEGORIES:Social
END:VEVENT
BEGIN:VEVENT
DTSTART;TZID=America/New_York:20251114T090000
DTEND;TZID=America/New_York:20251114T093000
DTSTAMP:20260423T180421
CREATED:20250923T175320Z
LAST-MODIFIED:20250923T175320Z
UID:10009029-1763110800-1763112600@www.thespinneyatvandyke.com
SUMMARY:Fall Frolic
DESCRIPTION:
URL:https://www.thespinneyatvandyke.com/event/fall-frolic/2025-11-14/
LOCATION:The Spinney at Van Dyke\, 6 Parker Mathusa Place\, Delmar\, NY\, 12054
CATEGORIES:Environmental
END:VEVENT
BEGIN:VEVENT
DTSTART;TZID=America/New_York:20251113T143000
DTEND;TZID=America/New_York:20251113T163000
DTSTAMP:20260423T180421
CREATED:20250325T223133Z
LAST-MODIFIED:20250325T223133Z
UID:10007467-1763044200-1763051400@www.thespinneyatvandyke.com
SUMMARY:Crafternoon
DESCRIPTION:
URL:https://www.thespinneyatvandyke.com/event/crafternoon-3/2025-11-13/
LOCATION:The Spinney at Van Dyke\, 6 Parker Mathusa Place\, Delmar\, NY\, 12054
CATEGORIES:Intellectual
END:VEVENT
BEGIN:VEVENT
DTSTART;TZID=America/New_York:20251113T123000
DTEND;TZID=America/New_York:20251113T143000
DTSTAMP:20260423T180421
CREATED:20250325T215156Z
LAST-MODIFIED:20260422T195533Z
UID:10006637-1763037000-1763044200@www.thespinneyatvandyke.com
SUMMARY:Hand and Foot Game
DESCRIPTION:
URL:https://www.thespinneyatvandyke.com/event/hand-and-food-game/2025-11-13/
LOCATION:The Spinney at Van Dyke\, 6 Parker Mathusa Place\, Delmar\, NY\, 12054
CATEGORIES:Social
END:VEVENT
BEGIN:VEVENT
DTSTART;TZID=America/New_York:20251113T083000
DTEND;TZID=America/New_York:20251113T093000
DTSTAMP:20260423T180421
CREATED:20251028T182158Z
LAST-MODIFIED:20260422T195255Z
UID:10009542-1763022600-1763026200@www.thespinneyatvandyke.com
SUMMARY:Spinney Strength
DESCRIPTION:
URL:https://www.thespinneyatvandyke.com/event/spinney-strength-3-2/2025-11-13/
LOCATION:The Spinney at Van Dyke\, 6 Parker Mathusa Place\, Delmar\, NY\, 12054
CATEGORIES:Wellness
END:VEVENT
BEGIN:VEVENT
DTSTART;TZID=America/New_York:20251112T163000
DTEND;TZID=America/New_York:20251112T170000
DTSTAMP:20260423T180421
CREATED:20250325T214941Z
LAST-MODIFIED:20251125T152319Z
UID:10006376-1762965000-1762966800@www.thespinneyatvandyke.com
SUMMARY:Maisie's and Bread Delivery
DESCRIPTION:
URL:https://www.thespinneyatvandyke.com/event/maisies-and-bread-delivery/2025-11-12/
LOCATION:The Spinney at Van Dyke\, 6 Parker Mathusa Place\, Delmar\, NY\, 12054
END:VEVENT
BEGIN:VEVENT
DTSTART;TZID=America/New_York:20251112T140000
DTEND;TZID=America/New_York:20251112T170000
DTSTAMP:20260423T180421
CREATED:20250924T135216Z
LAST-MODIFIED:20251125T152231Z
UID:10009156-1762956000-1762966800@www.thespinneyatvandyke.com
SUMMARY:Baked by Madison Pop Up
DESCRIPTION:
URL:https://www.thespinneyatvandyke.com/event/baked-by-madison-pop-up-2/2025-11-12/
LOCATION:Adams Station\, 1 Juniper Drive\, Delmar\, 12054\, United States
CATEGORIES:Community
END:VEVENT
END:VCALENDAR