BEGIN:VCALENDAR
VERSION:2.0
PRODID:-//The Spinney at Van Dyke - ECPv6.15.20//NONSGML v1.0//EN
CALSCALE:GREGORIAN
METHOD:PUBLISH
X-WR-CALNAME:The Spinney at Van Dyke
X-ORIGINAL-URL:https://www.thespinneyatvandyke.com
X-WR-CALDESC:Events for The Spinney at Van Dyke
REFRESH-INTERVAL;VALUE=DURATION:PT1H
X-Robots-Tag:noindex
X-PUBLISHED-TTL:PT1H
BEGIN:VTIMEZONE
TZID:America/New_York
BEGIN:DAYLIGHT
TZOFFSETFROM:-0500
TZOFFSETTO:-0400
TZNAME:EDT
DTSTART:20240310T070000
END:DAYLIGHT
BEGIN:STANDARD
TZOFFSETFROM:-0400
TZOFFSETTO:-0500
TZNAME:EST
DTSTART:20241103T060000
END:STANDARD
BEGIN:DAYLIGHT
TZOFFSETFROM:-0500
TZOFFSETTO:-0400
TZNAME:EDT
DTSTART:20250309T070000
END:DAYLIGHT
BEGIN:STANDARD
TZOFFSETFROM:-0400
TZOFFSETTO:-0500
TZNAME:EST
DTSTART:20251102T060000
END:STANDARD
BEGIN:DAYLIGHT
TZOFFSETFROM:-0500
TZOFFSETTO:-0400
TZNAME:EDT
DTSTART:20260308T070000
END:DAYLIGHT
BEGIN:STANDARD
TZOFFSETFROM:-0400
TZOFFSETTO:-0500
TZNAME:EST
DTSTART:20261101T060000
END:STANDARD
END:VTIMEZONE
BEGIN:VTIMEZONE
TZID:UTC
BEGIN:STANDARD
TZOFFSETFROM:+0000
TZOFFSETTO:+0000
TZNAME:UTC
DTSTART:20240101T000000
END:STANDARD
END:VTIMEZONE
BEGIN:VEVENT
DTSTART;TZID=America/New_York:20251114T160000
DTEND;TZID=America/New_York:20251114T180000
DTSTAMP:20260425T212025
CREATED:20250522T164816Z
LAST-MODIFIED:20250625T155348Z
UID:10008562-1763136000-1763143200@www.thespinneyatvandyke.com
SUMMARY:Resident led Happy Hour
DESCRIPTION:
URL:https://www.thespinneyatvandyke.com/event/resident-led-happy-hour-5/2025-11-14/
LOCATION:The Spinney at Van Dyke\, 6 Parker Mathusa Place\, Delmar\, NY\, 12054
CATEGORIES:Social
END:VEVENT
BEGIN:VEVENT
DTSTART;TZID=America/New_York:20251114T090000
DTEND;TZID=America/New_York:20251114T093000
DTSTAMP:20260425T212025
CREATED:20250923T175320Z
LAST-MODIFIED:20250923T175320Z
UID:10009029-1763110800-1763112600@www.thespinneyatvandyke.com
SUMMARY:Fall Frolic
DESCRIPTION:
URL:https://www.thespinneyatvandyke.com/event/fall-frolic/2025-11-14/
LOCATION:The Spinney at Van Dyke\, 6 Parker Mathusa Place\, Delmar\, NY\, 12054
CATEGORIES:Environmental
END:VEVENT
BEGIN:VEVENT
DTSTART;TZID=America/New_York:20251113T143000
DTEND;TZID=America/New_York:20251113T163000
DTSTAMP:20260425T212025
CREATED:20250325T223133Z
LAST-MODIFIED:20250325T223133Z
UID:10007467-1763044200-1763051400@www.thespinneyatvandyke.com
SUMMARY:Crafternoon
DESCRIPTION:
URL:https://www.thespinneyatvandyke.com/event/crafternoon-3/2025-11-13/
LOCATION:The Spinney at Van Dyke\, 6 Parker Mathusa Place\, Delmar\, NY\, 12054
CATEGORIES:Intellectual
END:VEVENT
BEGIN:VEVENT
DTSTART;TZID=America/New_York:20251113T123000
DTEND;TZID=America/New_York:20251113T143000
DTSTAMP:20260425T212025
CREATED:20250325T215156Z
LAST-MODIFIED:20260422T195533Z
UID:10006637-1763037000-1763044200@www.thespinneyatvandyke.com
SUMMARY:Hand and Foot Game
DESCRIPTION:
URL:https://www.thespinneyatvandyke.com/event/hand-and-food-game/2025-11-13/
LOCATION:The Spinney at Van Dyke\, 6 Parker Mathusa Place\, Delmar\, NY\, 12054
CATEGORIES:Social
END:VEVENT
BEGIN:VEVENT
DTSTART;TZID=America/New_York:20251113T083000
DTEND;TZID=America/New_York:20251113T093000
DTSTAMP:20260425T212025
CREATED:20251028T182158Z
LAST-MODIFIED:20260422T195255Z
UID:10009542-1763022600-1763026200@www.thespinneyatvandyke.com
SUMMARY:Spinney Strength
DESCRIPTION:
URL:https://www.thespinneyatvandyke.com/event/spinney-strength-3-2/2025-11-13/
LOCATION:The Spinney at Van Dyke\, 6 Parker Mathusa Place\, Delmar\, NY\, 12054
CATEGORIES:Wellness
END:VEVENT
BEGIN:VEVENT
DTSTART;TZID=America/New_York:20251112T163000
DTEND;TZID=America/New_York:20251112T170000
DTSTAMP:20260425T212025
CREATED:20250325T214941Z
LAST-MODIFIED:20251125T152319Z
UID:10006376-1762965000-1762966800@www.thespinneyatvandyke.com
SUMMARY:Maisie's and Bread Delivery
DESCRIPTION:
URL:https://www.thespinneyatvandyke.com/event/maisies-and-bread-delivery/2025-11-12/
LOCATION:The Spinney at Van Dyke\, 6 Parker Mathusa Place\, Delmar\, NY\, 12054
END:VEVENT
BEGIN:VEVENT
DTSTART;TZID=America/New_York:20251112T140000
DTEND;TZID=America/New_York:20251112T170000
DTSTAMP:20260425T212025
CREATED:20250924T135216Z
LAST-MODIFIED:20251125T152231Z
UID:10009156-1762956000-1762966800@www.thespinneyatvandyke.com
SUMMARY:Baked by Madison Pop Up
DESCRIPTION:
URL:https://www.thespinneyatvandyke.com/event/baked-by-madison-pop-up-2/2025-11-12/
LOCATION:Adams Station\, 1 Juniper Drive\, Delmar\, 12054\, United States
CATEGORIES:Community
END:VEVENT
BEGIN:VEVENT
DTSTART;TZID=America/New_York:20251112T130000
DTEND;TZID=America/New_York:20251112T140000
DTSTAMP:20260425T212025
CREATED:20250325T213707Z
LAST-MODIFIED:20260330T174359Z
UID:10005987-1762952400-1762956000@www.thespinneyatvandyke.com
SUMMARY:Nia
DESCRIPTION:
URL:https://www.thespinneyatvandyke.com/event/nia/2025-11-12/
LOCATION:The Spinney at Van Dyke\, 6 Parker Mathusa Place\, Delmar\, NY\, 12054
CATEGORIES:Wellness
END:VEVENT
BEGIN:VEVENT
DTSTART;TZID=America/New_York:20251111T160000
DTEND;TZID=America/New_York:20251111T170000
DTSTAMP:20260425T212025
CREATED:20250325T172751Z
LAST-MODIFIED:20260127T165221Z
UID:10013101-1762876800-1762880400@www.thespinneyatvandyke.com
SUMMARY:Handwork
DESCRIPTION:
URL:https://www.thespinneyatvandyke.com/event/handwork/2025-11-11/
LOCATION:The Spinney at Van Dyke\, 6 Parker Mathusa Place\, Delmar\, NY\, 12054
CATEGORIES:Social
END:VEVENT
BEGIN:VEVENT
DTSTART;TZID=America/New_York:20251111T130000
DTEND;TZID=America/New_York:20251111T150000
DTSTAMP:20260425T212025
CREATED:20251028T201604Z
LAST-MODIFIED:20251028T201604Z
UID:10009809-1762866000-1762873200@www.thespinneyatvandyke.com
SUMMARY:Movie Matinee
DESCRIPTION:
URL:https://www.thespinneyatvandyke.com/event/movie-matinee-25/
LOCATION:The Spinney at Van Dyke\, 6 Parker Mathusa Place\, Delmar\, NY\, 12054
CATEGORIES:Social
END:VEVENT
BEGIN:VEVENT
DTSTART;TZID=America/New_York:20251111T090000
DTEND;TZID=America/New_York:20251111T110000
DTSTAMP:20260425T212025
CREATED:20251028T181905Z
LAST-MODIFIED:20251028T181905Z
UID:10009541-1762851600-1762858800@www.thespinneyatvandyke.com
SUMMARY:Hero's Among us: A Veterans Day Tribute
DESCRIPTION:
URL:https://www.thespinneyatvandyke.com/event/heros-among-us-a-veterans-day-tribute/
LOCATION:The Spinney at Van Dyke\, 6 Parker Mathusa Place\, Delmar\, NY\, 12054
CATEGORIES:Social
END:VEVENT
BEGIN:VEVENT
DTSTART;TZID=UTC:20251110T183000
DTEND;TZID=UTC:20251110T203000
DTSTAMP:20260425T212025
CREATED:20230923T225926Z
LAST-MODIFIED:20251229T170229Z
UID:10001964-1762799400-1762806600@www.thespinneyatvandyke.com
SUMMARY:Billiards and Poker
DESCRIPTION:A casual group meet-up of neighbors to play or learn-to-play pool and poker in The Clubhouse.
URL:https://www.thespinneyatvandyke.com/event/billiards-2/2025-11-10/
LOCATION:The Spinney at Van Dyke\, 6 Parker Mathusa Place\, Delmar\, NY\, 12054
CATEGORIES:Intellectual,Social
END:VEVENT
BEGIN:VEVENT
DTSTART;TZID=America/New_York:20251110T130000
DTEND;TZID=America/New_York:20251110T150000
DTSTAMP:20260425T212025
CREATED:20250325T220820Z
LAST-MODIFIED:20250325T220820Z
UID:10007228-1762779600-1762786800@www.thespinneyatvandyke.com
SUMMARY:Mahjong
DESCRIPTION:Learn to play Mahjong.
URL:https://www.thespinneyatvandyke.com/event/mahjong/2025-11-10/
LOCATION:The Spinney at Van Dyke\, 6 Parker Mathusa Place\, Delmar\, NY\, 12054
CATEGORIES:Social
END:VEVENT
BEGIN:VEVENT
DTSTART;TZID=UTC:20251110T130000
DTEND;TZID=UTC:20251110T140000
DTSTAMP:20260425T212025
CREATED:20230726T230137Z
LAST-MODIFIED:20230726T230137Z
UID:10000733-1762779600-1762783200@www.thespinneyatvandyke.com
SUMMARY:Scrabble
DESCRIPTION:Meet-up with neighbors for a game of Scrabble.
URL:https://www.thespinneyatvandyke.com/event/scrabble/2025-11-10/
LOCATION:The Spinney at Van Dyke\, 6 Parker Mathusa Place\, Delmar\, NY\, 12054
CATEGORIES:Intellectual
END:VEVENT
BEGIN:VEVENT
DTSTART;TZID=America/New_York:20251110T090000
DTEND;TZID=America/New_York:20251110T093000
DTSTAMP:20260425T212025
CREATED:20250923T175320Z
LAST-MODIFIED:20250923T175320Z
UID:10009028-1762765200-1762767000@www.thespinneyatvandyke.com
SUMMARY:Fall Frolic
DESCRIPTION:
URL:https://www.thespinneyatvandyke.com/event/fall-frolic/2025-11-10/
LOCATION:The Spinney at Van Dyke\, 6 Parker Mathusa Place\, Delmar\, NY\, 12054
CATEGORIES:Environmental
END:VEVENT
BEGIN:VEVENT
DTSTART;TZID=America/New_York:20251109T140000
DTEND;TZID=America/New_York:20251109T150000
DTSTAMP:20260425T212025
CREATED:20251028T184003Z
LAST-MODIFIED:20251028T184406Z
UID:10009806-1762696800-1762700400@www.thespinneyatvandyke.com
SUMMARY:Bingo
DESCRIPTION:
URL:https://www.thespinneyatvandyke.com/event/bingo-6/
LOCATION:The Spinney at Van Dyke\, 6 Parker Mathusa Place\, Delmar\, NY\, 12054
CATEGORIES:Social
END:VEVENT
BEGIN:VEVENT
DTSTART;TZID=America/New_York:20251109T130000
DTEND;TZID=America/New_York:20251109T140000
DTSTAMP:20260425T212025
CREATED:20251028T181656Z
LAST-MODIFIED:20251028T181656Z
UID:10009540-1762693200-1762696800@www.thespinneyatvandyke.com
SUMMARY:Children's Book Reading
DESCRIPTION:
URL:https://www.thespinneyatvandyke.com/event/childrens-book-reading/
LOCATION:Adams Station\, 1 Juniper Drive\, Delmar\, 12054\, United States
CATEGORIES:Intellectual
END:VEVENT
BEGIN:VEVENT
DTSTART;TZID=America/New_York:20251107T160000
DTEND;TZID=America/New_York:20251107T180000
DTSTAMP:20260425T212025
CREATED:20250522T164816Z
LAST-MODIFIED:20250625T155348Z
UID:10008561-1762531200-1762538400@www.thespinneyatvandyke.com
SUMMARY:Resident led Happy Hour
DESCRIPTION:
URL:https://www.thespinneyatvandyke.com/event/resident-led-happy-hour-5/2025-11-07/
LOCATION:The Spinney at Van Dyke\, 6 Parker Mathusa Place\, Delmar\, NY\, 12054
CATEGORIES:Social
END:VEVENT
BEGIN:VEVENT
DTSTART;TZID=America/New_York:20251107T090000
DTEND;TZID=America/New_York:20251107T093000
DTSTAMP:20260425T212025
CREATED:20250923T175320Z
LAST-MODIFIED:20250923T175320Z
UID:10009027-1762506000-1762507800@www.thespinneyatvandyke.com
SUMMARY:Fall Frolic
DESCRIPTION:
URL:https://www.thespinneyatvandyke.com/event/fall-frolic/2025-11-07/
LOCATION:The Spinney at Van Dyke\, 6 Parker Mathusa Place\, Delmar\, NY\, 12054
CATEGORIES:Environmental
END:VEVENT
BEGIN:VEVENT
DTSTART;TZID=America/New_York:20251106T123000
DTEND;TZID=America/New_York:20251106T143000
DTSTAMP:20260425T212025
CREATED:20250325T215156Z
LAST-MODIFIED:20260422T195533Z
UID:10006636-1762432200-1762439400@www.thespinneyatvandyke.com
SUMMARY:Hand and Foot Game
DESCRIPTION:
URL:https://www.thespinneyatvandyke.com/event/hand-and-food-game/2025-11-06/
LOCATION:The Spinney at Van Dyke\, 6 Parker Mathusa Place\, Delmar\, NY\, 12054
CATEGORIES:Social
END:VEVENT
BEGIN:VEVENT
DTSTART;TZID=America/New_York:20251106T083000
DTEND;TZID=America/New_York:20251106T093000
DTSTAMP:20260425T212025
CREATED:20251028T182158Z
LAST-MODIFIED:20260422T195255Z
UID:10006896-1762417800-1762421400@www.thespinneyatvandyke.com
SUMMARY:Spinney Strength
DESCRIPTION:
URL:https://www.thespinneyatvandyke.com/event/spinney-strength-3-2/2025-11-06/
LOCATION:The Spinney at Van Dyke\, 6 Parker Mathusa Place\, Delmar\, NY\, 12054
CATEGORIES:Wellness
END:VEVENT
BEGIN:VEVENT
DTSTART;TZID=America/New_York:20251105T173000
DTEND;TZID=America/New_York:20251105T183000
DTSTAMP:20260425T212025
CREATED:20251028T181452Z
LAST-MODIFIED:20251028T181452Z
UID:10009539-1762363800-1762367400@www.thespinneyatvandyke.com
SUMMARY:Musicats Jazz Duo
DESCRIPTION:
URL:https://www.thespinneyatvandyke.com/event/musicats-jazz-duo/
LOCATION:The Spinney at Van Dyke\, 6 Parker Mathusa Place\, Delmar\, NY\, 12054
CATEGORIES:Social
END:VEVENT
BEGIN:VEVENT
DTSTART;TZID=America/New_York:20251105T163000
DTEND;TZID=America/New_York:20251105T170000
DTSTAMP:20260425T212025
CREATED:20250325T214941Z
LAST-MODIFIED:20251125T152319Z
UID:10006375-1762360200-1762362000@www.thespinneyatvandyke.com
SUMMARY:Maisie's and Bread Delivery
DESCRIPTION:
URL:https://www.thespinneyatvandyke.com/event/maisies-and-bread-delivery/2025-11-05/
LOCATION:The Spinney at Van Dyke\, 6 Parker Mathusa Place\, Delmar\, NY\, 12054
END:VEVENT
BEGIN:VEVENT
DTSTART;TZID=America/New_York:20251105T140000
DTEND;TZID=America/New_York:20251105T170000
DTSTAMP:20260425T212025
CREATED:20250924T135216Z
LAST-MODIFIED:20251125T152231Z
UID:10009155-1762351200-1762362000@www.thespinneyatvandyke.com
SUMMARY:Baked by Madison Pop Up
DESCRIPTION:
URL:https://www.thespinneyatvandyke.com/event/baked-by-madison-pop-up-2/2025-11-05/
LOCATION:Adams Station\, 1 Juniper Drive\, Delmar\, 12054\, United States
CATEGORIES:Community
END:VEVENT
BEGIN:VEVENT
DTSTART;TZID=America/New_York:20251105T130000
DTEND;TZID=America/New_York:20251105T140000
DTSTAMP:20260425T212025
CREATED:20250325T213707Z
LAST-MODIFIED:20260330T174359Z
UID:10005986-1762347600-1762351200@www.thespinneyatvandyke.com
SUMMARY:Nia
DESCRIPTION:
URL:https://www.thespinneyatvandyke.com/event/nia/2025-11-05/
LOCATION:The Spinney at Van Dyke\, 6 Parker Mathusa Place\, Delmar\, NY\, 12054
CATEGORIES:Wellness
END:VEVENT
BEGIN:VEVENT
DTSTART;TZID=America/New_York:20251104T160000
DTEND;TZID=America/New_York:20251104T170000
DTSTAMP:20260425T212025
CREATED:20250325T172751Z
LAST-MODIFIED:20260127T165221Z
UID:10013100-1762272000-1762275600@www.thespinneyatvandyke.com
SUMMARY:Handwork
DESCRIPTION:
URL:https://www.thespinneyatvandyke.com/event/handwork/2025-11-04/
LOCATION:The Spinney at Van Dyke\, 6 Parker Mathusa Place\, Delmar\, NY\, 12054
CATEGORIES:Social
END:VEVENT
BEGIN:VEVENT
DTSTART;TZID=America/New_York:20251104T130000
DTEND;TZID=America/New_York:20251104T140000
DTSTAMP:20260425T212025
CREATED:20251028T180445Z
LAST-MODIFIED:20251028T180445Z
UID:10009512-1762261200-1762264800@www.thespinneyatvandyke.com
SUMMARY:Coaster Painting
DESCRIPTION:
URL:https://www.thespinneyatvandyke.com/event/coaster-painting/
LOCATION:The Spinney at Van Dyke\, 6 Parker Mathusa Place\, Delmar\, NY\, 12054
CATEGORIES:Intellectual
END:VEVENT
BEGIN:VEVENT
DTSTART;TZID=America/New_York:20251104T113000
DTEND;TZID=America/New_York:20251104T123000
DTSTAMP:20260425T212025
CREATED:20251028T180243Z
LAST-MODIFIED:20251028T180243Z
UID:10009511-1762255800-1762259400@www.thespinneyatvandyke.com
SUMMARY:History Club
DESCRIPTION:
URL:https://www.thespinneyatvandyke.com/event/history-club-3/
LOCATION:The Spinney at Van Dyke\, 6 Parker Mathusa Place\, Delmar\, NY\, 12054
CATEGORIES:Intellectual
END:VEVENT
BEGIN:VEVENT
DTSTART;VALUE=DATE:20251104
DTEND;VALUE=DATE:20251105
DTSTAMP:20260425T212025
CREATED:20251029T132612Z
LAST-MODIFIED:20251029T132612Z
UID:10009873-1762214400-1762300799@www.thespinneyatvandyke.com
SUMMARY:General Election Day
DESCRIPTION:
URL:https://www.thespinneyatvandyke.com/event/general-election-day/
END:VEVENT
BEGIN:VEVENT
DTSTART;TZID=UTC:20251103T183000
DTEND;TZID=UTC:20251103T203000
DTSTAMP:20260425T212025
CREATED:20230923T225926Z
LAST-MODIFIED:20251229T170229Z
UID:10001963-1762194600-1762201800@www.thespinneyatvandyke.com
SUMMARY:Billiards and Poker
DESCRIPTION:A casual group meet-up of neighbors to play or learn-to-play pool and poker in The Clubhouse.
URL:https://www.thespinneyatvandyke.com/event/billiards-2/2025-11-03/
LOCATION:The Spinney at Van Dyke\, 6 Parker Mathusa Place\, Delmar\, NY\, 12054
CATEGORIES:Intellectual,Social
END:VEVENT
END:VCALENDAR