BEGIN:VCALENDAR
VERSION:2.0
PRODID:-//The Spinney at Van Dyke - ECPv6.15.20//NONSGML v1.0//EN
CALSCALE:GREGORIAN
METHOD:PUBLISH
X-WR-CALNAME:The Spinney at Van Dyke
X-ORIGINAL-URL:https://www.thespinneyatvandyke.com
X-WR-CALDESC:Events for The Spinney at Van Dyke
REFRESH-INTERVAL;VALUE=DURATION:PT1H
X-Robots-Tag:noindex
X-PUBLISHED-TTL:PT1H
BEGIN:VTIMEZONE
TZID:America/New_York
BEGIN:DAYLIGHT
TZOFFSETFROM:-0500
TZOFFSETTO:-0400
TZNAME:EDT
DTSTART:20250309T070000
END:DAYLIGHT
BEGIN:STANDARD
TZOFFSETFROM:-0400
TZOFFSETTO:-0500
TZNAME:EST
DTSTART:20251102T060000
END:STANDARD
BEGIN:DAYLIGHT
TZOFFSETFROM:-0500
TZOFFSETTO:-0400
TZNAME:EDT
DTSTART:20260308T070000
END:DAYLIGHT
BEGIN:STANDARD
TZOFFSETFROM:-0400
TZOFFSETTO:-0500
TZNAME:EST
DTSTART:20261101T060000
END:STANDARD
BEGIN:DAYLIGHT
TZOFFSETFROM:-0500
TZOFFSETTO:-0400
TZNAME:EDT
DTSTART:20270314T070000
END:DAYLIGHT
BEGIN:STANDARD
TZOFFSETFROM:-0400
TZOFFSETTO:-0500
TZNAME:EST
DTSTART:20271107T060000
END:STANDARD
END:VTIMEZONE
BEGIN:VEVENT
DTSTART;TZID=America/New_York:20261015T083000
DTEND;TZID=America/New_York:20261015T093000
DTSTAMP:20260420T013943
CREATED:20251028T182158Z
LAST-MODIFIED:20251229T165425Z
UID:10009590-1792053000-1792056600@www.thespinneyatvandyke.com
SUMMARY:Spinney Strength
DESCRIPTION:
URL:https://www.thespinneyatvandyke.com/event/spinney-strength-3-2/2026-10-15/
LOCATION:The Spinney at Van Dyke\, 6 Parker Mathusa Place\, Delmar\, NY\, 12054
CATEGORIES:Wellness
END:VEVENT
BEGIN:VEVENT
DTSTART;TZID=America/New_York:20261019T103000
DTEND;TZID=America/New_York:20261019T113000
DTSTAMP:20260420T013943
CREATED:20251229T170104Z
LAST-MODIFIED:20251229T170104Z
UID:10012472-1792405800-1792409400@www.thespinneyatvandyke.com
SUMMARY:Essentrics Group Exercise Class
DESCRIPTION:
URL:https://www.thespinneyatvandyke.com/event/essentrics-group-exercise-class/2026-10-19/
LOCATION:The Spinney at Van Dyke\, 6 Parker Mathusa Place\, Delmar\, NY\, 12054
CATEGORIES:Wellness
END:VEVENT
BEGIN:VEVENT
DTSTART;TZID=America/New_York:20261021T130000
DTEND;TZID=America/New_York:20261021T140000
DTSTAMP:20260420T013943
CREATED:20250325T213707Z
LAST-MODIFIED:20260330T174359Z
UID:10006036-1792587600-1792591200@www.thespinneyatvandyke.com
SUMMARY:Nia
DESCRIPTION:
URL:https://www.thespinneyatvandyke.com/event/nia/2026-10-21/
LOCATION:The Spinney at Van Dyke\, 6 Parker Mathusa Place\, Delmar\, NY\, 12054
CATEGORIES:Wellness
END:VEVENT
BEGIN:VEVENT
DTSTART;TZID=America/New_York:20261022T083000
DTEND;TZID=America/New_York:20261022T093000
DTSTAMP:20260420T013943
CREATED:20251028T182158Z
LAST-MODIFIED:20251229T165425Z
UID:10009591-1792657800-1792661400@www.thespinneyatvandyke.com
SUMMARY:Spinney Strength
DESCRIPTION:
URL:https://www.thespinneyatvandyke.com/event/spinney-strength-3-2/2026-10-22/
LOCATION:The Spinney at Van Dyke\, 6 Parker Mathusa Place\, Delmar\, NY\, 12054
CATEGORIES:Wellness
END:VEVENT
BEGIN:VEVENT
DTSTART;TZID=America/New_York:20261026T103000
DTEND;TZID=America/New_York:20261026T113000
DTSTAMP:20260420T013943
CREATED:20251229T170104Z
LAST-MODIFIED:20251229T170104Z
UID:10012473-1793010600-1793014200@www.thespinneyatvandyke.com
SUMMARY:Essentrics Group Exercise Class
DESCRIPTION:
URL:https://www.thespinneyatvandyke.com/event/essentrics-group-exercise-class/2026-10-26/
LOCATION:The Spinney at Van Dyke\, 6 Parker Mathusa Place\, Delmar\, NY\, 12054
CATEGORIES:Wellness
END:VEVENT
BEGIN:VEVENT
DTSTART;TZID=America/New_York:20261028T130000
DTEND;TZID=America/New_York:20261028T140000
DTSTAMP:20260420T013943
CREATED:20250325T213707Z
LAST-MODIFIED:20260330T174359Z
UID:10006037-1793192400-1793196000@www.thespinneyatvandyke.com
SUMMARY:Nia
DESCRIPTION:
URL:https://www.thespinneyatvandyke.com/event/nia/2026-10-28/
LOCATION:The Spinney at Van Dyke\, 6 Parker Mathusa Place\, Delmar\, NY\, 12054
CATEGORIES:Wellness
END:VEVENT
BEGIN:VEVENT
DTSTART;TZID=America/New_York:20261029T083000
DTEND;TZID=America/New_York:20261029T093000
DTSTAMP:20260420T013943
CREATED:20251028T182158Z
LAST-MODIFIED:20251229T165425Z
UID:10009592-1793262600-1793266200@www.thespinneyatvandyke.com
SUMMARY:Spinney Strength
DESCRIPTION:
URL:https://www.thespinneyatvandyke.com/event/spinney-strength-3-2/2026-10-29/
LOCATION:The Spinney at Van Dyke\, 6 Parker Mathusa Place\, Delmar\, NY\, 12054
CATEGORIES:Wellness
END:VEVENT
BEGIN:VEVENT
DTSTART;TZID=America/New_York:20261102T103000
DTEND;TZID=America/New_York:20261102T113000
DTSTAMP:20260420T013943
CREATED:20251229T170104Z
LAST-MODIFIED:20251229T170104Z
UID:10012474-1793615400-1793619000@www.thespinneyatvandyke.com
SUMMARY:Essentrics Group Exercise Class
DESCRIPTION:
URL:https://www.thespinneyatvandyke.com/event/essentrics-group-exercise-class/2026-11-02/
LOCATION:The Spinney at Van Dyke\, 6 Parker Mathusa Place\, Delmar\, NY\, 12054
CATEGORIES:Wellness
END:VEVENT
BEGIN:VEVENT
DTSTART;TZID=America/New_York:20261104T130000
DTEND;TZID=America/New_York:20261104T140000
DTSTAMP:20260420T013943
CREATED:20250325T213707Z
LAST-MODIFIED:20260330T174359Z
UID:10006038-1793797200-1793800800@www.thespinneyatvandyke.com
SUMMARY:Nia
DESCRIPTION:
URL:https://www.thespinneyatvandyke.com/event/nia/2026-11-04/
LOCATION:The Spinney at Van Dyke\, 6 Parker Mathusa Place\, Delmar\, NY\, 12054
CATEGORIES:Wellness
END:VEVENT
BEGIN:VEVENT
DTSTART;TZID=America/New_York:20261105T083000
DTEND;TZID=America/New_York:20261105T093000
DTSTAMP:20260420T013943
CREATED:20251028T182158Z
LAST-MODIFIED:20251229T165425Z
UID:10009593-1793867400-1793871000@www.thespinneyatvandyke.com
SUMMARY:Spinney Strength
DESCRIPTION:
URL:https://www.thespinneyatvandyke.com/event/spinney-strength-3-2/2026-11-05/
LOCATION:The Spinney at Van Dyke\, 6 Parker Mathusa Place\, Delmar\, NY\, 12054
CATEGORIES:Wellness
END:VEVENT
BEGIN:VEVENT
DTSTART;TZID=America/New_York:20261109T103000
DTEND;TZID=America/New_York:20261109T113000
DTSTAMP:20260420T013943
CREATED:20251229T170104Z
LAST-MODIFIED:20251229T170104Z
UID:10012475-1794220200-1794223800@www.thespinneyatvandyke.com
SUMMARY:Essentrics Group Exercise Class
DESCRIPTION:
URL:https://www.thespinneyatvandyke.com/event/essentrics-group-exercise-class/2026-11-09/
LOCATION:The Spinney at Van Dyke\, 6 Parker Mathusa Place\, Delmar\, NY\, 12054
CATEGORIES:Wellness
END:VEVENT
BEGIN:VEVENT
DTSTART;TZID=America/New_York:20261111T130000
DTEND;TZID=America/New_York:20261111T140000
DTSTAMP:20260420T013943
CREATED:20250325T213707Z
LAST-MODIFIED:20260330T174359Z
UID:10006039-1794402000-1794405600@www.thespinneyatvandyke.com
SUMMARY:Nia
DESCRIPTION:
URL:https://www.thespinneyatvandyke.com/event/nia/2026-11-11/
LOCATION:The Spinney at Van Dyke\, 6 Parker Mathusa Place\, Delmar\, NY\, 12054
CATEGORIES:Wellness
END:VEVENT
BEGIN:VEVENT
DTSTART;TZID=America/New_York:20261112T083000
DTEND;TZID=America/New_York:20261112T093000
DTSTAMP:20260420T013943
CREATED:20251028T182158Z
LAST-MODIFIED:20251229T165425Z
UID:10009594-1794472200-1794475800@www.thespinneyatvandyke.com
SUMMARY:Spinney Strength
DESCRIPTION:
URL:https://www.thespinneyatvandyke.com/event/spinney-strength-3-2/2026-11-12/
LOCATION:The Spinney at Van Dyke\, 6 Parker Mathusa Place\, Delmar\, NY\, 12054
CATEGORIES:Wellness
END:VEVENT
BEGIN:VEVENT
DTSTART;TZID=America/New_York:20261116T103000
DTEND;TZID=America/New_York:20261116T113000
DTSTAMP:20260420T013943
CREATED:20251229T170104Z
LAST-MODIFIED:20251229T170104Z
UID:10012476-1794825000-1794828600@www.thespinneyatvandyke.com
SUMMARY:Essentrics Group Exercise Class
DESCRIPTION:
URL:https://www.thespinneyatvandyke.com/event/essentrics-group-exercise-class/2026-11-16/
LOCATION:The Spinney at Van Dyke\, 6 Parker Mathusa Place\, Delmar\, NY\, 12054
CATEGORIES:Wellness
END:VEVENT
BEGIN:VEVENT
DTSTART;TZID=America/New_York:20261118T130000
DTEND;TZID=America/New_York:20261118T140000
DTSTAMP:20260420T013943
CREATED:20250325T213707Z
LAST-MODIFIED:20260330T174359Z
UID:10006040-1795006800-1795010400@www.thespinneyatvandyke.com
SUMMARY:Nia
DESCRIPTION:
URL:https://www.thespinneyatvandyke.com/event/nia/2026-11-18/
LOCATION:The Spinney at Van Dyke\, 6 Parker Mathusa Place\, Delmar\, NY\, 12054
CATEGORIES:Wellness
END:VEVENT
BEGIN:VEVENT
DTSTART;TZID=America/New_York:20261119T083000
DTEND;TZID=America/New_York:20261119T093000
DTSTAMP:20260420T013943
CREATED:20251028T182158Z
LAST-MODIFIED:20251229T165425Z
UID:10009595-1795077000-1795080600@www.thespinneyatvandyke.com
SUMMARY:Spinney Strength
DESCRIPTION:
URL:https://www.thespinneyatvandyke.com/event/spinney-strength-3-2/2026-11-19/
LOCATION:The Spinney at Van Dyke\, 6 Parker Mathusa Place\, Delmar\, NY\, 12054
CATEGORIES:Wellness
END:VEVENT
BEGIN:VEVENT
DTSTART;TZID=America/New_York:20261123T103000
DTEND;TZID=America/New_York:20261123T113000
DTSTAMP:20260420T013943
CREATED:20251229T170104Z
LAST-MODIFIED:20251229T170104Z
UID:10012477-1795429800-1795433400@www.thespinneyatvandyke.com
SUMMARY:Essentrics Group Exercise Class
DESCRIPTION:
URL:https://www.thespinneyatvandyke.com/event/essentrics-group-exercise-class/2026-11-23/
LOCATION:The Spinney at Van Dyke\, 6 Parker Mathusa Place\, Delmar\, NY\, 12054
CATEGORIES:Wellness
END:VEVENT
BEGIN:VEVENT
DTSTART;TZID=America/New_York:20261125T130000
DTEND;TZID=America/New_York:20261125T140000
DTSTAMP:20260420T013943
CREATED:20250325T213707Z
LAST-MODIFIED:20260330T174359Z
UID:10006041-1795611600-1795615200@www.thespinneyatvandyke.com
SUMMARY:Nia
DESCRIPTION:
URL:https://www.thespinneyatvandyke.com/event/nia/2026-11-25/
LOCATION:The Spinney at Van Dyke\, 6 Parker Mathusa Place\, Delmar\, NY\, 12054
CATEGORIES:Wellness
END:VEVENT
BEGIN:VEVENT
DTSTART;TZID=America/New_York:20261126T083000
DTEND;TZID=America/New_York:20261126T093000
DTSTAMP:20260420T013943
CREATED:20251028T182158Z
LAST-MODIFIED:20251229T165425Z
UID:10009596-1795681800-1795685400@www.thespinneyatvandyke.com
SUMMARY:Spinney Strength
DESCRIPTION:
URL:https://www.thespinneyatvandyke.com/event/spinney-strength-3-2/2026-11-26/
LOCATION:The Spinney at Van Dyke\, 6 Parker Mathusa Place\, Delmar\, NY\, 12054
CATEGORIES:Wellness
END:VEVENT
BEGIN:VEVENT
DTSTART;TZID=America/New_York:20261130T103000
DTEND;TZID=America/New_York:20261130T113000
DTSTAMP:20260420T013943
CREATED:20251229T170104Z
LAST-MODIFIED:20251229T170104Z
UID:10012478-1796034600-1796038200@www.thespinneyatvandyke.com
SUMMARY:Essentrics Group Exercise Class
DESCRIPTION:
URL:https://www.thespinneyatvandyke.com/event/essentrics-group-exercise-class/2026-11-30/
LOCATION:The Spinney at Van Dyke\, 6 Parker Mathusa Place\, Delmar\, NY\, 12054
CATEGORIES:Wellness
END:VEVENT
BEGIN:VEVENT
DTSTART;TZID=America/New_York:20261202T130000
DTEND;TZID=America/New_York:20261202T140000
DTSTAMP:20260420T013943
CREATED:20250325T213707Z
LAST-MODIFIED:20260330T174359Z
UID:10006042-1796216400-1796220000@www.thespinneyatvandyke.com
SUMMARY:Nia
DESCRIPTION:
URL:https://www.thespinneyatvandyke.com/event/nia/2026-12-02/
LOCATION:The Spinney at Van Dyke\, 6 Parker Mathusa Place\, Delmar\, NY\, 12054
CATEGORIES:Wellness
END:VEVENT
BEGIN:VEVENT
DTSTART;TZID=America/New_York:20261203T083000
DTEND;TZID=America/New_York:20261203T093000
DTSTAMP:20260420T013943
CREATED:20251028T182158Z
LAST-MODIFIED:20251229T165425Z
UID:10009597-1796286600-1796290200@www.thespinneyatvandyke.com
SUMMARY:Spinney Strength
DESCRIPTION:
URL:https://www.thespinneyatvandyke.com/event/spinney-strength-3-2/2026-12-03/
LOCATION:The Spinney at Van Dyke\, 6 Parker Mathusa Place\, Delmar\, NY\, 12054
CATEGORIES:Wellness
END:VEVENT
BEGIN:VEVENT
DTSTART;TZID=America/New_York:20261207T103000
DTEND;TZID=America/New_York:20261207T113000
DTSTAMP:20260420T013943
CREATED:20251229T170104Z
LAST-MODIFIED:20251229T170104Z
UID:10012479-1796639400-1796643000@www.thespinneyatvandyke.com
SUMMARY:Essentrics Group Exercise Class
DESCRIPTION:
URL:https://www.thespinneyatvandyke.com/event/essentrics-group-exercise-class/2026-12-07/
LOCATION:The Spinney at Van Dyke\, 6 Parker Mathusa Place\, Delmar\, NY\, 12054
CATEGORIES:Wellness
END:VEVENT
BEGIN:VEVENT
DTSTART;TZID=America/New_York:20261209T130000
DTEND;TZID=America/New_York:20261209T140000
DTSTAMP:20260420T013943
CREATED:20250325T213707Z
LAST-MODIFIED:20260330T174359Z
UID:10006043-1796821200-1796824800@www.thespinneyatvandyke.com
SUMMARY:Nia
DESCRIPTION:
URL:https://www.thespinneyatvandyke.com/event/nia/2026-12-09/
LOCATION:The Spinney at Van Dyke\, 6 Parker Mathusa Place\, Delmar\, NY\, 12054
CATEGORIES:Wellness
END:VEVENT
BEGIN:VEVENT
DTSTART;TZID=America/New_York:20261210T083000
DTEND;TZID=America/New_York:20261210T093000
DTSTAMP:20260420T013943
CREATED:20251028T182158Z
LAST-MODIFIED:20251229T165425Z
UID:10009598-1796891400-1796895000@www.thespinneyatvandyke.com
SUMMARY:Spinney Strength
DESCRIPTION:
URL:https://www.thespinneyatvandyke.com/event/spinney-strength-3-2/2026-12-10/
LOCATION:The Spinney at Van Dyke\, 6 Parker Mathusa Place\, Delmar\, NY\, 12054
CATEGORIES:Wellness
END:VEVENT
BEGIN:VEVENT
DTSTART;TZID=America/New_York:20261214T103000
DTEND;TZID=America/New_York:20261214T113000
DTSTAMP:20260420T013943
CREATED:20251229T170104Z
LAST-MODIFIED:20251229T170104Z
UID:10012480-1797244200-1797247800@www.thespinneyatvandyke.com
SUMMARY:Essentrics Group Exercise Class
DESCRIPTION:
URL:https://www.thespinneyatvandyke.com/event/essentrics-group-exercise-class/2026-12-14/
LOCATION:The Spinney at Van Dyke\, 6 Parker Mathusa Place\, Delmar\, NY\, 12054
CATEGORIES:Wellness
END:VEVENT
BEGIN:VEVENT
DTSTART;TZID=America/New_York:20261216T130000
DTEND;TZID=America/New_York:20261216T140000
DTSTAMP:20260420T013943
CREATED:20250325T213707Z
LAST-MODIFIED:20260330T174359Z
UID:10006044-1797426000-1797429600@www.thespinneyatvandyke.com
SUMMARY:Nia
DESCRIPTION:
URL:https://www.thespinneyatvandyke.com/event/nia/2026-12-16/
LOCATION:The Spinney at Van Dyke\, 6 Parker Mathusa Place\, Delmar\, NY\, 12054
CATEGORIES:Wellness
END:VEVENT
BEGIN:VEVENT
DTSTART;TZID=America/New_York:20261217T083000
DTEND;TZID=America/New_York:20261217T093000
DTSTAMP:20260420T013943
CREATED:20251028T182158Z
LAST-MODIFIED:20251229T165425Z
UID:10009599-1797496200-1797499800@www.thespinneyatvandyke.com
SUMMARY:Spinney Strength
DESCRIPTION:
URL:https://www.thespinneyatvandyke.com/event/spinney-strength-3-2/2026-12-17/
LOCATION:The Spinney at Van Dyke\, 6 Parker Mathusa Place\, Delmar\, NY\, 12054
CATEGORIES:Wellness
END:VEVENT
BEGIN:VEVENT
DTSTART;TZID=America/New_York:20261221T103000
DTEND;TZID=America/New_York:20261221T113000
DTSTAMP:20260420T013943
CREATED:20251229T170104Z
LAST-MODIFIED:20251229T170104Z
UID:10012481-1797849000-1797852600@www.thespinneyatvandyke.com
SUMMARY:Essentrics Group Exercise Class
DESCRIPTION:
URL:https://www.thespinneyatvandyke.com/event/essentrics-group-exercise-class/2026-12-21/
LOCATION:The Spinney at Van Dyke\, 6 Parker Mathusa Place\, Delmar\, NY\, 12054
CATEGORIES:Wellness
END:VEVENT
BEGIN:VEVENT
DTSTART;TZID=America/New_York:20261223T130000
DTEND;TZID=America/New_York:20261223T140000
DTSTAMP:20260420T013943
CREATED:20250325T213707Z
LAST-MODIFIED:20260330T174359Z
UID:10006045-1798030800-1798034400@www.thespinneyatvandyke.com
SUMMARY:Nia
DESCRIPTION:
URL:https://www.thespinneyatvandyke.com/event/nia/2026-12-23/
LOCATION:The Spinney at Van Dyke\, 6 Parker Mathusa Place\, Delmar\, NY\, 12054
CATEGORIES:Wellness
END:VEVENT
END:VCALENDAR