BEGIN:VCALENDAR
VERSION:2.0
PRODID:-//The Spinney at Van Dyke - ECPv6.15.20//NONSGML v1.0//EN
CALSCALE:GREGORIAN
METHOD:PUBLISH
X-ORIGINAL-URL:https://www.thespinneyatvandyke.com
X-WR-CALDESC:Events for The Spinney at Van Dyke
REFRESH-INTERVAL;VALUE=DURATION:PT1H
X-Robots-Tag:noindex
X-PUBLISHED-TTL:PT1H
BEGIN:VTIMEZONE
TZID:America/New_York
BEGIN:DAYLIGHT
TZOFFSETFROM:-0500
TZOFFSETTO:-0400
TZNAME:EDT
DTSTART:20250309T070000
END:DAYLIGHT
BEGIN:STANDARD
TZOFFSETFROM:-0400
TZOFFSETTO:-0500
TZNAME:EST
DTSTART:20251102T060000
END:STANDARD
BEGIN:DAYLIGHT
TZOFFSETFROM:-0500
TZOFFSETTO:-0400
TZNAME:EDT
DTSTART:20260308T070000
END:DAYLIGHT
BEGIN:STANDARD
TZOFFSETFROM:-0400
TZOFFSETTO:-0500
TZNAME:EST
DTSTART:20261101T060000
END:STANDARD
BEGIN:DAYLIGHT
TZOFFSETFROM:-0500
TZOFFSETTO:-0400
TZNAME:EDT
DTSTART:20270314T070000
END:DAYLIGHT
BEGIN:STANDARD
TZOFFSETFROM:-0400
TZOFFSETTO:-0500
TZNAME:EST
DTSTART:20271107T060000
END:STANDARD
BEGIN:DAYLIGHT
TZOFFSETFROM:-0500
TZOFFSETTO:-0400
TZNAME:EDT
DTSTART:20280312T070000
END:DAYLIGHT
BEGIN:STANDARD
TZOFFSETFROM:-0400
TZOFFSETTO:-0500
TZNAME:EST
DTSTART:20281105T060000
END:STANDARD
END:VTIMEZONE
BEGIN:VEVENT
DTSTART;TZID=America/New_York:20261210T083000
DTEND;TZID=America/New_York:20261210T093000
DTSTAMP:20260420T055145
CREATED:20251028T182158Z
LAST-MODIFIED:20251229T165425Z
UID:10009598-1796891400-1796895000@www.thespinneyatvandyke.com
SUMMARY:Spinney Strength
DESCRIPTION:
URL:https://www.thespinneyatvandyke.com/event/spinney-strength-3-2/2026-12-10/
LOCATION:The Spinney at Van Dyke\, 6 Parker Mathusa Place\, Delmar\, NY\, 12054
CATEGORIES:Wellness
END:VEVENT
BEGIN:VEVENT
DTSTART;TZID=America/New_York:20261214T103000
DTEND;TZID=America/New_York:20261214T113000
DTSTAMP:20260420T055145
CREATED:20251229T170104Z
LAST-MODIFIED:20251229T170104Z
UID:10012480-1797244200-1797247800@www.thespinneyatvandyke.com
SUMMARY:Essentrics Group Exercise Class
DESCRIPTION:
URL:https://www.thespinneyatvandyke.com/event/essentrics-group-exercise-class/2026-12-14/
LOCATION:The Spinney at Van Dyke\, 6 Parker Mathusa Place\, Delmar\, NY\, 12054
CATEGORIES:Wellness
END:VEVENT
BEGIN:VEVENT
DTSTART;TZID=America/New_York:20261216T130000
DTEND;TZID=America/New_York:20261216T140000
DTSTAMP:20260420T055145
CREATED:20250325T213707Z
LAST-MODIFIED:20260330T174359Z
UID:10006044-1797426000-1797429600@www.thespinneyatvandyke.com
SUMMARY:Nia
DESCRIPTION:
URL:https://www.thespinneyatvandyke.com/event/nia/2026-12-16/
LOCATION:The Spinney at Van Dyke\, 6 Parker Mathusa Place\, Delmar\, NY\, 12054
CATEGORIES:Wellness
END:VEVENT
BEGIN:VEVENT
DTSTART;TZID=America/New_York:20261217T083000
DTEND;TZID=America/New_York:20261217T093000
DTSTAMP:20260420T055145
CREATED:20251028T182158Z
LAST-MODIFIED:20251229T165425Z
UID:10009599-1797496200-1797499800@www.thespinneyatvandyke.com
SUMMARY:Spinney Strength
DESCRIPTION:
URL:https://www.thespinneyatvandyke.com/event/spinney-strength-3-2/2026-12-17/
LOCATION:The Spinney at Van Dyke\, 6 Parker Mathusa Place\, Delmar\, NY\, 12054
CATEGORIES:Wellness
END:VEVENT
BEGIN:VEVENT
DTSTART;TZID=America/New_York:20261221T103000
DTEND;TZID=America/New_York:20261221T113000
DTSTAMP:20260420T055145
CREATED:20251229T170104Z
LAST-MODIFIED:20251229T170104Z
UID:10012481-1797849000-1797852600@www.thespinneyatvandyke.com
SUMMARY:Essentrics Group Exercise Class
DESCRIPTION:
URL:https://www.thespinneyatvandyke.com/event/essentrics-group-exercise-class/2026-12-21/
LOCATION:The Spinney at Van Dyke\, 6 Parker Mathusa Place\, Delmar\, NY\, 12054
CATEGORIES:Wellness
END:VEVENT
BEGIN:VEVENT
DTSTART;TZID=America/New_York:20261223T130000
DTEND;TZID=America/New_York:20261223T140000
DTSTAMP:20260420T055145
CREATED:20250325T213707Z
LAST-MODIFIED:20260330T174359Z
UID:10006045-1798030800-1798034400@www.thespinneyatvandyke.com
SUMMARY:Nia
DESCRIPTION:
URL:https://www.thespinneyatvandyke.com/event/nia/2026-12-23/
LOCATION:The Spinney at Van Dyke\, 6 Parker Mathusa Place\, Delmar\, NY\, 12054
CATEGORIES:Wellness
END:VEVENT
BEGIN:VEVENT
DTSTART;TZID=America/New_York:20261224T083000
DTEND;TZID=America/New_York:20261224T093000
DTSTAMP:20260420T055145
CREATED:20251028T182158Z
LAST-MODIFIED:20251229T165425Z
UID:10009600-1798101000-1798104600@www.thespinneyatvandyke.com
SUMMARY:Spinney Strength
DESCRIPTION:
URL:https://www.thespinneyatvandyke.com/event/spinney-strength-3-2/2026-12-24/
LOCATION:The Spinney at Van Dyke\, 6 Parker Mathusa Place\, Delmar\, NY\, 12054
CATEGORIES:Wellness
END:VEVENT
BEGIN:VEVENT
DTSTART;TZID=America/New_York:20261228T103000
DTEND;TZID=America/New_York:20261228T113000
DTSTAMP:20260420T055145
CREATED:20251229T170104Z
LAST-MODIFIED:20251229T170104Z
UID:10012482-1798453800-1798457400@www.thespinneyatvandyke.com
SUMMARY:Essentrics Group Exercise Class
DESCRIPTION:
URL:https://www.thespinneyatvandyke.com/event/essentrics-group-exercise-class/2026-12-28/
LOCATION:The Spinney at Van Dyke\, 6 Parker Mathusa Place\, Delmar\, NY\, 12054
CATEGORIES:Wellness
END:VEVENT
BEGIN:VEVENT
DTSTART;TZID=America/New_York:20261230T130000
DTEND;TZID=America/New_York:20261230T140000
DTSTAMP:20260420T055145
CREATED:20250325T213707Z
LAST-MODIFIED:20260330T174359Z
UID:10006046-1798635600-1798639200@www.thespinneyatvandyke.com
SUMMARY:Nia
DESCRIPTION:
URL:https://www.thespinneyatvandyke.com/event/nia/2026-12-30/
LOCATION:The Spinney at Van Dyke\, 6 Parker Mathusa Place\, Delmar\, NY\, 12054
CATEGORIES:Wellness
END:VEVENT
BEGIN:VEVENT
DTSTART;TZID=America/New_York:20261231T083000
DTEND;TZID=America/New_York:20261231T093000
DTSTAMP:20260420T055145
CREATED:20251028T182158Z
LAST-MODIFIED:20251229T165425Z
UID:10009601-1798705800-1798709400@www.thespinneyatvandyke.com
SUMMARY:Spinney Strength
DESCRIPTION:
URL:https://www.thespinneyatvandyke.com/event/spinney-strength-3-2/2026-12-31/
LOCATION:The Spinney at Van Dyke\, 6 Parker Mathusa Place\, Delmar\, NY\, 12054
CATEGORIES:Wellness
END:VEVENT
BEGIN:VEVENT
DTSTART;TZID=America/New_York:20270104T103000
DTEND;TZID=America/New_York:20270104T113000
DTSTAMP:20260420T055145
CREATED:20251229T170104Z
LAST-MODIFIED:20251229T170104Z
UID:10012483-1799058600-1799062200@www.thespinneyatvandyke.com
SUMMARY:Essentrics Group Exercise Class
DESCRIPTION:
URL:https://www.thespinneyatvandyke.com/event/essentrics-group-exercise-class/2027-01-04/
LOCATION:The Spinney at Van Dyke\, 6 Parker Mathusa Place\, Delmar\, NY\, 12054
CATEGORIES:Wellness
END:VEVENT
BEGIN:VEVENT
DTSTART;TZID=America/New_York:20270106T130000
DTEND;TZID=America/New_York:20270106T140000
DTSTAMP:20260420T055145
CREATED:20250325T213707Z
LAST-MODIFIED:20260330T174359Z
UID:10006047-1799240400-1799244000@www.thespinneyatvandyke.com
SUMMARY:Nia
DESCRIPTION:
URL:https://www.thespinneyatvandyke.com/event/nia/2027-01-06/
LOCATION:The Spinney at Van Dyke\, 6 Parker Mathusa Place\, Delmar\, NY\, 12054
CATEGORIES:Wellness
END:VEVENT
BEGIN:VEVENT
DTSTART;TZID=America/New_York:20270107T083000
DTEND;TZID=America/New_York:20270107T093000
DTSTAMP:20260420T055145
CREATED:20251028T182158Z
LAST-MODIFIED:20251229T165425Z
UID:10009602-1799310600-1799314200@www.thespinneyatvandyke.com
SUMMARY:Spinney Strength
DESCRIPTION:
URL:https://www.thespinneyatvandyke.com/event/spinney-strength-3-2/2027-01-07/
LOCATION:The Spinney at Van Dyke\, 6 Parker Mathusa Place\, Delmar\, NY\, 12054
CATEGORIES:Wellness
END:VEVENT
BEGIN:VEVENT
DTSTART;TZID=America/New_York:20270111T103000
DTEND;TZID=America/New_York:20270111T113000
DTSTAMP:20260420T055145
CREATED:20251229T170104Z
LAST-MODIFIED:20251229T170104Z
UID:10012484-1799663400-1799667000@www.thespinneyatvandyke.com
SUMMARY:Essentrics Group Exercise Class
DESCRIPTION:
URL:https://www.thespinneyatvandyke.com/event/essentrics-group-exercise-class/2027-01-11/
LOCATION:The Spinney at Van Dyke\, 6 Parker Mathusa Place\, Delmar\, NY\, 12054
CATEGORIES:Wellness
END:VEVENT
BEGIN:VEVENT
DTSTART;TZID=America/New_York:20270113T130000
DTEND;TZID=America/New_York:20270113T140000
DTSTAMP:20260420T055145
CREATED:20250325T213707Z
LAST-MODIFIED:20260330T174359Z
UID:10006048-1799845200-1799848800@www.thespinneyatvandyke.com
SUMMARY:Nia
DESCRIPTION:
URL:https://www.thespinneyatvandyke.com/event/nia/2027-01-13/
LOCATION:The Spinney at Van Dyke\, 6 Parker Mathusa Place\, Delmar\, NY\, 12054
CATEGORIES:Wellness
END:VEVENT
BEGIN:VEVENT
DTSTART;TZID=America/New_York:20270114T083000
DTEND;TZID=America/New_York:20270114T093000
DTSTAMP:20260420T055145
CREATED:20251028T182158Z
LAST-MODIFIED:20251229T165425Z
UID:10009603-1799915400-1799919000@www.thespinneyatvandyke.com
SUMMARY:Spinney Strength
DESCRIPTION:
URL:https://www.thespinneyatvandyke.com/event/spinney-strength-3-2/2027-01-14/
LOCATION:The Spinney at Van Dyke\, 6 Parker Mathusa Place\, Delmar\, NY\, 12054
CATEGORIES:Wellness
END:VEVENT
BEGIN:VEVENT
DTSTART;TZID=America/New_York:20270118T103000
DTEND;TZID=America/New_York:20270118T113000
DTSTAMP:20260420T055145
CREATED:20251229T170104Z
LAST-MODIFIED:20251229T170104Z
UID:10012485-1800268200-1800271800@www.thespinneyatvandyke.com
SUMMARY:Essentrics Group Exercise Class
DESCRIPTION:
URL:https://www.thespinneyatvandyke.com/event/essentrics-group-exercise-class/2027-01-18/
LOCATION:The Spinney at Van Dyke\, 6 Parker Mathusa Place\, Delmar\, NY\, 12054
CATEGORIES:Wellness
END:VEVENT
BEGIN:VEVENT
DTSTART;TZID=America/New_York:20270120T130000
DTEND;TZID=America/New_York:20270120T140000
DTSTAMP:20260420T055145
CREATED:20250325T213707Z
LAST-MODIFIED:20260330T174359Z
UID:10006049-1800450000-1800453600@www.thespinneyatvandyke.com
SUMMARY:Nia
DESCRIPTION:
URL:https://www.thespinneyatvandyke.com/event/nia/2027-01-20/
LOCATION:The Spinney at Van Dyke\, 6 Parker Mathusa Place\, Delmar\, NY\, 12054
CATEGORIES:Wellness
END:VEVENT
BEGIN:VEVENT
DTSTART;TZID=America/New_York:20270121T083000
DTEND;TZID=America/New_York:20270121T093000
DTSTAMP:20260420T055145
CREATED:20251028T182158Z
LAST-MODIFIED:20251229T165425Z
UID:10009604-1800520200-1800523800@www.thespinneyatvandyke.com
SUMMARY:Spinney Strength
DESCRIPTION:
URL:https://www.thespinneyatvandyke.com/event/spinney-strength-3-2/2027-01-21/
LOCATION:The Spinney at Van Dyke\, 6 Parker Mathusa Place\, Delmar\, NY\, 12054
CATEGORIES:Wellness
END:VEVENT
BEGIN:VEVENT
DTSTART;TZID=America/New_York:20270125T103000
DTEND;TZID=America/New_York:20270125T113000
DTSTAMP:20260420T055145
CREATED:20251229T170104Z
LAST-MODIFIED:20251229T170104Z
UID:10012486-1800873000-1800876600@www.thespinneyatvandyke.com
SUMMARY:Essentrics Group Exercise Class
DESCRIPTION:
URL:https://www.thespinneyatvandyke.com/event/essentrics-group-exercise-class/2027-01-25/
LOCATION:The Spinney at Van Dyke\, 6 Parker Mathusa Place\, Delmar\, NY\, 12054
CATEGORIES:Wellness
END:VEVENT
BEGIN:VEVENT
DTSTART;TZID=America/New_York:20270127T130000
DTEND;TZID=America/New_York:20270127T140000
DTSTAMP:20260420T055145
CREATED:20250325T213707Z
LAST-MODIFIED:20260330T174359Z
UID:10006050-1801054800-1801058400@www.thespinneyatvandyke.com
SUMMARY:Nia
DESCRIPTION:
URL:https://www.thespinneyatvandyke.com/event/nia/2027-01-27/
LOCATION:The Spinney at Van Dyke\, 6 Parker Mathusa Place\, Delmar\, NY\, 12054
CATEGORIES:Wellness
END:VEVENT
BEGIN:VEVENT
DTSTART;TZID=America/New_York:20270128T083000
DTEND;TZID=America/New_York:20270128T093000
DTSTAMP:20260420T055145
CREATED:20251028T182158Z
LAST-MODIFIED:20251229T165425Z
UID:10009605-1801125000-1801128600@www.thespinneyatvandyke.com
SUMMARY:Spinney Strength
DESCRIPTION:
URL:https://www.thespinneyatvandyke.com/event/spinney-strength-3-2/2027-01-28/
LOCATION:The Spinney at Van Dyke\, 6 Parker Mathusa Place\, Delmar\, NY\, 12054
CATEGORIES:Wellness
END:VEVENT
BEGIN:VEVENT
DTSTART;TZID=America/New_York:20270201T103000
DTEND;TZID=America/New_York:20270201T113000
DTSTAMP:20260420T055145
CREATED:20251229T170104Z
LAST-MODIFIED:20251229T170104Z
UID:10012487-1801477800-1801481400@www.thespinneyatvandyke.com
SUMMARY:Essentrics Group Exercise Class
DESCRIPTION:
URL:https://www.thespinneyatvandyke.com/event/essentrics-group-exercise-class/2027-02-01/
LOCATION:The Spinney at Van Dyke\, 6 Parker Mathusa Place\, Delmar\, NY\, 12054
CATEGORIES:Wellness
END:VEVENT
BEGIN:VEVENT
DTSTART;TZID=America/New_York:20270203T130000
DTEND;TZID=America/New_York:20270203T140000
DTSTAMP:20260420T055145
CREATED:20250325T213707Z
LAST-MODIFIED:20260330T174359Z
UID:10006051-1801659600-1801663200@www.thespinneyatvandyke.com
SUMMARY:Nia
DESCRIPTION:
URL:https://www.thespinneyatvandyke.com/event/nia/2027-02-03/
LOCATION:The Spinney at Van Dyke\, 6 Parker Mathusa Place\, Delmar\, NY\, 12054
CATEGORIES:Wellness
END:VEVENT
BEGIN:VEVENT
DTSTART;TZID=America/New_York:20270204T083000
DTEND;TZID=America/New_York:20270204T093000
DTSTAMP:20260420T055145
CREATED:20251028T182158Z
LAST-MODIFIED:20251229T165425Z
UID:10009606-1801729800-1801733400@www.thespinneyatvandyke.com
SUMMARY:Spinney Strength
DESCRIPTION:
URL:https://www.thespinneyatvandyke.com/event/spinney-strength-3-2/2027-02-04/
LOCATION:The Spinney at Van Dyke\, 6 Parker Mathusa Place\, Delmar\, NY\, 12054
CATEGORIES:Wellness
END:VEVENT
BEGIN:VEVENT
DTSTART;TZID=America/New_York:20270208T103000
DTEND;TZID=America/New_York:20270208T113000
DTSTAMP:20260420T055145
CREATED:20251229T170104Z
LAST-MODIFIED:20251229T170104Z
UID:10012488-1802082600-1802086200@www.thespinneyatvandyke.com
SUMMARY:Essentrics Group Exercise Class
DESCRIPTION:
URL:https://www.thespinneyatvandyke.com/event/essentrics-group-exercise-class/2027-02-08/
LOCATION:The Spinney at Van Dyke\, 6 Parker Mathusa Place\, Delmar\, NY\, 12054
CATEGORIES:Wellness
END:VEVENT
BEGIN:VEVENT
DTSTART;TZID=America/New_York:20270210T130000
DTEND;TZID=America/New_York:20270210T140000
DTSTAMP:20260420T055145
CREATED:20250325T213707Z
LAST-MODIFIED:20260330T174359Z
UID:10006052-1802264400-1802268000@www.thespinneyatvandyke.com
SUMMARY:Nia
DESCRIPTION:
URL:https://www.thespinneyatvandyke.com/event/nia/2027-02-10/
LOCATION:The Spinney at Van Dyke\, 6 Parker Mathusa Place\, Delmar\, NY\, 12054
CATEGORIES:Wellness
END:VEVENT
BEGIN:VEVENT
DTSTART;TZID=America/New_York:20270211T083000
DTEND;TZID=America/New_York:20270211T093000
DTSTAMP:20260420T055145
CREATED:20251028T182158Z
LAST-MODIFIED:20251229T165425Z
UID:10009607-1802334600-1802338200@www.thespinneyatvandyke.com
SUMMARY:Spinney Strength
DESCRIPTION:
URL:https://www.thespinneyatvandyke.com/event/spinney-strength-3-2/2027-02-11/
LOCATION:The Spinney at Van Dyke\, 6 Parker Mathusa Place\, Delmar\, NY\, 12054
CATEGORIES:Wellness
END:VEVENT
BEGIN:VEVENT
DTSTART;TZID=America/New_York:20270215T103000
DTEND;TZID=America/New_York:20270215T113000
DTSTAMP:20260420T055145
CREATED:20251229T170104Z
LAST-MODIFIED:20251229T170104Z
UID:10012489-1802687400-1802691000@www.thespinneyatvandyke.com
SUMMARY:Essentrics Group Exercise Class
DESCRIPTION:
URL:https://www.thespinneyatvandyke.com/event/essentrics-group-exercise-class/2027-02-15/
LOCATION:The Spinney at Van Dyke\, 6 Parker Mathusa Place\, Delmar\, NY\, 12054
CATEGORIES:Wellness
END:VEVENT
BEGIN:VEVENT
DTSTART;TZID=America/New_York:20270217T130000
DTEND;TZID=America/New_York:20270217T140000
DTSTAMP:20260420T055145
CREATED:20250325T213707Z
LAST-MODIFIED:20260330T174359Z
UID:10006053-1802869200-1802872800@www.thespinneyatvandyke.com
SUMMARY:Nia
DESCRIPTION:
URL:https://www.thespinneyatvandyke.com/event/nia/2027-02-17/
LOCATION:The Spinney at Van Dyke\, 6 Parker Mathusa Place\, Delmar\, NY\, 12054
CATEGORIES:Wellness
END:VEVENT
END:VCALENDAR