BEGIN:VCALENDAR
VERSION:2.0
PRODID:-//The Spinney at Van Dyke - ECPv6.15.20//NONSGML v1.0//EN
CALSCALE:GREGORIAN
METHOD:PUBLISH
X-WR-CALNAME:The Spinney at Van Dyke
X-ORIGINAL-URL:https://www.thespinneyatvandyke.com
X-WR-CALDESC:Events for The Spinney at Van Dyke
REFRESH-INTERVAL;VALUE=DURATION:PT1H
X-Robots-Tag:noindex
X-PUBLISHED-TTL:PT1H
BEGIN:VTIMEZONE
TZID:America/New_York
BEGIN:DAYLIGHT
TZOFFSETFROM:-0500
TZOFFSETTO:-0400
TZNAME:EDT
DTSTART:20250309T070000
END:DAYLIGHT
BEGIN:STANDARD
TZOFFSETFROM:-0400
TZOFFSETTO:-0500
TZNAME:EST
DTSTART:20251102T060000
END:STANDARD
BEGIN:DAYLIGHT
TZOFFSETFROM:-0500
TZOFFSETTO:-0400
TZNAME:EDT
DTSTART:20260308T070000
END:DAYLIGHT
BEGIN:STANDARD
TZOFFSETFROM:-0400
TZOFFSETTO:-0500
TZNAME:EST
DTSTART:20261101T060000
END:STANDARD
BEGIN:DAYLIGHT
TZOFFSETFROM:-0500
TZOFFSETTO:-0400
TZNAME:EDT
DTSTART:20270314T070000
END:DAYLIGHT
BEGIN:STANDARD
TZOFFSETFROM:-0400
TZOFFSETTO:-0500
TZNAME:EST
DTSTART:20271107T060000
END:STANDARD
END:VTIMEZONE
BEGIN:VTIMEZONE
TZID:UTC
BEGIN:STANDARD
TZOFFSETFROM:+0000
TZOFFSETTO:+0000
TZNAME:UTC
DTSTART:20250101T000000
END:STANDARD
END:VTIMEZONE
BEGIN:VEVENT
DTSTART;TZID=America/New_York:20260414T113000
DTEND;TZID=America/New_York:20260414T133000
DTSTAMP:20260420T095830
CREATED:20260330T174246Z
LAST-MODIFIED:20260330T174246Z
UID:10013742-1776166200-1776173400@www.thespinneyatvandyke.com
SUMMARY:Pizza & Policies Lunch and Learn with State Farm
DESCRIPTION:
URL:https://www.thespinneyatvandyke.com/event/pizza-policies-lunch-and-learn-with-state-farm/
LOCATION:The Spinney at Van Dyke\, 6 Parker Mathusa Place\, Delmar\, NY\, 12054
CATEGORIES:Intellectual
END:VEVENT
BEGIN:VEVENT
DTSTART;TZID=UTC:20260413T183000
DTEND;TZID=UTC:20260413T203000
DTSTAMP:20260420T095830
CREATED:20230923T225926Z
LAST-MODIFIED:20251229T170229Z
UID:10001986-1776105000-1776112200@www.thespinneyatvandyke.com
SUMMARY:Billiards and Poker
DESCRIPTION:A casual group meet-up of neighbors to play or learn-to-play pool and poker in The Clubhouse.
URL:https://www.thespinneyatvandyke.com/event/billiards-2/2026-04-13/
LOCATION:The Spinney at Van Dyke\, 6 Parker Mathusa Place\, Delmar\, NY\, 12054
CATEGORIES:Intellectual,Social
END:VEVENT
BEGIN:VEVENT
DTSTART;TZID=UTC:20260413T130000
DTEND;TZID=UTC:20260413T140000
DTSTAMP:20260420T095830
CREATED:20230726T230137Z
LAST-MODIFIED:20230726T230137Z
UID:10000755-1776085200-1776088800@www.thespinneyatvandyke.com
SUMMARY:Scrabble
DESCRIPTION:Meet-up with neighbors for a game of Scrabble.
URL:https://www.thespinneyatvandyke.com/event/scrabble/2026-04-13/
LOCATION:The Spinney at Van Dyke\, 6 Parker Mathusa Place\, Delmar\, NY\, 12054
CATEGORIES:Intellectual
END:VEVENT
BEGIN:VEVENT
DTSTART;TZID=America/New_York:20260410T100000
DTEND;TZID=America/New_York:20260410T110000
DTSTAMP:20260420T095830
CREATED:20251229T171119Z
LAST-MODIFIED:20251229T171119Z
UID:10012866-1775815200-1775818800@www.thespinneyatvandyke.com
SUMMARY:A Brighter Year Together
DESCRIPTION:
URL:https://www.thespinneyatvandyke.com/event/a-brighter-year-together/2026-04-10/
LOCATION:NY
CATEGORIES:Intellectual
END:VEVENT
BEGIN:VEVENT
DTSTART;TZID=America/New_York:20260409T143000
DTEND;TZID=America/New_York:20260409T163000
DTSTAMP:20260420T095830
CREATED:20250325T223133Z
LAST-MODIFIED:20250325T223133Z
UID:10007472-1775745000-1775752200@www.thespinneyatvandyke.com
SUMMARY:Crafternoon
DESCRIPTION:
URL:https://www.thespinneyatvandyke.com/event/crafternoon-3/2026-04-09/
LOCATION:The Spinney at Van Dyke\, 6 Parker Mathusa Place\, Delmar\, NY\, 12054
CATEGORIES:Intellectual
END:VEVENT
BEGIN:VEVENT
DTSTART;TZID=America/New_York:20260407T113000
DTEND;TZID=America/New_York:20260407T123000
DTSTAMP:20260420T095830
CREATED:20251229T170553Z
LAST-MODIFIED:20251229T170553Z
UID:10012800-1775561400-1775565000@www.thespinneyatvandyke.com
SUMMARY:History Club
DESCRIPTION:
URL:https://www.thespinneyatvandyke.com/event/history-club-5/2026-04-07/
LOCATION:The Spinney at Van Dyke\, 6 Parker Mathusa Place\, Delmar\, NY\, 12054
CATEGORIES:Intellectual
END:VEVENT
BEGIN:VEVENT
DTSTART;TZID=UTC:20260406T183000
DTEND;TZID=UTC:20260406T203000
DTSTAMP:20260420T095830
CREATED:20230923T225926Z
LAST-MODIFIED:20251229T170229Z
UID:10001985-1775500200-1775507400@www.thespinneyatvandyke.com
SUMMARY:Billiards and Poker
DESCRIPTION:A casual group meet-up of neighbors to play or learn-to-play pool and poker in The Clubhouse.
URL:https://www.thespinneyatvandyke.com/event/billiards-2/2026-04-06/
LOCATION:The Spinney at Van Dyke\, 6 Parker Mathusa Place\, Delmar\, NY\, 12054
CATEGORIES:Intellectual,Social
END:VEVENT
BEGIN:VEVENT
DTSTART;TZID=UTC:20260406T130000
DTEND;TZID=UTC:20260406T140000
DTSTAMP:20260420T095830
CREATED:20230726T230137Z
LAST-MODIFIED:20230726T230137Z
UID:10000754-1775480400-1775484000@www.thespinneyatvandyke.com
SUMMARY:Scrabble
DESCRIPTION:Meet-up with neighbors for a game of Scrabble.
URL:https://www.thespinneyatvandyke.com/event/scrabble/2026-04-06/
LOCATION:The Spinney at Van Dyke\, 6 Parker Mathusa Place\, Delmar\, NY\, 12054
CATEGORIES:Intellectual
END:VEVENT
BEGIN:VEVENT
DTSTART;TZID=America/New_York:20260403T130000
DTEND;TZID=America/New_York:20260403T143000
DTSTAMP:20260420T095830
CREATED:20260330T173709Z
LAST-MODIFIED:20260330T173709Z
UID:10013737-1775221200-1775226600@www.thespinneyatvandyke.com
SUMMARY:LiveWell\, AgeWell: A Simple Life Planning Roadmap
DESCRIPTION:
URL:https://www.thespinneyatvandyke.com/event/livewell-agewell-a-simple-life-planning-roadmap/
LOCATION:The Spinney at Van Dyke\, 6 Parker Mathusa Place\, Delmar\, NY\, 12054
CATEGORIES:Intellectual
END:VEVENT
BEGIN:VEVENT
DTSTART;TZID=America/New_York:20260331T190000
DTEND;TZID=America/New_York:20260331T200000
DTSTAMP:20260420T095830
CREATED:20251029T132058Z
LAST-MODIFIED:20251029T132058Z
UID:10009815-1774983600-1774987200@www.thespinneyatvandyke.com
SUMMARY:What are you Listening to?
DESCRIPTION:
URL:https://www.thespinneyatvandyke.com/event/what-are-you-listening-to-14/2026-03-31/
LOCATION:The Spinney at Van Dyke\, 6 Parker Mathusa Place\, Delmar\, NY\, 12054
CATEGORIES:Intellectual
END:VEVENT
BEGIN:VEVENT
DTSTART;TZID=America/New_York:20260331T110000
DTEND;TZID=America/New_York:20260331T120000
DTSTAMP:20260420T095830
CREATED:20250326T005901Z
LAST-MODIFIED:20260127T172221Z
UID:10013572-1774954800-1774958400@www.thespinneyatvandyke.com
SUMMARY:Book Club
DESCRIPTION:
URL:https://www.thespinneyatvandyke.com/event/book-club-3/2026-03-31/
LOCATION:The Spinney at Van Dyke\, 6 Parker Mathusa Place\, Delmar\, NY\, 12054
CATEGORIES:Intellectual
END:VEVENT
BEGIN:VEVENT
DTSTART;TZID=America/New_York:20260331T100000
DTEND;TZID=America/New_York:20260331T110000
DTSTAMP:20260420T095830
CREATED:20260223T140012Z
LAST-MODIFIED:20260223T140012Z
UID:10013714-1774951200-1774954800@www.thespinneyatvandyke.com
SUMMARY:Tech Tip Tuesday with Tim Blake
DESCRIPTION:
URL:https://www.thespinneyatvandyke.com/event/tech-tip-tuesday-with-tim-blake/
LOCATION:The Spinney at Van Dyke\, 6 Parker Mathusa Place\, Delmar\, NY\, 12054
CATEGORIES:Intellectual
END:VEVENT
BEGIN:VEVENT
DTSTART;TZID=UTC:20260330T183000
DTEND;TZID=UTC:20260330T203000
DTSTAMP:20260420T095830
CREATED:20230923T225926Z
LAST-MODIFIED:20251229T170229Z
UID:10001984-1774895400-1774902600@www.thespinneyatvandyke.com
SUMMARY:Billiards and Poker
DESCRIPTION:A casual group meet-up of neighbors to play or learn-to-play pool and poker in The Clubhouse.
URL:https://www.thespinneyatvandyke.com/event/billiards-2/2026-03-30/
LOCATION:The Spinney at Van Dyke\, 6 Parker Mathusa Place\, Delmar\, NY\, 12054
CATEGORIES:Intellectual,Social
END:VEVENT
BEGIN:VEVENT
DTSTART;TZID=UTC:20260330T130000
DTEND;TZID=UTC:20260330T140000
DTSTAMP:20260420T095830
CREATED:20230726T230137Z
LAST-MODIFIED:20230726T230137Z
UID:10000753-1774875600-1774879200@www.thespinneyatvandyke.com
SUMMARY:Scrabble
DESCRIPTION:Meet-up with neighbors for a game of Scrabble.
URL:https://www.thespinneyatvandyke.com/event/scrabble/2026-03-30/
LOCATION:The Spinney at Van Dyke\, 6 Parker Mathusa Place\, Delmar\, NY\, 12054
CATEGORIES:Intellectual
END:VEVENT
BEGIN:VEVENT
DTSTART;TZID=America/New_York:20260324T100000
DTEND;TZID=America/New_York:20260324T110000
DTSTAMP:20260420T095830
CREATED:20260223T135218Z
LAST-MODIFIED:20260223T135218Z
UID:10013709-1774346400-1774350000@www.thespinneyatvandyke.com
SUMMARY:Watercolor Class with Roses Creation Station
DESCRIPTION:
URL:https://www.thespinneyatvandyke.com/event/watercolor-class-with-roses-creation-station/
LOCATION:The Spinney at Van Dyke\, 6 Parker Mathusa Place\, Delmar\, NY\, 12054
CATEGORIES:Intellectual
END:VEVENT
BEGIN:VEVENT
DTSTART;TZID=UTC:20260323T183000
DTEND;TZID=UTC:20260323T203000
DTSTAMP:20260420T095830
CREATED:20230923T225926Z
LAST-MODIFIED:20251229T170229Z
UID:10001983-1774290600-1774297800@www.thespinneyatvandyke.com
SUMMARY:Billiards and Poker
DESCRIPTION:A casual group meet-up of neighbors to play or learn-to-play pool and poker in The Clubhouse.
URL:https://www.thespinneyatvandyke.com/event/billiards-2/2026-03-23/
LOCATION:The Spinney at Van Dyke\, 6 Parker Mathusa Place\, Delmar\, NY\, 12054
CATEGORIES:Intellectual,Social
END:VEVENT
BEGIN:VEVENT
DTSTART;TZID=UTC:20260323T130000
DTEND;TZID=UTC:20260323T140000
DTSTAMP:20260420T095830
CREATED:20230726T230137Z
LAST-MODIFIED:20230726T230137Z
UID:10000752-1774270800-1774274400@www.thespinneyatvandyke.com
SUMMARY:Scrabble
DESCRIPTION:Meet-up with neighbors for a game of Scrabble.
URL:https://www.thespinneyatvandyke.com/event/scrabble/2026-03-23/
LOCATION:The Spinney at Van Dyke\, 6 Parker Mathusa Place\, Delmar\, NY\, 12054
CATEGORIES:Intellectual
END:VEVENT
BEGIN:VEVENT
DTSTART;TZID=America/New_York:20260317T130000
DTEND;TZID=America/New_York:20260317T143000
DTSTAMP:20260420T095830
CREATED:20251229T172038Z
LAST-MODIFIED:20251229T172038Z
UID:10012943-1773752400-1773757800@www.thespinneyatvandyke.com
SUMMARY:Trivia & Treats
DESCRIPTION:
URL:https://www.thespinneyatvandyke.com/event/trivia-treats/2026-03-17/
LOCATION:The Spinney at Van Dyke\, 6 Parker Mathusa Place\, Delmar\, NY\, 12054
CATEGORIES:Intellectual
END:VEVENT
BEGIN:VEVENT
DTSTART;TZID=America/New_York:20260317T113000
DTEND;TZID=America/New_York:20260317T123000
DTSTAMP:20260420T095830
CREATED:20260127T171820Z
LAST-MODIFIED:20260127T171820Z
UID:10013501-1773747000-1773750600@www.thespinneyatvandyke.com
SUMMARY:History Club
DESCRIPTION:
URL:https://www.thespinneyatvandyke.com/event/history-club-6/2026-03-17/
LOCATION:The Spinney at Van Dyke\, 6 Parker Mathusa Place\, Delmar\, NY\, 12054
CATEGORIES:Intellectual
END:VEVENT
BEGIN:VEVENT
DTSTART;TZID=UTC:20260316T183000
DTEND;TZID=UTC:20260316T203000
DTSTAMP:20260420T095830
CREATED:20230923T225926Z
LAST-MODIFIED:20251229T170229Z
UID:10001982-1773685800-1773693000@www.thespinneyatvandyke.com
SUMMARY:Billiards and Poker
DESCRIPTION:A casual group meet-up of neighbors to play or learn-to-play pool and poker in The Clubhouse.
URL:https://www.thespinneyatvandyke.com/event/billiards-2/2026-03-16/
LOCATION:The Spinney at Van Dyke\, 6 Parker Mathusa Place\, Delmar\, NY\, 12054
CATEGORIES:Intellectual,Social
END:VEVENT
BEGIN:VEVENT
DTSTART;TZID=UTC:20260316T130000
DTEND;TZID=UTC:20260316T140000
DTSTAMP:20260420T095830
CREATED:20230726T230137Z
LAST-MODIFIED:20230726T230137Z
UID:10000751-1773666000-1773669600@www.thespinneyatvandyke.com
SUMMARY:Scrabble
DESCRIPTION:Meet-up with neighbors for a game of Scrabble.
URL:https://www.thespinneyatvandyke.com/event/scrabble/2026-03-16/
LOCATION:The Spinney at Van Dyke\, 6 Parker Mathusa Place\, Delmar\, NY\, 12054
CATEGORIES:Intellectual
END:VEVENT
BEGIN:VEVENT
DTSTART;TZID=America/New_York:20260313T100000
DTEND;TZID=America/New_York:20260313T110000
DTSTAMP:20260420T095830
CREATED:20251229T171119Z
LAST-MODIFIED:20251229T171119Z
UID:10012865-1773396000-1773399600@www.thespinneyatvandyke.com
SUMMARY:A Brighter Year Together
DESCRIPTION:
URL:https://www.thespinneyatvandyke.com/event/a-brighter-year-together/2026-03-13/
LOCATION:NY
CATEGORIES:Intellectual
END:VEVENT
BEGIN:VEVENT
DTSTART;TZID=America/New_York:20260312T143000
DTEND;TZID=America/New_York:20260312T163000
DTSTAMP:20260420T095830
CREATED:20250325T223133Z
LAST-MODIFIED:20250325T223133Z
UID:10007471-1773325800-1773333000@www.thespinneyatvandyke.com
SUMMARY:Crafternoon
DESCRIPTION:
URL:https://www.thespinneyatvandyke.com/event/crafternoon-3/2026-03-12/
LOCATION:The Spinney at Van Dyke\, 6 Parker Mathusa Place\, Delmar\, NY\, 12054
CATEGORIES:Intellectual
END:VEVENT
BEGIN:VEVENT
DTSTART;TZID=America/New_York:20260310T100000
DTEND;TZID=America/New_York:20260310T110000
DTSTAMP:20260420T095830
CREATED:20260223T134036Z
LAST-MODIFIED:20260223T134036Z
UID:10013695-1773136800-1773140400@www.thespinneyatvandyke.com
SUMMARY:Retirement Income Planning and Tax Efficiency\, with Daniel Desmond
DESCRIPTION:
URL:https://www.thespinneyatvandyke.com/event/retirement-income-planning-and-tax-efficiency-with-daniel-desmond/
LOCATION:The Spinney at Van Dyke\, 6 Parker Mathusa Place\, Delmar\, NY\, 12054
CATEGORIES:Intellectual
END:VEVENT
BEGIN:VEVENT
DTSTART;TZID=UTC:20260309T183000
DTEND;TZID=UTC:20260309T203000
DTSTAMP:20260420T095830
CREATED:20230923T225926Z
LAST-MODIFIED:20251229T170229Z
UID:10001981-1773081000-1773088200@www.thespinneyatvandyke.com
SUMMARY:Billiards and Poker
DESCRIPTION:A casual group meet-up of neighbors to play or learn-to-play pool and poker in The Clubhouse.
URL:https://www.thespinneyatvandyke.com/event/billiards-2/2026-03-09/
LOCATION:The Spinney at Van Dyke\, 6 Parker Mathusa Place\, Delmar\, NY\, 12054
CATEGORIES:Intellectual,Social
END:VEVENT
BEGIN:VEVENT
DTSTART;TZID=UTC:20260309T130000
DTEND;TZID=UTC:20260309T140000
DTSTAMP:20260420T095830
CREATED:20230726T230137Z
LAST-MODIFIED:20230726T230137Z
UID:10000750-1773061200-1773064800@www.thespinneyatvandyke.com
SUMMARY:Scrabble
DESCRIPTION:Meet-up with neighbors for a game of Scrabble.
URL:https://www.thespinneyatvandyke.com/event/scrabble/2026-03-09/
LOCATION:The Spinney at Van Dyke\, 6 Parker Mathusa Place\, Delmar\, NY\, 12054
CATEGORIES:Intellectual
END:VEVENT
BEGIN:VEVENT
DTSTART;TZID=America/New_York:20260303T113000
DTEND;TZID=America/New_York:20260303T123000
DTSTAMP:20260420T095830
CREATED:20251229T170553Z
LAST-MODIFIED:20251229T170553Z
UID:10012799-1772537400-1772541000@www.thespinneyatvandyke.com
SUMMARY:History Club
DESCRIPTION:
URL:https://www.thespinneyatvandyke.com/event/history-club-5/2026-03-03/
LOCATION:The Spinney at Van Dyke\, 6 Parker Mathusa Place\, Delmar\, NY\, 12054
CATEGORIES:Intellectual
END:VEVENT
BEGIN:VEVENT
DTSTART;TZID=UTC:20260302T183000
DTEND;TZID=UTC:20260302T203000
DTSTAMP:20260420T095830
CREATED:20230923T225926Z
LAST-MODIFIED:20251229T170229Z
UID:10001980-1772476200-1772483400@www.thespinneyatvandyke.com
SUMMARY:Billiards and Poker
DESCRIPTION:A casual group meet-up of neighbors to play or learn-to-play pool and poker in The Clubhouse.
URL:https://www.thespinneyatvandyke.com/event/billiards-2/2026-03-02/
LOCATION:The Spinney at Van Dyke\, 6 Parker Mathusa Place\, Delmar\, NY\, 12054
CATEGORIES:Intellectual,Social
END:VEVENT
BEGIN:VEVENT
DTSTART;TZID=UTC:20260302T130000
DTEND;TZID=UTC:20260302T140000
DTSTAMP:20260420T095830
CREATED:20230726T230137Z
LAST-MODIFIED:20230726T230137Z
UID:10000749-1772456400-1772460000@www.thespinneyatvandyke.com
SUMMARY:Scrabble
DESCRIPTION:Meet-up with neighbors for a game of Scrabble.
URL:https://www.thespinneyatvandyke.com/event/scrabble/2026-03-02/
LOCATION:The Spinney at Van Dyke\, 6 Parker Mathusa Place\, Delmar\, NY\, 12054
CATEGORIES:Intellectual
END:VEVENT
BEGIN:VEVENT
DTSTART;TZID=America/New_York:20260224T190000
DTEND;TZID=America/New_York:20260224T200000
DTSTAMP:20260420T095830
CREATED:20251029T132058Z
LAST-MODIFIED:20251029T132058Z
UID:10009814-1771959600-1771963200@www.thespinneyatvandyke.com
SUMMARY:What are you Listening to?
DESCRIPTION:
URL:https://www.thespinneyatvandyke.com/event/what-are-you-listening-to-14/2026-02-24/
LOCATION:The Spinney at Van Dyke\, 6 Parker Mathusa Place\, Delmar\, NY\, 12054
CATEGORIES:Intellectual
END:VEVENT
END:VCALENDAR