BEGIN:VCALENDAR
VERSION:2.0
PRODID:-//The Spinney at Van Dyke - ECPv6.15.20//NONSGML v1.0//EN
CALSCALE:GREGORIAN
METHOD:PUBLISH
X-ORIGINAL-URL:https://www.thespinneyatvandyke.com
X-WR-CALDESC:Events for The Spinney at Van Dyke
REFRESH-INTERVAL;VALUE=DURATION:PT1H
X-Robots-Tag:noindex
X-PUBLISHED-TTL:PT1H
BEGIN:VTIMEZONE
TZID:America/New_York
BEGIN:DAYLIGHT
TZOFFSETFROM:-0500
TZOFFSETTO:-0400
TZNAME:EDT
DTSTART:20260308T070000
END:DAYLIGHT
BEGIN:STANDARD
TZOFFSETFROM:-0400
TZOFFSETTO:-0500
TZNAME:EST
DTSTART:20261101T060000
END:STANDARD
BEGIN:DAYLIGHT
TZOFFSETFROM:-0500
TZOFFSETTO:-0400
TZNAME:EDT
DTSTART:20270314T070000
END:DAYLIGHT
BEGIN:STANDARD
TZOFFSETFROM:-0400
TZOFFSETTO:-0500
TZNAME:EST
DTSTART:20271107T060000
END:STANDARD
BEGIN:DAYLIGHT
TZOFFSETFROM:-0500
TZOFFSETTO:-0400
TZNAME:EDT
DTSTART:20280312T070000
END:DAYLIGHT
BEGIN:STANDARD
TZOFFSETFROM:-0400
TZOFFSETTO:-0500
TZNAME:EST
DTSTART:20281105T060000
END:STANDARD
END:VTIMEZONE
BEGIN:VEVENT
DTSTART;TZID=America/New_York:20270106T140000
DTEND;TZID=America/New_York:20270106T170000
DTSTAMP:20260422T032219
CREATED:20250924T135216Z
LAST-MODIFIED:20251125T152231Z
UID:10009216-1799244000-1799254800@www.thespinneyatvandyke.com
SUMMARY:Baked by Madison Pop Up
DESCRIPTION:
URL:https://www.thespinneyatvandyke.com/event/baked-by-madison-pop-up-2/2027-01-06/
LOCATION:Adams Station\, 1 Juniper Drive\, Delmar\, 12054\, United States
CATEGORIES:Community
END:VEVENT
BEGIN:VEVENT
DTSTART;TZID=America/New_York:20270113T140000
DTEND;TZID=America/New_York:20270113T170000
DTSTAMP:20260422T032219
CREATED:20250924T135216Z
LAST-MODIFIED:20251125T152231Z
UID:10009217-1799848800-1799859600@www.thespinneyatvandyke.com
SUMMARY:Baked by Madison Pop Up
DESCRIPTION:
URL:https://www.thespinneyatvandyke.com/event/baked-by-madison-pop-up-2/2027-01-13/
LOCATION:Adams Station\, 1 Juniper Drive\, Delmar\, 12054\, United States
CATEGORIES:Community
END:VEVENT
BEGIN:VEVENT
DTSTART;TZID=America/New_York:20270120T140000
DTEND;TZID=America/New_York:20270120T170000
DTSTAMP:20260422T032219
CREATED:20250924T135216Z
LAST-MODIFIED:20251125T152231Z
UID:10009218-1800453600-1800464400@www.thespinneyatvandyke.com
SUMMARY:Baked by Madison Pop Up
DESCRIPTION:
URL:https://www.thespinneyatvandyke.com/event/baked-by-madison-pop-up-2/2027-01-20/
LOCATION:Adams Station\, 1 Juniper Drive\, Delmar\, 12054\, United States
CATEGORIES:Community
END:VEVENT
BEGIN:VEVENT
DTSTART;TZID=America/New_York:20270127T140000
DTEND;TZID=America/New_York:20270127T170000
DTSTAMP:20260422T032219
CREATED:20250924T135216Z
LAST-MODIFIED:20251125T152231Z
UID:10009219-1801058400-1801069200@www.thespinneyatvandyke.com
SUMMARY:Baked by Madison Pop Up
DESCRIPTION:
URL:https://www.thespinneyatvandyke.com/event/baked-by-madison-pop-up-2/2027-01-27/
LOCATION:Adams Station\, 1 Juniper Drive\, Delmar\, 12054\, United States
CATEGORIES:Community
END:VEVENT
BEGIN:VEVENT
DTSTART;TZID=America/New_York:20270203T140000
DTEND;TZID=America/New_York:20270203T170000
DTSTAMP:20260422T032219
CREATED:20250924T135216Z
LAST-MODIFIED:20251125T152231Z
UID:10009220-1801663200-1801674000@www.thespinneyatvandyke.com
SUMMARY:Baked by Madison Pop Up
DESCRIPTION:
URL:https://www.thespinneyatvandyke.com/event/baked-by-madison-pop-up-2/2027-02-03/
LOCATION:Adams Station\, 1 Juniper Drive\, Delmar\, 12054\, United States
CATEGORIES:Community
END:VEVENT
BEGIN:VEVENT
DTSTART;TZID=America/New_York:20270210T140000
DTEND;TZID=America/New_York:20270210T170000
DTSTAMP:20260422T032219
CREATED:20250924T135216Z
LAST-MODIFIED:20251125T152231Z
UID:10009221-1802268000-1802278800@www.thespinneyatvandyke.com
SUMMARY:Baked by Madison Pop Up
DESCRIPTION:
URL:https://www.thespinneyatvandyke.com/event/baked-by-madison-pop-up-2/2027-02-10/
LOCATION:Adams Station\, 1 Juniper Drive\, Delmar\, 12054\, United States
CATEGORIES:Community
END:VEVENT
BEGIN:VEVENT
DTSTART;TZID=America/New_York:20270217T140000
DTEND;TZID=America/New_York:20270217T170000
DTSTAMP:20260422T032219
CREATED:20250924T135216Z
LAST-MODIFIED:20251125T152231Z
UID:10009222-1802872800-1802883600@www.thespinneyatvandyke.com
SUMMARY:Baked by Madison Pop Up
DESCRIPTION:
URL:https://www.thespinneyatvandyke.com/event/baked-by-madison-pop-up-2/2027-02-17/
LOCATION:Adams Station\, 1 Juniper Drive\, Delmar\, 12054\, United States
CATEGORIES:Community
END:VEVENT
BEGIN:VEVENT
DTSTART;TZID=America/New_York:20270224T140000
DTEND;TZID=America/New_York:20270224T170000
DTSTAMP:20260422T032219
CREATED:20250924T135216Z
LAST-MODIFIED:20251125T152231Z
UID:10009223-1803477600-1803488400@www.thespinneyatvandyke.com
SUMMARY:Baked by Madison Pop Up
DESCRIPTION:
URL:https://www.thespinneyatvandyke.com/event/baked-by-madison-pop-up-2/2027-02-24/
LOCATION:Adams Station\, 1 Juniper Drive\, Delmar\, 12054\, United States
CATEGORIES:Community
END:VEVENT
BEGIN:VEVENT
DTSTART;TZID=America/New_York:20270303T140000
DTEND;TZID=America/New_York:20270303T170000
DTSTAMP:20260422T032219
CREATED:20250924T135216Z
LAST-MODIFIED:20251125T152231Z
UID:10009224-1804082400-1804093200@www.thespinneyatvandyke.com
SUMMARY:Baked by Madison Pop Up
DESCRIPTION:
URL:https://www.thespinneyatvandyke.com/event/baked-by-madison-pop-up-2/2027-03-03/
LOCATION:Adams Station\, 1 Juniper Drive\, Delmar\, 12054\, United States
CATEGORIES:Community
END:VEVENT
BEGIN:VEVENT
DTSTART;TZID=America/New_York:20270310T140000
DTEND;TZID=America/New_York:20270310T170000
DTSTAMP:20260422T032219
CREATED:20250924T135216Z
LAST-MODIFIED:20251125T152231Z
UID:10009225-1804687200-1804698000@www.thespinneyatvandyke.com
SUMMARY:Baked by Madison Pop Up
DESCRIPTION:
URL:https://www.thespinneyatvandyke.com/event/baked-by-madison-pop-up-2/2027-03-10/
LOCATION:Adams Station\, 1 Juniper Drive\, Delmar\, 12054\, United States
CATEGORIES:Community
END:VEVENT
BEGIN:VEVENT
DTSTART;TZID=America/New_York:20270317T140000
DTEND;TZID=America/New_York:20270317T170000
DTSTAMP:20260422T032219
CREATED:20250924T135216Z
LAST-MODIFIED:20251125T152231Z
UID:10009226-1805292000-1805302800@www.thespinneyatvandyke.com
SUMMARY:Baked by Madison Pop Up
DESCRIPTION:
URL:https://www.thespinneyatvandyke.com/event/baked-by-madison-pop-up-2/2027-03-17/
LOCATION:Adams Station\, 1 Juniper Drive\, Delmar\, 12054\, United States
CATEGORIES:Community
END:VEVENT
BEGIN:VEVENT
DTSTART;TZID=America/New_York:20270324T140000
DTEND;TZID=America/New_York:20270324T170000
DTSTAMP:20260422T032219
CREATED:20250924T135216Z
LAST-MODIFIED:20251125T152231Z
UID:10009227-1805896800-1805907600@www.thespinneyatvandyke.com
SUMMARY:Baked by Madison Pop Up
DESCRIPTION:
URL:https://www.thespinneyatvandyke.com/event/baked-by-madison-pop-up-2/2027-03-24/
LOCATION:Adams Station\, 1 Juniper Drive\, Delmar\, 12054\, United States
CATEGORIES:Community
END:VEVENT
BEGIN:VEVENT
DTSTART;TZID=America/New_York:20270331T140000
DTEND;TZID=America/New_York:20270331T170000
DTSTAMP:20260422T032219
CREATED:20250924T135216Z
LAST-MODIFIED:20251125T152231Z
UID:10009228-1806501600-1806512400@www.thespinneyatvandyke.com
SUMMARY:Baked by Madison Pop Up
DESCRIPTION:
URL:https://www.thespinneyatvandyke.com/event/baked-by-madison-pop-up-2/2027-03-31/
LOCATION:Adams Station\, 1 Juniper Drive\, Delmar\, 12054\, United States
CATEGORIES:Community
END:VEVENT
BEGIN:VEVENT
DTSTART;TZID=America/New_York:20270407T140000
DTEND;TZID=America/New_York:20270407T170000
DTSTAMP:20260422T032219
CREATED:20250924T135216Z
LAST-MODIFIED:20251125T152231Z
UID:10009229-1807106400-1807117200@www.thespinneyatvandyke.com
SUMMARY:Baked by Madison Pop Up
DESCRIPTION:
URL:https://www.thespinneyatvandyke.com/event/baked-by-madison-pop-up-2/2027-04-07/
LOCATION:Adams Station\, 1 Juniper Drive\, Delmar\, 12054\, United States
CATEGORIES:Community
END:VEVENT
BEGIN:VEVENT
DTSTART;TZID=America/New_York:20270414T140000
DTEND;TZID=America/New_York:20270414T170000
DTSTAMP:20260422T032219
CREATED:20250924T135216Z
LAST-MODIFIED:20251125T152231Z
UID:10009230-1807711200-1807722000@www.thespinneyatvandyke.com
SUMMARY:Baked by Madison Pop Up
DESCRIPTION:
URL:https://www.thespinneyatvandyke.com/event/baked-by-madison-pop-up-2/2027-04-14/
LOCATION:Adams Station\, 1 Juniper Drive\, Delmar\, 12054\, United States
CATEGORIES:Community
END:VEVENT
BEGIN:VEVENT
DTSTART;TZID=America/New_York:20270421T140000
DTEND;TZID=America/New_York:20270421T170000
DTSTAMP:20260422T032219
CREATED:20250924T135216Z
LAST-MODIFIED:20251125T152231Z
UID:10009231-1808316000-1808326800@www.thespinneyatvandyke.com
SUMMARY:Baked by Madison Pop Up
DESCRIPTION:
URL:https://www.thespinneyatvandyke.com/event/baked-by-madison-pop-up-2/2027-04-21/
LOCATION:Adams Station\, 1 Juniper Drive\, Delmar\, 12054\, United States
CATEGORIES:Community
END:VEVENT
BEGIN:VEVENT
DTSTART;TZID=America/New_York:20270428T140000
DTEND;TZID=America/New_York:20270428T170000
DTSTAMP:20260422T032219
CREATED:20250924T135216Z
LAST-MODIFIED:20251125T152231Z
UID:10009232-1808920800-1808931600@www.thespinneyatvandyke.com
SUMMARY:Baked by Madison Pop Up
DESCRIPTION:
URL:https://www.thespinneyatvandyke.com/event/baked-by-madison-pop-up-2/2027-04-28/
LOCATION:Adams Station\, 1 Juniper Drive\, Delmar\, 12054\, United States
CATEGORIES:Community
END:VEVENT
BEGIN:VEVENT
DTSTART;TZID=America/New_York:20270505T140000
DTEND;TZID=America/New_York:20270505T170000
DTSTAMP:20260422T032219
CREATED:20250924T135216Z
LAST-MODIFIED:20251125T152231Z
UID:10009233-1809525600-1809536400@www.thespinneyatvandyke.com
SUMMARY:Baked by Madison Pop Up
DESCRIPTION:
URL:https://www.thespinneyatvandyke.com/event/baked-by-madison-pop-up-2/2027-05-05/
LOCATION:Adams Station\, 1 Juniper Drive\, Delmar\, 12054\, United States
CATEGORIES:Community
END:VEVENT
BEGIN:VEVENT
DTSTART;TZID=America/New_York:20270512T140000
DTEND;TZID=America/New_York:20270512T170000
DTSTAMP:20260422T032219
CREATED:20250924T135216Z
LAST-MODIFIED:20251125T152231Z
UID:10009234-1810130400-1810141200@www.thespinneyatvandyke.com
SUMMARY:Baked by Madison Pop Up
DESCRIPTION:
URL:https://www.thespinneyatvandyke.com/event/baked-by-madison-pop-up-2/2027-05-12/
LOCATION:Adams Station\, 1 Juniper Drive\, Delmar\, 12054\, United States
CATEGORIES:Community
END:VEVENT
BEGIN:VEVENT
DTSTART;TZID=America/New_York:20270519T140000
DTEND;TZID=America/New_York:20270519T170000
DTSTAMP:20260422T032219
CREATED:20250924T135216Z
LAST-MODIFIED:20251125T152231Z
UID:10009235-1810735200-1810746000@www.thespinneyatvandyke.com
SUMMARY:Baked by Madison Pop Up
DESCRIPTION:
URL:https://www.thespinneyatvandyke.com/event/baked-by-madison-pop-up-2/2027-05-19/
LOCATION:Adams Station\, 1 Juniper Drive\, Delmar\, 12054\, United States
CATEGORIES:Community
END:VEVENT
BEGIN:VEVENT
DTSTART;TZID=America/New_York:20270526T140000
DTEND;TZID=America/New_York:20270526T170000
DTSTAMP:20260422T032219
CREATED:20250924T135216Z
LAST-MODIFIED:20251125T152231Z
UID:10009236-1811340000-1811350800@www.thespinneyatvandyke.com
SUMMARY:Baked by Madison Pop Up
DESCRIPTION:
URL:https://www.thespinneyatvandyke.com/event/baked-by-madison-pop-up-2/2027-05-26/
LOCATION:Adams Station\, 1 Juniper Drive\, Delmar\, 12054\, United States
CATEGORIES:Community
END:VEVENT
BEGIN:VEVENT
DTSTART;TZID=America/New_York:20270602T140000
DTEND;TZID=America/New_York:20270602T170000
DTSTAMP:20260422T032219
CREATED:20250924T135216Z
LAST-MODIFIED:20251125T152231Z
UID:10009237-1811944800-1811955600@www.thespinneyatvandyke.com
SUMMARY:Baked by Madison Pop Up
DESCRIPTION:
URL:https://www.thespinneyatvandyke.com/event/baked-by-madison-pop-up-2/2027-06-02/
LOCATION:Adams Station\, 1 Juniper Drive\, Delmar\, 12054\, United States
CATEGORIES:Community
END:VEVENT
BEGIN:VEVENT
DTSTART;TZID=America/New_York:20270609T140000
DTEND;TZID=America/New_York:20270609T170000
DTSTAMP:20260422T032219
CREATED:20250924T135216Z
LAST-MODIFIED:20251125T152231Z
UID:10009238-1812549600-1812560400@www.thespinneyatvandyke.com
SUMMARY:Baked by Madison Pop Up
DESCRIPTION:
URL:https://www.thespinneyatvandyke.com/event/baked-by-madison-pop-up-2/2027-06-09/
LOCATION:Adams Station\, 1 Juniper Drive\, Delmar\, 12054\, United States
CATEGORIES:Community
END:VEVENT
BEGIN:VEVENT
DTSTART;TZID=America/New_York:20270616T140000
DTEND;TZID=America/New_York:20270616T170000
DTSTAMP:20260422T032219
CREATED:20250924T135216Z
LAST-MODIFIED:20251125T152231Z
UID:10009239-1813154400-1813165200@www.thespinneyatvandyke.com
SUMMARY:Baked by Madison Pop Up
DESCRIPTION:
URL:https://www.thespinneyatvandyke.com/event/baked-by-madison-pop-up-2/2027-06-16/
LOCATION:Adams Station\, 1 Juniper Drive\, Delmar\, 12054\, United States
CATEGORIES:Community
END:VEVENT
BEGIN:VEVENT
DTSTART;TZID=America/New_York:20270623T140000
DTEND;TZID=America/New_York:20270623T170000
DTSTAMP:20260422T032219
CREATED:20250924T135216Z
LAST-MODIFIED:20251125T152231Z
UID:10009240-1813759200-1813770000@www.thespinneyatvandyke.com
SUMMARY:Baked by Madison Pop Up
DESCRIPTION:
URL:https://www.thespinneyatvandyke.com/event/baked-by-madison-pop-up-2/2027-06-23/
LOCATION:Adams Station\, 1 Juniper Drive\, Delmar\, 12054\, United States
CATEGORIES:Community
END:VEVENT
BEGIN:VEVENT
DTSTART;TZID=America/New_York:20270630T140000
DTEND;TZID=America/New_York:20270630T170000
DTSTAMP:20260422T032219
CREATED:20250924T135216Z
LAST-MODIFIED:20251125T152231Z
UID:10009241-1814364000-1814374800@www.thespinneyatvandyke.com
SUMMARY:Baked by Madison Pop Up
DESCRIPTION:
URL:https://www.thespinneyatvandyke.com/event/baked-by-madison-pop-up-2/2027-06-30/
LOCATION:Adams Station\, 1 Juniper Drive\, Delmar\, 12054\, United States
CATEGORIES:Community
END:VEVENT
BEGIN:VEVENT
DTSTART;TZID=America/New_York:20270707T140000
DTEND;TZID=America/New_York:20270707T170000
DTSTAMP:20260422T032219
CREATED:20250924T135216Z
LAST-MODIFIED:20251125T152231Z
UID:10009242-1814968800-1814979600@www.thespinneyatvandyke.com
SUMMARY:Baked by Madison Pop Up
DESCRIPTION:
URL:https://www.thespinneyatvandyke.com/event/baked-by-madison-pop-up-2/2027-07-07/
LOCATION:Adams Station\, 1 Juniper Drive\, Delmar\, 12054\, United States
CATEGORIES:Community
END:VEVENT
BEGIN:VEVENT
DTSTART;TZID=America/New_York:20270714T140000
DTEND;TZID=America/New_York:20270714T170000
DTSTAMP:20260422T032219
CREATED:20250924T135216Z
LAST-MODIFIED:20251125T152231Z
UID:10009243-1815573600-1815584400@www.thespinneyatvandyke.com
SUMMARY:Baked by Madison Pop Up
DESCRIPTION:
URL:https://www.thespinneyatvandyke.com/event/baked-by-madison-pop-up-2/2027-07-14/
LOCATION:Adams Station\, 1 Juniper Drive\, Delmar\, 12054\, United States
CATEGORIES:Community
END:VEVENT
BEGIN:VEVENT
DTSTART;TZID=America/New_York:20270721T140000
DTEND;TZID=America/New_York:20270721T170000
DTSTAMP:20260422T032219
CREATED:20250924T135216Z
LAST-MODIFIED:20251125T152231Z
UID:10009244-1816178400-1816189200@www.thespinneyatvandyke.com
SUMMARY:Baked by Madison Pop Up
DESCRIPTION:
URL:https://www.thespinneyatvandyke.com/event/baked-by-madison-pop-up-2/2027-07-21/
LOCATION:Adams Station\, 1 Juniper Drive\, Delmar\, 12054\, United States
CATEGORIES:Community
END:VEVENT
BEGIN:VEVENT
DTSTART;TZID=America/New_York:20270728T140000
DTEND;TZID=America/New_York:20270728T170000
DTSTAMP:20260422T032219
CREATED:20250924T135216Z
LAST-MODIFIED:20251125T152231Z
UID:10009245-1816783200-1816794000@www.thespinneyatvandyke.com
SUMMARY:Baked by Madison Pop Up
DESCRIPTION:
URL:https://www.thespinneyatvandyke.com/event/baked-by-madison-pop-up-2/2027-07-28/
LOCATION:Adams Station\, 1 Juniper Drive\, Delmar\, 12054\, United States
CATEGORIES:Community
END:VEVENT
END:VCALENDAR