BEGIN:VCALENDAR
VERSION:2.0
PRODID:-//The Spinney at Van Dyke - ECPv6.15.20//NONSGML v1.0//EN
CALSCALE:GREGORIAN
METHOD:PUBLISH
X-ORIGINAL-URL:https://www.thespinneyatvandyke.com
X-WR-CALDESC:Events for The Spinney at Van Dyke
REFRESH-INTERVAL;VALUE=DURATION:PT1H
X-Robots-Tag:noindex
X-PUBLISHED-TTL:PT1H
BEGIN:VTIMEZONE
TZID:America/New_York
BEGIN:DAYLIGHT
TZOFFSETFROM:-0500
TZOFFSETTO:-0400
TZNAME:EDT
DTSTART:20240310T070000
END:DAYLIGHT
BEGIN:STANDARD
TZOFFSETFROM:-0400
TZOFFSETTO:-0500
TZNAME:EST
DTSTART:20241103T060000
END:STANDARD
BEGIN:DAYLIGHT
TZOFFSETFROM:-0500
TZOFFSETTO:-0400
TZNAME:EDT
DTSTART:20250309T070000
END:DAYLIGHT
BEGIN:STANDARD
TZOFFSETFROM:-0400
TZOFFSETTO:-0500
TZNAME:EST
DTSTART:20251102T060000
END:STANDARD
BEGIN:DAYLIGHT
TZOFFSETFROM:-0500
TZOFFSETTO:-0400
TZNAME:EDT
DTSTART:20260308T070000
END:DAYLIGHT
BEGIN:STANDARD
TZOFFSETFROM:-0400
TZOFFSETTO:-0500
TZNAME:EST
DTSTART:20261101T060000
END:STANDARD
END:VTIMEZONE
BEGIN:VEVENT
DTSTART;TZID=America/New_York:20251217T093000
DTEND;TZID=America/New_York:20251217T100000
DTSTAMP:20260421T090946
CREATED:20251125T152032Z
LAST-MODIFIED:20251125T152032Z
UID:10011006-1765963800-1765965600@www.thespinneyatvandyke.com
SUMMARY:Egg Delivery
DESCRIPTION:
URL:https://www.thespinneyatvandyke.com/event/egg-delivery/2025-12-17/
LOCATION:The Spinney at Van Dyke\, 6 Parker Mathusa Place\, Delmar\, NY\, 12054
END:VEVENT
BEGIN:VEVENT
DTSTART;TZID=America/New_York:20251217T130000
DTEND;TZID=America/New_York:20251217T140000
DTSTAMP:20260421T090946
CREATED:20250325T213707Z
LAST-MODIFIED:20260330T174359Z
UID:10005992-1765976400-1765980000@www.thespinneyatvandyke.com
SUMMARY:Nia
DESCRIPTION:
URL:https://www.thespinneyatvandyke.com/event/nia/2025-12-17/
LOCATION:The Spinney at Van Dyke\, 6 Parker Mathusa Place\, Delmar\, NY\, 12054
CATEGORIES:Wellness
END:VEVENT
BEGIN:VEVENT
DTSTART;TZID=America/New_York:20251217T140000
DTEND;TZID=America/New_York:20251217T170000
DTSTAMP:20260421T090946
CREATED:20250924T135216Z
LAST-MODIFIED:20251125T152231Z
UID:10009161-1765980000-1765990800@www.thespinneyatvandyke.com
SUMMARY:Baked by Madison Pop Up
DESCRIPTION:
URL:https://www.thespinneyatvandyke.com/event/baked-by-madison-pop-up-2/2025-12-17/
LOCATION:Adams Station\, 1 Juniper Drive\, Delmar\, 12054\, United States
CATEGORIES:Community
END:VEVENT
BEGIN:VEVENT
DTSTART;TZID=America/New_York:20251217T163000
DTEND;TZID=America/New_York:20251217T170000
DTSTAMP:20260421T090946
CREATED:20250325T214941Z
LAST-MODIFIED:20251125T152319Z
UID:10006381-1765989000-1765990800@www.thespinneyatvandyke.com
SUMMARY:Maisie's and Bread Delivery
DESCRIPTION:
URL:https://www.thespinneyatvandyke.com/event/maisies-and-bread-delivery/2025-12-17/
LOCATION:The Spinney at Van Dyke\, 6 Parker Mathusa Place\, Delmar\, NY\, 12054
END:VEVENT
BEGIN:VEVENT
DTSTART;TZID=America/New_York:20251217T173000
DTEND;TZID=America/New_York:20251217T190000
DTSTAMP:20260421T090946
CREATED:20251125T145915Z
LAST-MODIFIED:20251125T145915Z
UID:10010989-1765992600-1765998000@www.thespinneyatvandyke.com
SUMMARY:Light Up the Night: Chanukah Party
DESCRIPTION:
URL:https://www.thespinneyatvandyke.com/event/light-up-the-night-chanukah-party/
LOCATION:The Spinney at Van Dyke\, 6 Parker Mathusa Place\, Delmar\, NY\, 12054
CATEGORIES:Social
END:VEVENT
END:VCALENDAR