BEGIN:VCALENDAR
VERSION:2.0
PRODID:-//The Spinney at Van Dyke - ECPv6.15.20//NONSGML v1.0//EN
CALSCALE:GREGORIAN
METHOD:PUBLISH
X-WR-CALNAME:The Spinney at Van Dyke
X-ORIGINAL-URL:https://www.thespinneyatvandyke.com
X-WR-CALDESC:Events for The Spinney at Van Dyke
REFRESH-INTERVAL;VALUE=DURATION:PT1H
X-Robots-Tag:noindex
X-PUBLISHED-TTL:PT1H
BEGIN:VTIMEZONE
TZID:America/New_York
BEGIN:DAYLIGHT
TZOFFSETFROM:-0500
TZOFFSETTO:-0400
TZNAME:EDT
DTSTART:20240310T070000
END:DAYLIGHT
BEGIN:STANDARD
TZOFFSETFROM:-0400
TZOFFSETTO:-0500
TZNAME:EST
DTSTART:20241103T060000
END:STANDARD
BEGIN:DAYLIGHT
TZOFFSETFROM:-0500
TZOFFSETTO:-0400
TZNAME:EDT
DTSTART:20250309T070000
END:DAYLIGHT
BEGIN:STANDARD
TZOFFSETFROM:-0400
TZOFFSETTO:-0500
TZNAME:EST
DTSTART:20251102T060000
END:STANDARD
BEGIN:DAYLIGHT
TZOFFSETFROM:-0500
TZOFFSETTO:-0400
TZNAME:EDT
DTSTART:20260308T070000
END:DAYLIGHT
BEGIN:STANDARD
TZOFFSETFROM:-0400
TZOFFSETTO:-0500
TZNAME:EST
DTSTART:20261101T060000
END:STANDARD
END:VTIMEZONE
BEGIN:VEVENT
DTSTART;TZID=America/New_York:20251010T090000
DTEND;TZID=America/New_York:20251010T093000
DTSTAMP:20260421T123900
CREATED:20250923T175320Z
LAST-MODIFIED:20250923T175320Z
UID:10009019-1760086800-1760088600@www.thespinneyatvandyke.com
SUMMARY:Fall Frolic
DESCRIPTION:
URL:https://www.thespinneyatvandyke.com/event/fall-frolic/2025-10-10/
LOCATION:The Spinney at Van Dyke\, 6 Parker Mathusa Place\, Delmar\, NY\, 12054
CATEGORIES:Environmental
END:VEVENT
BEGIN:VEVENT
DTSTART;TZID=America/New_York:20251010T090000
DTEND;TZID=America/New_York:20251010T093000
DTSTAMP:20260421T123900
CREATED:20250924T135844Z
LAST-MODIFIED:20250924T135844Z
UID:10009438-1760086800-1760088600@www.thespinneyatvandyke.com
SUMMARY:To Life! Pink Mile Walk
DESCRIPTION:
URL:https://www.thespinneyatvandyke.com/event/to-life-pink-mile-walk/
LOCATION:The Spinney at Van Dyke\, 6 Parker Mathusa Place\, Delmar\, NY\, 12054
CATEGORIES:Wellness
END:VEVENT
BEGIN:VEVENT
DTSTART;TZID=America/New_York:20251010T093000
DTEND;TZID=America/New_York:20251010T103000
DTSTAMP:20260421T123900
CREATED:20250924T135933Z
LAST-MODIFIED:20250924T135933Z
UID:10009439-1760088600-1760092200@www.thespinneyatvandyke.com
SUMMARY:Bagel Breakfast
DESCRIPTION:
URL:https://www.thespinneyatvandyke.com/event/bagel-breakfast/
LOCATION:The Spinney at Van Dyke\, 6 Parker Mathusa Place\, Delmar\, NY\, 12054
CATEGORIES:Social
END:VEVENT
BEGIN:VEVENT
DTSTART;TZID=America/New_York:20251010T110000
DTEND;TZID=America/New_York:20251010T120000
DTSTAMP:20260421T123900
CREATED:20250924T140055Z
LAST-MODIFIED:20250924T140055Z
UID:10009440-1760094000-1760097600@www.thespinneyatvandyke.com
SUMMARY:Growing Older is Not for the Faint of Heart Presentation
DESCRIPTION:
URL:https://www.thespinneyatvandyke.com/event/growing-older-is-not-for-the-faint-of-heart-presentation/
LOCATION:The Spinney at Van Dyke\, 6 Parker Mathusa Place\, Delmar\, NY\, 12054
CATEGORIES:Intellectual
END:VEVENT
BEGIN:VEVENT
DTSTART;TZID=America/New_York:20251010T160000
DTEND;TZID=America/New_York:20251010T180000
DTSTAMP:20260421T123900
CREATED:20250522T164816Z
LAST-MODIFIED:20250625T155348Z
UID:10008557-1760112000-1760119200@www.thespinneyatvandyke.com
SUMMARY:Resident led Happy Hour
DESCRIPTION:
URL:https://www.thespinneyatvandyke.com/event/resident-led-happy-hour-5/2025-10-10/
LOCATION:The Spinney at Van Dyke\, 6 Parker Mathusa Place\, Delmar\, NY\, 12054
CATEGORIES:Social
END:VEVENT
END:VCALENDAR