BEGIN:VCALENDAR
VERSION:2.0
PRODID:-//The Spinney at Van Dyke - ECPv6.15.20//NONSGML v1.0//EN
CALSCALE:GREGORIAN
METHOD:PUBLISH
X-ORIGINAL-URL:https://www.thespinneyatvandyke.com
X-WR-CALDESC:Events for The Spinney at Van Dyke
REFRESH-INTERVAL;VALUE=DURATION:PT1H
X-Robots-Tag:noindex
X-PUBLISHED-TTL:PT1H
BEGIN:VTIMEZONE
TZID:America/New_York
BEGIN:DAYLIGHT
TZOFFSETFROM:-0500
TZOFFSETTO:-0400
TZNAME:EDT
DTSTART:20240310T070000
END:DAYLIGHT
BEGIN:STANDARD
TZOFFSETFROM:-0400
TZOFFSETTO:-0500
TZNAME:EST
DTSTART:20241103T060000
END:STANDARD
BEGIN:DAYLIGHT
TZOFFSETFROM:-0500
TZOFFSETTO:-0400
TZNAME:EDT
DTSTART:20250309T070000
END:DAYLIGHT
BEGIN:STANDARD
TZOFFSETFROM:-0400
TZOFFSETTO:-0500
TZNAME:EST
DTSTART:20251102T060000
END:STANDARD
BEGIN:DAYLIGHT
TZOFFSETFROM:-0500
TZOFFSETTO:-0400
TZNAME:EDT
DTSTART:20260308T070000
END:DAYLIGHT
BEGIN:STANDARD
TZOFFSETFROM:-0400
TZOFFSETTO:-0500
TZNAME:EST
DTSTART:20261101T060000
END:STANDARD
END:VTIMEZONE
BEGIN:VEVENT
DTSTART;TZID=America/New_York:20251008T100000
DTEND;TZID=America/New_York:20251008T110000
DTSTAMP:20260419T171617
CREATED:20250924T134830Z
LAST-MODIFIED:20250924T134830Z
UID:10009147-1759917600-1759921200@www.thespinneyatvandyke.com
SUMMARY:Long-Term Care Presentation
DESCRIPTION:
URL:https://www.thespinneyatvandyke.com/event/long-term-care-presentation/
LOCATION:The Spinney at Van Dyke\, 6 Parker Mathusa Place\, Delmar\, NY\, 12054
CATEGORIES:Intellectual
END:VEVENT
BEGIN:VEVENT
DTSTART;TZID=America/New_York:20251008T111500
DTEND;TZID=America/New_York:20251008T130000
DTSTAMP:20260419T171617
CREATED:20250924T135019Z
LAST-MODIFIED:20250924T135019Z
UID:10009148-1759922100-1759928400@www.thespinneyatvandyke.com
SUMMARY:Join or Die Documentary
DESCRIPTION:
URL:https://www.thespinneyatvandyke.com/event/join-or-die-documentary/
LOCATION:The Spinney at Van Dyke\, 6 Parker Mathusa Place\, Delmar\, NY\, 12054
CATEGORIES:Intellectual
END:VEVENT
BEGIN:VEVENT
DTSTART;TZID=America/New_York:20251008T130000
DTEND;TZID=America/New_York:20251008T140000
DTSTAMP:20260419T171617
CREATED:20250325T213707Z
LAST-MODIFIED:20260330T174359Z
UID:10005982-1759928400-1759932000@www.thespinneyatvandyke.com
SUMMARY:Nia
DESCRIPTION:
URL:https://www.thespinneyatvandyke.com/event/nia/2025-10-08/
LOCATION:The Spinney at Van Dyke\, 6 Parker Mathusa Place\, Delmar\, NY\, 12054
CATEGORIES:Wellness
END:VEVENT
BEGIN:VEVENT
DTSTART;TZID=America/New_York:20251008T140000
DTEND;TZID=America/New_York:20251008T170000
DTSTAMP:20260419T171617
CREATED:20250924T135216Z
LAST-MODIFIED:20251125T152231Z
UID:10009151-1759932000-1759942800@www.thespinneyatvandyke.com
SUMMARY:Baked by Madison Pop Up
DESCRIPTION:
URL:https://www.thespinneyatvandyke.com/event/baked-by-madison-pop-up-2/2025-10-08/
LOCATION:Adams Station\, 1 Juniper Drive\, Delmar\, 12054\, United States
CATEGORIES:Community
END:VEVENT
BEGIN:VEVENT
DTSTART;TZID=America/New_York:20251008T163000
DTEND;TZID=America/New_York:20251008T170000
DTSTAMP:20260419T171617
CREATED:20250325T214941Z
LAST-MODIFIED:20251125T152319Z
UID:10006371-1759941000-1759942800@www.thespinneyatvandyke.com
SUMMARY:Maisie's and Bread Delivery
DESCRIPTION:
URL:https://www.thespinneyatvandyke.com/event/maisies-and-bread-delivery/2025-10-08/
LOCATION:The Spinney at Van Dyke\, 6 Parker Mathusa Place\, Delmar\, NY\, 12054
END:VEVENT
END:VCALENDAR