BEGIN:VCALENDAR
VERSION:2.0
PRODID:-//The Spinney at Van Dyke - ECPv6.15.20//NONSGML v1.0//EN
CALSCALE:GREGORIAN
METHOD:PUBLISH
X-ORIGINAL-URL:https://www.thespinneyatvandyke.com
X-WR-CALDESC:Events for The Spinney at Van Dyke
REFRESH-INTERVAL;VALUE=DURATION:PT1H
X-Robots-Tag:noindex
X-PUBLISHED-TTL:PT1H
BEGIN:VTIMEZONE
TZID:America/New_York
BEGIN:DAYLIGHT
TZOFFSETFROM:-0500
TZOFFSETTO:-0400
TZNAME:EDT
DTSTART:20240310T070000
END:DAYLIGHT
BEGIN:STANDARD
TZOFFSETFROM:-0400
TZOFFSETTO:-0500
TZNAME:EST
DTSTART:20241103T060000
END:STANDARD
BEGIN:DAYLIGHT
TZOFFSETFROM:-0500
TZOFFSETTO:-0400
TZNAME:EDT
DTSTART:20250309T070000
END:DAYLIGHT
BEGIN:STANDARD
TZOFFSETFROM:-0400
TZOFFSETTO:-0500
TZNAME:EST
DTSTART:20251102T060000
END:STANDARD
BEGIN:DAYLIGHT
TZOFFSETFROM:-0500
TZOFFSETTO:-0400
TZNAME:EDT
DTSTART:20260308T070000
END:DAYLIGHT
BEGIN:STANDARD
TZOFFSETFROM:-0400
TZOFFSETTO:-0500
TZNAME:EST
DTSTART:20261101T060000
END:STANDARD
END:VTIMEZONE
BEGIN:VTIMEZONE
TZID:UTC
BEGIN:STANDARD
TZOFFSETFROM:+0000
TZOFFSETTO:+0000
TZNAME:UTC
DTSTART:20240101T000000
END:STANDARD
END:VTIMEZONE
BEGIN:VEVENT
DTSTART;TZID=America/New_York:20250226T133000
DTEND;TZID=America/New_York:20250226T143000
DTSTAMP:20260421T224515
CREATED:20250205T145908Z
LAST-MODIFIED:20250205T145908Z
UID:10005100-1740576600-1740580200@www.thespinneyatvandyke.com
SUMMARY:Transforming Albany\, Waterway Canals
DESCRIPTION:
URL:https://www.thespinneyatvandyke.com/event/transforming-albany-waterway-canals/
LOCATION:The Spinney at Van Dyke\, 6 Parker Mathusa Place\, Delmar\, NY\, 12054
CATEGORIES:Intellectual
END:VEVENT
BEGIN:VEVENT
DTSTART;TZID=UTC:20250226T164500
DTEND;TZID=UTC:20250226T170000
DTSTAMP:20260421T224515
CREATED:20230726T231103Z
LAST-MODIFIED:20230726T231103Z
UID:10001014-1740588300-1740589200@www.thespinneyatvandyke.com
SUMMARY:Maisie's Meals
DESCRIPTION:Fresh cooked Wednesday dinners. You can order dinner for 2 for $17.95 or dinner for 4 for $32.95\, check or cash. Please note changes cannot be made. Email or call Lynne by Tuesday at noon if you would like to order dinner for 2 or 4 and meals will be delivered to The Clubhouse on Wednesday at 4:45 pm.
URL:https://www.thespinneyatvandyke.com/event/maisies-meals/2025-02-26/
LOCATION:The Spinney at Van Dyke\, 6 Parker Mathusa Place\, Delmar\, NY\, 12054
CATEGORIES:Wellness
END:VEVENT
END:VCALENDAR